Name | Last modified | Size | Description | |
---|---|---|---|---|
Parent Directory | - | |||
buildsrc-out.txt | 16-Oct-2021 04:06 | 849 | ||
buildsrc-summary.dcf | 16-Oct-2021 04:06 | 457 | ||
install-out.txt | 16-Oct-2021 04:06 | 1.0K | ||
install-summary.dcf | 16-Oct-2021 04:06 | 294 | ||
checksrc-out.txt | 16-Oct-2021 04:06 | 6.0K | ||
checksrc-summary.dcf | 16-Oct-2021 04:06 | 494 | ||
buildbin-out.txt | 16-Oct-2021 04:06 | 1.2K | ||
buildbin-summary.dcf | 16-Oct-2021 04:06 | 570 | ||