Name | Last modified | Size | Description | |
---|---|---|---|---|
Parent Directory | - | |||
install-summary.dcf | 16-Oct-2021 04:06 | 670 | ||
install-out.txt | 16-Oct-2021 04:06 | 2.4K | ||
checksrc-summary.dcf | 16-Oct-2021 04:06 | 475 | ||
checksrc-out.txt | 16-Oct-2021 04:06 | 4.0K | ||
buildsrc-summary.dcf | 16-Oct-2021 04:06 | 472 | ||
buildsrc-out.txt | 16-Oct-2021 04:06 | 864 | ||
buildbin-summary.dcf | 16-Oct-2021 04:06 | 560 | ||
buildbin-out.txt | 16-Oct-2021 04:06 | 1.6K | ||