Name | Last modified | Size | Description | |
---|---|---|---|---|
Parent Directory | - | |||
install-summary.dcf | 16-Oct-2021 04:06 | 281 | ||
install-out.txt | 16-Oct-2021 04:06 | 1.4K | ||
checksrc-summary.dcf | 16-Oct-2021 04:06 | 468 | ||
checksrc-out.txt | 16-Oct-2021 04:06 | 7.3K | ||
buildsrc-summary.dcf | 16-Oct-2021 04:06 | 437 | ||
buildsrc-out.txt | 16-Oct-2021 04:06 | 864 | ||
buildbin-summary.dcf | 16-Oct-2021 04:06 | 532 | ||
buildbin-out.txt | 16-Oct-2021 04:06 | 1.6K | ||