Name | Last modified | Size | Description | |
---|---|---|---|---|
Parent Directory | - | |||
buildsrc-summary.dcf | 16-Oct-2021 04:06 | 447 | ||
checksrc-summary.dcf | 16-Oct-2021 04:06 | 456 | ||
buildbin-summary.dcf | 16-Oct-2021 04:06 | 520 | ||
install-summary.dcf | 16-Oct-2021 04:06 | 613 | ||
buildsrc-out.txt | 16-Oct-2021 04:06 | 867 | ||
buildbin-out.txt | 16-Oct-2021 04:06 | 2.3K | ||
install-out.txt | 16-Oct-2021 04:06 | 3.0K | ||
checksrc-out.txt | 16-Oct-2021 04:06 | 5.0K | ||