Name | Last modified | Size | Description | |
---|---|---|---|---|
Parent Directory | - | |||
buildbin-summary.dcf | 16-Oct-2021 04:06 | 563 | ||
buildbin-out.txt | 16-Oct-2021 04:06 | 2.4K | ||
checksrc-out.txt | 16-Oct-2021 04:06 | 4.7K | ||
checksrc-summary.dcf | 16-Oct-2021 04:06 | 484 | ||
buildsrc-summary.dcf | 16-Oct-2021 04:06 | 475 | ||
buildsrc-out.txt | 16-Oct-2021 04:06 | 865 | ||
install-summary.dcf | 16-Oct-2021 04:06 | 676 | ||
install-out.txt | 16-Oct-2021 04:06 | 3.2K | ||