Name | Last modified | Size | Description | |
---|---|---|---|---|
Parent Directory | - | |||
buildsrc-out.txt | 16-Oct-2021 04:06 | 870 | ||
buildsrc-summary.dcf | 16-Oct-2021 04:06 | 434 | ||
install-out.txt | 16-Oct-2021 04:06 | 1.0K | ||
install-summary.dcf | 16-Oct-2021 04:06 | 281 | ||
checksrc-out.txt | 16-Oct-2021 04:06 | 4.1K | ||
checksrc-summary.dcf | 16-Oct-2021 04:06 | 468 | ||
buildbin-out.txt | 16-Oct-2021 04:06 | 1.2K | ||
buildbin-summary.dcf | 16-Oct-2021 04:06 | 532 | ||