Name | Last modified | Size | Description | |
---|---|---|---|---|
Parent Directory | - | |||
install-out.txt | 16-Oct-2021 04:06 | 2.3K | ||
install-summary.dcf | 16-Oct-2021 04:06 | 626 | ||
buildsrc-out.txt | 16-Oct-2021 04:06 | 839 | ||
buildsrc-summary.dcf | 16-Oct-2021 04:06 | 453 | ||
checksrc-summary.dcf | 16-Oct-2021 04:06 | 456 | ||
checksrc-out.txt | 16-Oct-2021 04:06 | 5.2K | ||
buildbin-out.txt | 16-Oct-2021 04:06 | 1.5K | ||
buildbin-summary.dcf | 16-Oct-2021 04:06 | 530 | ||