Name | Last modified | Size | Description | |
---|---|---|---|---|
Parent Directory | - | |||
install-summary.dcf | 16-Oct-2021 04:05 | 260 | ||
buildsrc-out.txt | 16-Oct-2021 04:05 | 849 | ||
buildsrc-summary.dcf | 16-Oct-2021 04:05 | 418 | ||
install-out.txt | 16-Oct-2021 04:05 | 950 | ||
checksrc-out.txt | 16-Oct-2021 04:05 | 3.4K | ||
checksrc-summary.dcf | 16-Oct-2021 04:05 | 426 | ||