Name | Last modified | Size | Description | |
---|---|---|---|---|
Parent Directory | - | |||
buildbin-out.txt | 16-Oct-2021 04:06 | 10K | ||
buildbin-summary.dcf | 16-Oct-2021 04:06 | 526 | ||
buildsrc-out.txt | 16-Oct-2021 04:06 | 867 | ||
buildsrc-summary.dcf | 16-Oct-2021 04:06 | 450 | ||
checksrc-out.txt | 16-Oct-2021 04:06 | 5.3K | ||
checksrc-summary.dcf | 16-Oct-2021 04:06 | 460 | ||
install-out.txt | 16-Oct-2021 04:06 | 11K | ||
install-summary.dcf | 16-Oct-2021 04:06 | 622 | ||