Name | Last modified | Size | Description | |
---|---|---|---|---|
Parent Directory | - | |||
buildbin-out.txt | 16-Oct-2021 04:06 | 6.8K | ||
buildbin-summary.dcf | 16-Oct-2021 04:06 | 536 | ||
buildsrc-out.txt | 16-Oct-2021 04:06 | 913 | ||
buildsrc-summary.dcf | 16-Oct-2021 04:06 | 457 | ||
checksrc-out.txt | 16-Oct-2021 04:06 | 6.4K | ||
checksrc-summary.dcf | 16-Oct-2021 04:06 | 461 | ||
install-out.txt | 16-Oct-2021 04:06 | 7.4K | ||
install-summary.dcf | 16-Oct-2021 04:06 | 634 | ||