Index of /checkResults/3.13/bioc-LATEST/FlowRepositoryR/raw-results/tokay2
Name
Last modified
Size
Description
Parent Directory
-
buildsrc-out.txt
16-Oct-2021 04:06
1.2K
buildsrc-summary.dcf
16-Oct-2021 04:06
493
install-out.txt
16-Oct-2021 04:06
1.7K
install-summary.dcf
16-Oct-2021 04:06
715