Name | Last modified | Size | Description | |
---|---|---|---|---|
Parent Directory | - | |||
install-summary.dcf | 16-Oct-2021 04:06 | 685 | ||
install-out.txt | 16-Oct-2021 04:06 | 3.1K | ||
checksrc-summary.dcf | 16-Oct-2021 04:06 | 482 | ||
checksrc-out.txt | 16-Oct-2021 04:06 | 3.8K | ||
buildsrc-summary.dcf | 16-Oct-2021 04:06 | 478 | ||
buildsrc-out.txt | 16-Oct-2021 04:06 | 870 | ||
buildbin-summary.dcf | 16-Oct-2021 04:06 | 569 | ||
buildbin-out.txt | 16-Oct-2021 04:06 | 2.3K | ||