Name | Last modified | Size | Description | |
---|---|---|---|---|
Parent Directory | - | |||
install-summary.dcf | 16-Oct-2021 04:05 | 268 | ||
install-out.txt | 16-Oct-2021 04:05 | 962 | ||
checksrc-summary.dcf | 16-Oct-2021 04:05 | 443 | ||
checksrc-out.txt | 16-Oct-2021 04:05 | 3.2K | ||
buildsrc-summary.dcf | 16-Oct-2021 04:05 | 432 | ||
buildsrc-out.txt | 16-Oct-2021 04:05 | 826 | ||