Name | Last modified | Size | Description | |
---|---|---|---|---|
Parent Directory | - | |||
install-summary.dcf | 16-Oct-2021 04:06 | 298 | ||
install-out.txt | 16-Oct-2021 04:06 | 1.0K | ||
checksrc-summary.dcf | 16-Oct-2021 04:06 | 506 | ||
checksrc-out.txt | 16-Oct-2021 04:06 | 5.7K | ||
buildsrc-summary.dcf | 16-Oct-2021 04:06 | 463 | ||
buildsrc-out.txt | 16-Oct-2021 04:06 | 897 | ||
buildbin-summary.dcf | 16-Oct-2021 04:06 | 583 | ||
buildbin-out.txt | 16-Oct-2021 04:06 | 1.2K | ||