Name | Last modified | Size | Description | |
---|---|---|---|---|
Parent Directory | - | |||
buildbin-summary.dcf | 16-Oct-2021 04:06 | 553 | ||
buildbin-out.txt | 16-Oct-2021 04:06 | 2.5K | ||
checksrc-summary.dcf | 16-Oct-2021 04:06 | 481 | ||
checksrc-out.txt | 16-Oct-2021 04:06 | 4.2K | ||
buildsrc-summary.dcf | 16-Oct-2021 04:06 | 447 | ||
buildsrc-out.txt | 16-Oct-2021 04:06 | 930 | ||
install-summary.dcf | 16-Oct-2021 04:06 | 288 | ||
install-out.txt | 16-Oct-2021 04:06 | 1.6K | ||