Name | Last modified | Size | Description | |
---|---|---|---|---|
Parent Directory | - | |||
install-summary.dcf | 16-Oct-2021 04:05 | 260 | ||
install-out.txt | 16-Oct-2021 04:05 | 1.0K | ||
checksrc-summary.dcf | 16-Oct-2021 04:05 | 427 | ||
checksrc-out.txt | 16-Oct-2021 04:05 | 3.0K | ||
buildsrc-summary.dcf | 16-Oct-2021 04:05 | 419 | ||
buildsrc-out.txt | 16-Oct-2021 04:05 | 810 | ||