Name | Last modified | Size | Description | |
---|---|---|---|---|
Parent Directory | - | |||
install-out.txt | 16-Oct-2021 04:06 | 1.0K | ||
install-summary.dcf | 16-Oct-2021 04:06 | 288 | ||
buildsrc-out.txt | 16-Oct-2021 04:06 | 837 | ||
buildsrc-summary.dcf | 16-Oct-2021 04:06 | 447 | ||
checksrc-out.txt | 16-Oct-2021 04:06 | 3.4K | ||
checksrc-summary.dcf | 16-Oct-2021 04:06 | 481 | ||
buildbin-out.txt | 16-Oct-2021 04:06 | 1.2K | ||
buildbin-summary.dcf | 16-Oct-2021 04:06 | 553 | ||