Name | Last modified | Size | Description | |
---|---|---|---|---|
Parent Directory | - | |||
checksrc-out.txt | 16-Oct-2021 04:06 | 4.4K | ||
install-out.txt | 16-Oct-2021 04:06 | 2.2K | ||
buildbin-out.txt | 16-Oct-2021 04:06 | 1.5K | ||
buildsrc-out.txt | 16-Oct-2021 04:06 | 850 | ||
install-summary.dcf | 16-Oct-2021 04:06 | 649 | ||
buildbin-summary.dcf | 16-Oct-2021 04:06 | 543 | ||
checksrc-summary.dcf | 16-Oct-2021 04:06 | 466 | ||
buildsrc-summary.dcf | 16-Oct-2021 04:06 | 462 | ||