Name | Last modified | Size | Description | |
---|---|---|---|---|
Parent Directory | - | |||
checksrc-out.txt | 16-Oct-2021 04:05 | 3.7K | ||
install-out.txt | 16-Oct-2021 04:05 | 1.0K | ||
buildsrc-out.txt | 16-Oct-2021 04:05 | 810 | ||
checksrc-summary.dcf | 16-Oct-2021 04:05 | 428 | ||
buildsrc-summary.dcf | 16-Oct-2021 04:05 | 420 | ||
install-summary.dcf | 16-Oct-2021 04:05 | 260 | ||