Name | Last modified | Size | Description | |
---|---|---|---|---|
Parent Directory | - | |||
install-summary.dcf | 16-Oct-2021 04:06 | 650 | ||
install-out.txt | 16-Oct-2021 04:06 | 93K | ||
checksrc-summary.dcf | 16-Oct-2021 04:06 | 467 | ||
checksrc-out.txt | 16-Oct-2021 04:06 | 7.3K | ||
buildsrc-summary.dcf | 16-Oct-2021 04:06 | 463 | ||
buildsrc-out.txt | 16-Oct-2021 04:06 | 942 | ||
buildbin-summary.dcf | 16-Oct-2021 04:06 | 546 | ||
buildbin-out.txt | 16-Oct-2021 04:06 | 92K | ||