Name | Last modified | Size | Description | |
---|---|---|---|---|
Parent Directory | - | |||
buildsrc-summary.dcf | 16-Oct-2021 04:06 | 464 | ||
checksrc-summary.dcf | 16-Oct-2021 04:06 | 472 | ||
buildbin-summary.dcf | 16-Oct-2021 04:06 | 548 | ||
install-summary.dcf | 16-Oct-2021 04:06 | 652 | ||
buildsrc-out.txt | 16-Oct-2021 04:06 | 914 | ||
buildbin-out.txt | 16-Oct-2021 04:06 | 3.6K | ||
install-out.txt | 16-Oct-2021 04:06 | 4.4K | ||
checksrc-out.txt | 16-Oct-2021 04:06 | 5.9K | ||