Name | Last modified | Size | Description | |
---|---|---|---|---|
Parent Directory | - | |||
buildbin-out.txt | 16-Oct-2021 04:06 | 8.0K | ||
buildbin-summary.dcf | 16-Oct-2021 04:06 | 566 | ||
buildsrc-out.txt | 16-Oct-2021 04:06 | 923 | ||
buildsrc-summary.dcf | 16-Oct-2021 04:06 | 454 | ||
checksrc-out.txt | 16-Oct-2021 04:06 | 35K | ||
checksrc-summary.dcf | 16-Oct-2021 04:06 | 496 | ||
install-out.txt | 16-Oct-2021 04:06 | 7.1K | ||
install-summary.dcf | 16-Oct-2021 04:06 | 293 | ||