Index of /checkResults/3.13/bioc-LATEST/ChIPSeqSpike/raw-results/nebbiolo1
Name
Last modified
Size
Description
Parent Directory
-
install-summary.dcf
16-Oct-2021 04:05
269
buildsrc-summary.dcf
16-Oct-2021 04:05
343
install-out.txt
16-Oct-2021 04:05
1.2K
buildsrc-out.txt
16-Oct-2021 04:05
2.3K