Index of /checkResults/3.13/bioc-LATEST/CNVfilteR/raw-results/tokay2
Name
Last modified
Size
Description
Parent Directory
-
buildsrc-out.txt
16-Oct-2021 04:06
1.0K
buildsrc-summary.dcf
16-Oct-2021 04:06
379
install-out.txt
16-Oct-2021 04:06
2.6K
install-summary.dcf
16-Oct-2021 04:06
652