Index of /checkResults/3.13/bioc-LATEST/CNVfilteR/raw-results/nebbiolo1
Name
Last modified
Size
Description
Parent Directory
-
install-summary.dcf
16-Oct-2021 04:05
262
buildsrc-summary.dcf
16-Oct-2021 04:05
336
install-out.txt
16-Oct-2021 04:05
953
buildsrc-out.txt
16-Oct-2021 04:05
1.0K