Index of /checkResults/3.13/bioc-LATEST/CNVfilteR/raw-results/machv2
Name
Last modified
Size
Description
Parent Directory
-
install-out.txt
16-Oct-2021 04:06
1.0K
install-summary.dcf
16-Oct-2021 04:06
289
buildsrc-out.txt
16-Oct-2021 04:06
1.0K
buildsrc-summary.dcf
16-Oct-2021 04:06
363