Name | Last modified | Size | Description | |
---|---|---|---|---|
Parent Directory | - | |||
buildbin-out.txt | 16-Oct-2021 04:05 | 7.7K | ||
buildbin-summary.dcf | 16-Oct-2021 04:05 | 527 | ||
buildsrc-out.txt | 16-Oct-2021 04:05 | 835 | ||
buildsrc-summary.dcf | 16-Oct-2021 04:05 | 451 | ||
checksrc-out.txt | 16-Oct-2021 04:05 | 6.4K | ||
checksrc-summary.dcf | 16-Oct-2021 04:05 | 460 | ||
install-out.txt | 16-Oct-2021 04:05 | 8.4K | ||
install-summary.dcf | 16-Oct-2021 04:05 | 623 | ||