Name | Last modified | Size | Description | |
---|---|---|---|---|
Parent Directory | - | |||
buildbin-out.txt | 16-Oct-2021 04:06 | 12K | ||
buildbin-summary.dcf | 16-Oct-2021 04:06 | 572 | ||
buildsrc-out.txt | 16-Oct-2021 04:06 | 882 | ||
buildsrc-summary.dcf | 16-Oct-2021 04:06 | 457 | ||
checksrc-out.txt | 16-Oct-2021 04:06 | 3.5K | ||
checksrc-summary.dcf | 16-Oct-2021 04:06 | 496 | ||
install-out.txt | 16-Oct-2021 04:06 | 11K | ||
install-summary.dcf | 16-Oct-2021 04:06 | 295 | ||