Name | Last modified | Size | Description | |
---|---|---|---|---|
Parent Directory | - | |||
buildbin-out.txt | 16-Oct-2021 04:05 | 8.8K | ||
buildbin-summary.dcf | 16-Oct-2021 04:05 | 527 | ||
buildsrc-out.txt | 16-Oct-2021 04:05 | 867 | ||
buildsrc-summary.dcf | 16-Oct-2021 04:05 | 451 | ||
checksrc-out.txt | 16-Oct-2021 04:05 | 5.1K | ||
checksrc-summary.dcf | 16-Oct-2021 04:05 | 453 | ||
install-out.txt | 16-Oct-2021 04:05 | 9.5K | ||
install-summary.dcf | 16-Oct-2021 04:05 | 623 | ||