Name | Last modified | Size | Description | |
---|---|---|---|---|
Parent Directory | - | |||
install-out.txt | 16-Oct-2021 04:05 | 3.8K | ||
install-summary.dcf | 16-Oct-2021 04:05 | 694 | ||
buildsrc-out.txt | 16-Oct-2021 04:05 | 907 | ||
buildsrc-summary.dcf | 16-Oct-2021 04:05 | 482 | ||
checksrc-out.txt | 16-Oct-2021 04:05 | 4.3K | ||
checksrc-summary.dcf | 16-Oct-2021 04:05 | 485 | ||
buildbin-out.txt | 16-Oct-2021 04:05 | 3.1K | ||
buildbin-summary.dcf | 16-Oct-2021 04:05 | 575 | ||