Name | Last modified | Size | Description | |
---|---|---|---|---|
Parent Directory | - | |||
install-summary.dcf | 16-Oct-2021 04:05 | 270 | ||
buildsrc-summary.dcf | 16-Oct-2021 04:05 | 434 | ||
checksrc-summary.dcf | 16-Oct-2021 04:05 | 447 | ||
buildsrc-out.txt | 16-Oct-2021 04:05 | 860 | ||
install-out.txt | 16-Oct-2021 04:05 | 1.6K | ||
checksrc-out.txt | 16-Oct-2021 04:05 | 3.1K | ||