Name | Last modified | Size | Description | |
---|---|---|---|---|
Parent Directory | - | |||
buildsrc-summary.dcf | 16-Oct-2021 04:05 | 463 | ||
checksrc-summary.dcf | 16-Oct-2021 04:05 | 473 | ||
buildbin-summary.dcf | 16-Oct-2021 04:05 | 546 | ||
install-summary.dcf | 16-Oct-2021 04:05 | 650 | ||
buildsrc-out.txt | 16-Oct-2021 04:05 | 850 | ||
buildbin-out.txt | 16-Oct-2021 04:05 | 2.4K | ||
install-out.txt | 16-Oct-2021 04:05 | 3.6K | ||
checksrc-out.txt | 16-Oct-2021 04:05 | 4.6K | ||