Multiple platform build/check report for BioC 3.13

This page was generated on 2020-11-23 12:32:16 -0500 (Mon, 23 Nov 2020).

Approx. Package Snapshot Date (git pull): 2020-11-22 14:40:22 -0500 (Sun, 22 Nov 2020)

HostnameOSArch (*)Platform label (**)R versionInstalled pkgs
malbec2Linux (Ubuntu 20.04.1 LTS)x86_64x86_64-linux-gnuR Under development (unstable) (2020-11-14 r79432) -- "Unsuffered Consequences" 3874
tokay2Windows Server 2012 R2 Standardx64mingw32 / x86_64-w64-mingw32R Under development (unstable) (2020-11-05 r79401) -- "Unsuffered Consequences" 3672
riesling1Windows Server 2019 Standardx64mingw32 / x86_64-w64-mingw32R Under development (unstable) (2020-11-06 r79405) -- "Unsuffered Consequences" 3834
machv2macOS 10.14.6 Mojavex86_64x86_64-apple-darwin18.7.0R Under development (unstable) (2020-11-03 r79399) -- "Unsuffered Consequences" 3697
Click on any hostname to see more info about the system (e.g. compilers)      (*) as reported by 'uname -p', except on Windows and Mac OS X      (**) as reported by 'gcc -v'

Package status is indicated by one of the following glyphs
 TIMEOUT  INSTALL, BUILD, CHECK or BUILD BIN of package took more than 40 minutes Use the check boxes to show only packages with the selected status types.
 ERROR  Bad DESCRIPTION file or INSTALL, BUILD or BUILD BIN of package failed, or CHECK produced errors
 WARNINGS  CHECK of package produced warnings
 OK  INSTALL, BUILD, CHECK or BUILD BIN of package was OK
 skipped  CHECK or BUILD BIN of package was skipped because the BUILD step failed
 NA  BUILD, CHECK or BUILD BIN result is not available because of an anomaly in the Build System
Click on any glyph in the report below to access the detailed results.
Package propagation status is indicated by one of the following LEDs
YES YES: Package was propagated because it didn't previously exist or version was bumped
NO NO: Package was not propagated because of a problem (impossible dependencies, or version lower than what is already propagated)
UNNEEDED UNNEEDED: Package was not propagated because it is already in the repository with this version. A version bump is required in order to propagate it

A crossed-out package name indicates the package is deprecated


SUMMARYOS / ArchINSTALLBUILDCHECKBUILD BIN
malbec2 Linux (Ubuntu 20.04.1 LTS) / x86_64 
0411866
11101796
0372621497
tokay2 Windows Server 2012 R2 Standard / x64 
0431837
61051769
13476001109
011396
riesling1 Windows Server 2019 Standard / x64 
0461834
11071772
4516031114
031769
machv2 macOS 10.14.6 Mojave / x86_64 
0451854
01151784
0312601493
001784
A
ABCDEFGHIJKLMNOPQRSTUVWXYZ
Package 1/1907HostnameOS / ArchINSTALLBUILDCHECKBUILD BIN
a4 1.39.0
Laure Cougnaud
Last Commit: 8a91ceb
Last Changed Date: 2020-10-27 10:41:25 -0500
malbec2 Linux (Ubuntu 20.04.1 LTS) / x86_64  OK  OK  OK UNNEEDED, same version exists in internal repository
tokay2 Windows Server 2012 R2 Standard / x64  OK  OK  OK  OK UNNEEDED, same version exists in internal repository
riesling1 Windows Server 2019 Standard / x64  OK  OK  OK  OK 
machv2 macOS 10.14.6 Mojave / x86_64  OK  OK  OK  OK UNNEEDED, same version exists in internal repository
Package 2/1907HostnameOS / ArchINSTALLBUILDCHECKBUILD BIN
a4Base 1.39.0
Laure Cougnaud
Last Commit: ebbd0f4
Last Changed Date: 2020-10-27 10:41:12 -0500
malbec2 Linux (Ubuntu 20.04.1 LTS) / x86_64  OK  OK  OK UNNEEDED, same version exists in internal repository
tokay2 Windows Server 2012 R2 Standard / x64  OK  OK  OK  OK UNNEEDED, same version exists in internal repository
riesling1 Windows Server 2019 Standard / x64  OK  OK  OK  OK 
machv2 macOS 10.14.6 Mojave / x86_64  OK  OK  OK  OK UNNEEDED, same version exists in internal repository
Package 3/1907HostnameOS / ArchINSTALLBUILDCHECKBUILD BIN
a4Classif 1.39.0
Laure Cougnaud
Last Commit: 8ff5424
Last Changed Date: 2020-10-27 10:41:18 -0500
malbec2 Linux (Ubuntu 20.04.1 LTS) / x86_64  OK  OK  OK UNNEEDED, same version exists in internal repository
tokay2 Windows Server 2012 R2 Standard / x64  OK  OK  OK  OK UNNEEDED, same version exists in internal repository
riesling1 Windows Server 2019 Standard / x64  OK  OK  OK  OK 
machv2 macOS 10.14.6 Mojave / x86_64  OK  OK  OK  OK UNNEEDED, same version exists in internal repository
Package 4/1907HostnameOS / ArchINSTALLBUILDCHECKBUILD BIN
a4Core 1.39.0
Laure Cougnaud
Last Commit: 0eaff13
Last Changed Date: 2020-10-27 10:41:20 -0500
malbec2 Linux (Ubuntu 20.04.1 LTS) / x86_64  OK  OK  OK UNNEEDED, same version exists in internal repository
tokay2 Windows Server 2012 R2 Standard / x64  OK  OK  OK  OK UNNEEDED, same version exists in internal repository
riesling1 Windows Server 2019 Standard / x64  OK  OK  OK  OK 
machv2 macOS 10.14.6 Mojave / x86_64  OK  OK  OK  OK UNNEEDED, same version exists in internal repository
Package 5/1907HostnameOS / ArchINSTALLBUILDCHECKBUILD BIN
a4Preproc 1.39.0
Laure Cougnaud
Last Commit: 19e4703
Last Changed Date: 2020-10-27 10:41:15 -0500
malbec2 Linux (Ubuntu 20.04.1 LTS) / x86_64  OK  OK  OK UNNEEDED, same version exists in internal repository
tokay2 Windows Server 2012 R2 Standard / x64  OK  OK  OK  OK UNNEEDED, same version exists in internal repository
riesling1 Windows Server 2019 Standard / x64  OK  OK  OK  OK 
machv2 macOS 10.14.6 Mojave / x86_64  OK  OK  OK  OK UNNEEDED, same version exists in internal repository
Package 6/1907HostnameOS / ArchINSTALLBUILDCHECKBUILD BIN
a4Reporting 1.39.0
Laure Cougnaud
Last Commit: 16f8326
Last Changed Date: 2020-10-27 10:41:23 -0500
malbec2 Linux (Ubuntu 20.04.1 LTS) / x86_64  OK  OK  OK UNNEEDED, same version exists in internal repository
tokay2 Windows Server 2012 R2 Standard / x64  OK  OK  OK  OK UNNEEDED, same version exists in internal repository
riesling1 Windows Server 2019 Standard / x64  OK  OK  OK  OK 
machv2 macOS 10.14.6 Mojave / x86_64  OK  OK  OK  OK UNNEEDED, same version exists in internal repository
Package 7/1907HostnameOS / ArchINSTALLBUILDCHECKBUILD BIN
ABAEnrichment 1.21.0
Steffi Grote
Last Commit: b6d38e0
Last Changed Date: 2020-10-27 11:07:16 -0500
malbec2 Linux (Ubuntu 20.04.1 LTS) / x86_64  OK  OK  OK UNNEEDED, same version exists in internal repository
tokay2 Windows Server 2012 R2 Standard / x64  OK  OK  OK  OK UNNEEDED, same version exists in internal repository
riesling1 Windows Server 2019 Standard / x64  OK  OK  OK  OK 
machv2 macOS 10.14.6 Mojave / x86_64  OK  OK  OK  OK UNNEEDED, same version exists in internal repository
Package 8/1907HostnameOS / ArchINSTALLBUILDCHECKBUILD BIN
ABarray 1.59.0
Yongming Andrew Sun
Last Commit: 16a8532
Last Changed Date: 2020-10-27 10:28:58 -0500
malbec2 Linux (Ubuntu 20.04.1 LTS) / x86_64  OK  OK  OK UNNEEDED, same version exists in internal repository
tokay2 Windows Server 2012 R2 Standard / x64  OK  OK  OK  OK UNNEEDED, same version exists in internal repository
riesling1 Windows Server 2019 Standard / x64  OK  OK  OK  OK 
machv2 macOS 10.14.6 Mojave / x86_64  OK  OK  OK  OK UNNEEDED, same version exists in internal repository
Package 9/1907HostnameOS / ArchINSTALLBUILDCHECKBUILD BIN
abseqR 1.9.0
JiaHong Fong
Last Commit: 1e7ab1f
Last Changed Date: 2020-10-27 11:40:24 -0500
malbec2 Linux (Ubuntu 20.04.1 LTS) / x86_64  OK  OK  OK UNNEEDED, same version exists in internal repository
tokay2 Windows Server 2012 R2 Standard / x64  OK  OK  OK  OK UNNEEDED, same version exists in internal repository
riesling1 Windows Server 2019 Standard / x64  OK  OK  OK  OK 
machv2 macOS 10.14.6 Mojave / x86_64  OK  OK  OK  OK UNNEEDED, same version exists in internal repository
Package 10/1907HostnameOS / ArchINSTALLBUILDCHECKBUILD BIN
ABSSeq 1.45.0
Wentao Yang
Last Commit: 10ad0b3
Last Changed Date: 2020-10-27 10:55:46 -0500
malbec2 Linux (Ubuntu 20.04.1 LTS) / x86_64  OK  OK  OK UNNEEDED, same version exists in internal repository
tokay2 Windows Server 2012 R2 Standard / x64  OK  OK  WARNINGS  OK UNNEEDED, same version exists in internal repository
riesling1 Windows Server 2019 Standard / x64  OK  OK  WARNINGS  OK 
machv2 macOS 10.14.6 Mojave / x86_64  OK  OK  OK  OK UNNEEDED, same version exists in internal repository
Package 11/1907HostnameOS / ArchINSTALLBUILDCHECKBUILD BIN
acde 1.21.0
Juan Pablo Acosta
Last Commit: 67b070f
Last Changed Date: 2020-10-27 11:05:40 -0500
malbec2 Linux (Ubuntu 20.04.1 LTS) / x86_64  OK  OK  OK UNNEEDED, same version exists in internal repository
tokay2 Windows Server 2012 R2 Standard / x64  OK  OK  OK  OK UNNEEDED, same version exists in internal repository
riesling1 Windows Server 2019 Standard / x64  OK  OK  OK  OK 
machv2 macOS 10.14.6 Mojave / x86_64  OK  OK  OK  OK UNNEEDED, same version exists in internal repository
Package 12/1907HostnameOS / ArchINSTALLBUILDCHECKBUILD BIN
ACE 1.9.0
Jos B Poell
Last Commit: 8350d50
Last Changed Date: 2020-10-27 11:37:13 -0500
malbec2 Linux (Ubuntu 20.04.1 LTS) / x86_64  OK  OK  OK UNNEEDED, same version exists in internal repository
tokay2 Windows Server 2012 R2 Standard / x64  OK  OK  OK  OK UNNEEDED, same version exists in internal repository
riesling1 Windows Server 2019 Standard / x64  OK  OK  OK  OK 
machv2 macOS 10.14.6 Mojave / x86_64  OK  OK  OK  OK UNNEEDED, same version exists in internal repository
Package 13/1907HostnameOS / ArchINSTALLBUILDCHECKBUILD BIN
aCGH 1.69.0
Peter Dimitrov
Last Commit: 28fb3c2
Last Changed Date: 2020-10-27 10:24:17 -0500
malbec2 Linux (Ubuntu 20.04.1 LTS) / x86_64  OK  OK  OK UNNEEDED, same version exists in internal repository
tokay2 Windows Server 2012 R2 Standard / x64  OK  OK  WARNINGS  OK UNNEEDED, same version exists in internal repository
riesling1 Windows Server 2019 Standard / x64  OK  OK  WARNINGS  OK 
machv2 macOS 10.14.6 Mojave / x86_64  OK  OK  OK  OK UNNEEDED, same version exists in internal repository
Package 14/1907HostnameOS / ArchINSTALLBUILDCHECKBUILD BIN
ACME 2.47.0
Sean Davis
Last Commit: 057a9d6
Last Changed Date: 2020-10-27 10:30:51 -0500
malbec2 Linux (Ubuntu 20.04.1 LTS) / x86_64  OK  OK  WARNINGS UNNEEDED, same version exists in internal repository
tokay2 Windows Server 2012 R2 Standard / x64  OK  OK  WARNINGS  OK UNNEEDED, same version exists in internal repository
riesling1 Windows Server 2019 Standard / x64  OK  OK  WARNINGS  OK 
machv2 macOS 10.14.6 Mojave / x86_64  OK  OK  OK  OK UNNEEDED, same version exists in internal repository
Package 15/1907HostnameOS / ArchINSTALLBUILDCHECKBUILD BIN
ADaCGH2 2.31.0
Ramon Diaz-Uriarte
Last Commit: 16dcc80
Last Changed Date: 2020-10-27 10:39:31 -0500
malbec2 Linux (Ubuntu 20.04.1 LTS) / x86_64  OK  OK  OK UNNEEDED, same version exists in internal repository
tokay2 Windows Server 2012 R2 Standard / x64  OK  OK  OK  OK UNNEEDED, same version exists in internal repository
riesling1 Windows Server 2019 Standard / x64  OK  OK  OK  OK 
machv2 macOS 10.14.6 Mojave / x86_64  OK  OK  OK  OK UNNEEDED, same version exists in internal repository
Package 16/1907HostnameOS / ArchINSTALLBUILDCHECKBUILD BIN
ADAM 1.7.0
Jose Luiz Rybarczyk Filho
Last Commit: 3a95f5c
Last Changed Date: 2020-10-27 11:40:48 -0500
malbec2 Linux (Ubuntu 20.04.1 LTS) / x86_64  OK  OK  OK UNNEEDED, same version exists in internal repository
tokay2 Windows Server 2012 R2 Standard / x64  OK  OK  OK  OK UNNEEDED, same version exists in internal repository
riesling1 Windows Server 2019 Standard / x64  OK  OK  OK  OK 
machv2 macOS 10.14.6 Mojave / x86_64  OK  OK  OK  OK UNNEEDED, same version exists in internal repository
Package 17/1907HostnameOS / ArchINSTALLBUILDCHECKBUILD BIN
ADAMgui 1.7.0
Jose Luiz Rybarczyk Filho
Last Commit: 9f164d8
Last Changed Date: 2020-10-27 11:45:19 -0500
malbec2 Linux (Ubuntu 20.04.1 LTS) / x86_64  OK  OK  OK UNNEEDED, same version exists in internal repository
tokay2 Windows Server 2012 R2 Standard / x64  OK  OK  OK  OK UNNEEDED, same version exists in internal repository
riesling1 Windows Server 2019 Standard / x64  OK  OK  OK  OK 
machv2 macOS 10.14.6 Mojave / x86_64  OK  OK  OK  OK UNNEEDED, same version exists in internal repository
Package 18/1907HostnameOS / ArchINSTALLBUILDCHECKBUILD BIN
adductomicsR 1.7.0
Josie Hayes
Last Commit: 99cd4e6
Last Changed Date: 2020-10-27 11:42:01 -0500
malbec2 Linux (Ubuntu 20.04.1 LTS) / x86_64  OK  OK  WARNINGS UNNEEDED, same version exists in internal repository
tokay2 Windows Server 2012 R2 Standard / x64  OK  OK  WARNINGS  OK UNNEEDED, same version exists in internal repository
riesling1 Windows Server 2019 Standard / x64  OK  OK  WARNINGS  OK 
machv2 macOS 10.14.6 Mojave / x86_64  OK  OK  WARNINGS  OK UNNEEDED, same version exists in internal repository
Package 19/1907HostnameOS / ArchINSTALLBUILDCHECKBUILD BIN
ADImpute 1.1.0
Ana Carolina Leote
Last Commit: b13889b
Last Changed Date: 2020-10-27 12:03:35 -0500
malbec2 Linux (Ubuntu 20.04.1 LTS) / x86_64  OK  OK  WARNINGS UNNEEDED, same version exists in internal repository
tokay2 Windows Server 2012 R2 Standard / x64  OK  OK  WARNINGS  OK UNNEEDED, same version exists in internal repository
riesling1 Windows Server 2019 Standard / x64  OK  OK  WARNINGS  OK 
machv2 macOS 10.14.6 Mojave / x86_64  OK  OK  WARNINGS  OK UNNEEDED, same version exists in internal repository
Package 20/1907HostnameOS / ArchINSTALLBUILDCHECKBUILD BIN
adSplit 1.61.0
Claudio Lottaz
Last Commit: 270b03a
Last Changed Date: 2020-10-27 10:28:09 -0500
malbec2 Linux (Ubuntu 20.04.1 LTS) / x86_64  OK  OK  WARNINGS UNNEEDED, same version exists in internal repository
tokay2 Windows Server 2012 R2 Standard / x64  OK  OK  WARNINGS  OK UNNEEDED, same version exists in internal repository
riesling1 Windows Server 2019 Standard / x64  OK  OK  WARNINGS  OK 
machv2 macOS 10.14.6 Mojave / x86_64  OK  OK  WARNINGS  OK UNNEEDED, same version exists in internal repository
Package 21/1907HostnameOS / ArchINSTALLBUILDCHECKBUILD BIN
AffiXcan 1.9.0
Alessandro Lussana
Last Commit: d28c930
Last Changed Date: 2020-10-27 11:39:12 -0500
malbec2 Linux (Ubuntu 20.04.1 LTS) / x86_64  OK  OK  OK UNNEEDED, same version exists in internal repository
tokay2 Windows Server 2012 R2 Standard / x64  OK  OK  OK  OK UNNEEDED, same version exists in internal repository
riesling1 Windows Server 2019 Standard / x64  OK  OK  OK  OK 
machv2 macOS 10.14.6 Mojave / x86_64  OK  OK  OK  OK UNNEEDED, same version exists in internal repository
Package 22/1907HostnameOS / ArchINSTALLBUILDCHECKBUILD BIN
affxparser 1.63.0
Kasper Daniel Hansen
Last Commit: a7bcf5e
Last Changed Date: 2020-10-27 10:26:49 -0500
malbec2 Linux (Ubuntu 20.04.1 LTS) / x86_64  OK  OK  WARNINGS UNNEEDED, same version exists in internal repository
tokay2 Windows Server 2012 R2 Standard / x64  OK  OK  WARNINGS  OK UNNEEDED, same version exists in internal repository
riesling1 Windows Server 2019 Standard / x64  OK  OK  WARNINGS  OK 
machv2 macOS 10.14.6 Mojave / x86_64  OK  OK  WARNINGS  OK UNNEEDED, same version exists in internal repository
Package 23/1907HostnameOS / ArchINSTALLBUILDCHECKBUILD BIN
affy 1.69.0
Rafael A. Irizarry
Last Commit: 458e733
Last Changed Date: 2020-10-27 10:22:11 -0500
malbec2 Linux (Ubuntu 20.04.1 LTS) / x86_64  OK  OK  WARNINGS UNNEEDED, same version exists in internal repository
tokay2 Windows Server 2012 R2 Standard / x64  OK  OK  WARNINGS  OK UNNEEDED, same version exists in internal repository
riesling1 Windows Server 2019 Standard / x64  OK  OK  WARNINGS  OK 
machv2 macOS 10.14.6 Mojave / x86_64  OK  OK  WARNINGS  OK UNNEEDED, same version exists in internal repository
Package 24/1907HostnameOS / ArchINSTALLBUILDCHECKBUILD BIN
affycomp 1.67.0
Rafael A. Irizarry
Last Commit: 688f019
Last Changed Date: 2020-10-27 10:22:30 -0500
malbec2 Linux (Ubuntu 20.04.1 LTS) / x86_64  OK  OK  OK UNNEEDED, same version exists in internal repository
tokay2 Windows Server 2012 R2 Standard / x64  OK  OK  OK  OK UNNEEDED, same version exists in internal repository
riesling1 Windows Server 2019 Standard / x64  OK  OK  OK  OK 
machv2 macOS 10.14.6 Mojave / x86_64  OK  OK  OK  OK UNNEEDED, same version exists in internal repository
Package 25/1907HostnameOS / ArchINSTALLBUILDCHECKBUILD BIN
AffyCompatible 1.51.0
Martin Morgan
Last Commit: 6674073
Last Changed Date: 2020-10-27 10:33:21 -0500
malbec2 Linux (Ubuntu 20.04.1 LTS) / x86_64  OK  OK  OK UNNEEDED, same version exists in internal repository
tokay2 Windows Server 2012 R2 Standard / x64  OK  OK  OK  OK UNNEEDED, same version exists in internal repository
riesling1 Windows Server 2019 Standard / x64  OK  OK  OK  OK 
machv2 macOS 10.14.6 Mojave / x86_64  OK  OK  OK  OK UNNEEDED, same version exists in internal repository
Package 26/1907HostnameOS / ArchINSTALLBUILDCHECKBUILD BIN
affyContam 1.49.0
V. Carey
Last Commit: 9ce88ab
Last Changed Date: 2020-10-27 10:34:42 -0500
malbec2 Linux (Ubuntu 20.04.1 LTS) / x86_64  OK  OK  OK UNNEEDED, same version exists in internal repository
tokay2 Windows Server 2012 R2 Standard / x64  OK  OK  OK  OK UNNEEDED, same version exists in internal repository
riesling1 Windows Server 2019 Standard / x64  OK  OK  OK  OK 
machv2 macOS 10.14.6 Mojave / x86_64  OK  OK  OK  OK UNNEEDED, same version exists in internal repository
Package 27/1907HostnameOS / ArchINSTALLBUILDCHECKBUILD BIN
affycoretools 1.63.1
James W. MacDonald
Last Commit: 6d9bdb2
Last Changed Date: 2020-11-13 17:45:27 -0500
malbec2 Linux (Ubuntu 20.04.1 LTS) / x86_64  OK  OK  WARNINGS UNNEEDED, same version exists in internal repository
tokay2 Windows Server 2012 R2 Standard / x64  OK  OK  WARNINGS  OK UNNEEDED, same version exists in internal repository
riesling1 Windows Server 2019 Standard / x64  OK  OK  WARNINGS  OK 
machv2 macOS 10.14.6 Mojave / x86_64  OK  OK  WARNINGS  OK UNNEEDED, same version exists in internal repository
Package 28/1907HostnameOS / ArchINSTALLBUILDCHECKBUILD BIN
AffyExpress 1.57.0
Xuejun Arthur Li
Last Commit: f1f2833
Last Changed Date: 2020-10-27 10:31:51 -0500
malbec2 Linux (Ubuntu 20.04.1 LTS) / x86_64  OK  ERROR  skipped 
tokay2 Windows Server 2012 R2 Standard / x64  OK  ERROR  skipped  skipped 
riesling1 Windows Server 2019 Standard / x64  OK  ERROR  skipped  skipped 
machv2 macOS 10.14.6 Mojave / x86_64  OK  ERROR  skipped  skipped 
Package 29/1907HostnameOS / ArchINSTALLBUILDCHECKBUILD BIN
affyILM 1.43.0
Myriam Kroll and Fabrice Berger
Last Commit: 5af1506
Last Changed Date: 2020-10-27 10:38:21 -0500
malbec2 Linux (Ubuntu 20.04.1 LTS) / x86_64  OK  OK  OK UNNEEDED, same version exists in internal repository
tokay2 Windows Server 2012 R2 Standard / x64  OK  OK  WARNINGS  OK UNNEEDED, same version exists in internal repository
riesling1 Windows Server 2019 Standard / x64  OK  OK  WARNINGS  OK 
machv2 macOS 10.14.6 Mojave / x86_64  OK  OK  OK  OK UNNEEDED, same version exists in internal repository
Package 30/1907HostnameOS / ArchINSTALLBUILDCHECKBUILD BIN
affyio 1.61.0
Ben Bolstad
Last Commit: b78927c
Last Changed Date: 2020-10-27 10:22:04 -0500
malbec2 Linux (Ubuntu 20.04.1 LTS) / x86_64  OK  OK  WARNINGS UNNEEDED, same version exists in internal repository
tokay2 Windows Server 2012 R2 Standard / x64  OK  OK  WARNINGS  OK UNNEEDED, same version exists in internal repository
riesling1 Windows Server 2019 Standard / x64  OK  OK  WARNINGS  OK 
machv2 macOS 10.14.6 Mojave / x86_64  OK  OK  OK  OK UNNEEDED, same version exists in internal repository
Package 31/1907HostnameOS / ArchINSTALLBUILDCHECKBUILD BIN
affylmGUI 1.65.0
Gordon Smyth
Last Commit: 38d7648
Last Changed Date: 2020-10-27 10:23:55 -0500
malbec2 Linux (Ubuntu 20.04.1 LTS) / x86_64  OK  OK  OK UNNEEDED, same version exists in internal repository
tokay2 Windows Server 2012 R2 Standard / x64  OK  OK  OK  OK UNNEEDED, same version exists in internal repository
riesling1 Windows Server 2019 Standard / x64  OK  OK  OK  OK 
machv2 macOS 10.14.6 Mojave / x86_64  OK  OK  OK  OK UNNEEDED, same version exists in internal repository
Package 32/1907HostnameOS / ArchINSTALLBUILDCHECKBUILD BIN
affyPara 1.51.0
Markus Schmidberger
Last Commit: a919225
Last Changed Date: 2020-10-27 10:33:03 -0500
malbec2 Linux (Ubuntu 20.04.1 LTS) / x86_64  OK  OK  OK UNNEEDED, same version exists in internal repository
tokay2 Windows Server 2012 R2 Standard / x64  OK  OK  OK  OK UNNEEDED, same version exists in internal repository
riesling1 Windows Server 2019 Standard / x64  OK  OK  OK  OK 
machv2 macOS 10.14.6 Mojave / x86_64  OK  OK  OK  OK UNNEEDED, same version exists in internal repository
Package 33/1907HostnameOS / ArchINSTALLBUILDCHECKBUILD BIN
affyPLM 1.67.0
Ben Bolstad
Last Commit: 7dc8dba
Last Changed Date: 2020-10-27 10:22:56 -0500
malbec2 Linux (Ubuntu 20.04.1 LTS) / x86_64  OK  OK  WARNINGS UNNEEDED, same version exists in internal repository
tokay2 Windows Server 2012 R2 Standard / x64  OK  OK  WARNINGS  OK UNNEEDED, same version exists in internal repository
riesling1 Windows Server 2019 Standard / x64  OK  OK  WARNINGS  OK 
machv2 macOS 10.14.6 Mojave / x86_64  OK  OK  OK  OK UNNEEDED, same version exists in internal repository
Package 34/1907HostnameOS / ArchINSTALLBUILDCHECKBUILD BIN
affyQCReport 1.69.0
Craig Parman
Last Commit: 37f499c
Last Changed Date: 2020-10-27 10:26:26 -0500
malbec2 Linux (Ubuntu 20.04.1 LTS) / x86_64  ERROR  ERROR  skipped 
tokay2 Windows Server 2012 R2 Standard / x64  ERROR  ERROR  skipped  skipped 
riesling1 Windows Server 2019 Standard / x64  ERROR  ERROR  skipped  skipped 
machv2 macOS 10.14.6 Mojave / x86_64  ERROR  ERROR  skipped  skipped 
Package 35/1907HostnameOS / ArchINSTALLBUILDCHECKBUILD BIN
AffyRNADegradation 1.37.0
Mario Fasold
Last Commit: 249a881
Last Changed Date: 2020-10-27 10:44:13 -0500
malbec2 Linux (Ubuntu 20.04.1 LTS) / x86_64  OK  OK  OK UNNEEDED, same version exists in internal repository
tokay2 Windows Server 2012 R2 Standard / x64  OK  OK  OK  OK UNNEEDED, same version exists in internal repository
riesling1 Windows Server 2019 Standard / x64  OK  OK  OK  OK 
machv2 macOS 10.14.6 Mojave / x86_64  OK  OK  OK  OK UNNEEDED, same version exists in internal repository
Package 36/1907HostnameOS / ArchINSTALLBUILDCHECKBUILD BIN
AGDEX 1.39.0
Cuilan lani Gao
Last Commit: d5de6f3
Last Changed Date: 2020-10-27 10:43:00 -0500
malbec2 Linux (Ubuntu 20.04.1 LTS) / x86_64  OK  OK  OK UNNEEDED, same version exists in internal repository
tokay2 Windows Server 2012 R2 Standard / x64  OK  OK  OK  OK UNNEEDED, same version exists in internal repository
riesling1 Windows Server 2019 Standard / x64  OK  OK  OK  OK 
machv2 macOS 10.14.6 Mojave / x86_64  OK  OK  OK  OK UNNEEDED, same version exists in internal repository
Package 37/1907HostnameOS / ArchINSTALLBUILDCHECKBUILD BIN
aggregateBioVar 1.1.0
Jason Ratcliff
Last Commit: 59cff77
Last Changed Date: 2020-10-27 12:01:49 -0500
malbec2 Linux (Ubuntu 20.04.1 LTS) / x86_64  OK  OK  OK UNNEEDED, same version exists in internal repository
tokay2 Windows Server 2012 R2 Standard / x64  OK  OK  OK  OK UNNEEDED, same version exists in internal repository
riesling1 Windows Server 2019 Standard / x64  OK  OK  OK  OK 
machv2 macOS 10.14.6 Mojave / x86_64  OK  OK  OK  OK UNNEEDED, same version exists in internal repository
Package 38/1907HostnameOS / ArchINSTALLBUILDCHECKBUILD BIN
agilp 3.23.0
Benny Chain
Last Commit: 41c5b91
Last Changed Date: 2020-10-27 10:47:29 -0500
malbec2 Linux (Ubuntu 20.04.1 LTS) / x86_64  OK  OK  OK UNNEEDED, same version exists in internal repository
tokay2 Windows Server 2012 R2 Standard / x64  OK  OK  OK  OK UNNEEDED, same version exists in internal repository
riesling1 Windows Server 2019 Standard / x64  OK  OK  OK  OK 
machv2 macOS 10.14.6 Mojave / x86_64  OK  OK  OK  OK UNNEEDED, same version exists in internal repository
Package 39/1907HostnameOS / ArchINSTALLBUILDCHECKBUILD BIN
AgiMicroRna 2.41.0
Pedro Lopez-Romero
Last Commit: 46b6c16
Last Changed Date: 2020-10-27 10:36:25 -0500
malbec2 Linux (Ubuntu 20.04.1 LTS) / x86_64  OK  OK  OK UNNEEDED, same version exists in internal repository
tokay2 Windows Server 2012 R2 Standard / x64  OK  OK  WARNINGS  OK UNNEEDED, same version exists in internal repository
riesling1 Windows Server 2019 Standard / x64  OK  OK  WARNINGS  OK 
machv2 macOS 10.14.6 Mojave / x86_64  OK  OK  OK  OK UNNEEDED, same version exists in internal repository
Package 40/1907HostnameOS / ArchINSTALLBUILDCHECKBUILD BIN
AIMS 1.23.0
Eric R Paquet
Last Commit: a631f51
Last Changed Date: 2020-10-27 11:01:12 -0500
malbec2 Linux (Ubuntu 20.04.1 LTS) / x86_64  OK  OK  OK UNNEEDED, same version exists in internal repository
tokay2 Windows Server 2012 R2 Standard / x64  OK  OK  OK  OK UNNEEDED, same version exists in internal repository
riesling1 Windows Server 2019 Standard / x64  OK  OK  OK  OK 
machv2 macOS 10.14.6 Mojave / x86_64  OK  OK  OK  OK UNNEEDED, same version exists in internal repository
Package 41/1907HostnameOS / ArchINSTALLBUILDCHECKBUILD BIN
ALDEx2 1.23.0
Greg Gloor
Last Commit: 425edfc
Last Changed Date: 2020-10-27 10:59:20 -0500
malbec2 Linux (Ubuntu 20.04.1 LTS) / x86_64  OK  OK  OK UNNEEDED, same version exists in internal repository
tokay2 Windows Server 2012 R2 Standard / x64  OK  OK  OK  OK UNNEEDED, same version exists in internal repository
riesling1 Windows Server 2019 Standard / x64  OK  OK  OK  OK 
machv2 macOS 10.14.6 Mojave / x86_64  OK  OK  OK  OK UNNEEDED, same version exists in internal repository
Package 42/1907HostnameOS / ArchINSTALLBUILDCHECKBUILD BIN
alevinQC 1.7.0
Charlotte Soneson
Last Commit: e045387
Last Changed Date: 2020-10-27 11:43:03 -0500
malbec2 Linux (Ubuntu 20.04.1 LTS) / x86_64  OK  OK  OK UNNEEDED, same version exists in internal repository
tokay2 Windows Server 2012 R2 Standard / x64  OK  OK  OK  OK UNNEEDED, same version exists in internal repository
riesling1 Windows Server 2019 Standard / x64  OK  OK  OK  OK 
machv2 macOS 10.14.6 Mojave / x86_64  OK  OK  OK  OK UNNEEDED, same version exists in internal repository
Package 43/1907HostnameOS / ArchINSTALLBUILDCHECKBUILD BIN
AllelicImbalance 1.29.0
Jesper R Gadin
Last Commit: 9225809
Last Changed Date: 2020-10-27 10:53:07 -0500
malbec2 Linux (Ubuntu 20.04.1 LTS) / x86_64  OK  OK  OK UNNEEDED, same version exists in internal repository
tokay2 Windows Server 2012 R2 Standard / x64  OK  OK  WARNINGS  OK UNNEEDED, same version exists in internal repository
riesling1 Windows Server 2019 Standard / x64  OK  OK  WARNINGS  OK 
machv2 macOS 10.14.6 Mojave / x86_64  OK  OK  OK  OK UNNEEDED, same version exists in internal repository
Package 44/1907HostnameOS / ArchINSTALLBUILDCHECKBUILD BIN
AlphaBeta 1.5.0
Yadollah Shahryary Dizaji
Last Commit: bd3c16f
Last Changed Date: 2020-10-27 11:48:09 -0500
malbec2 Linux (Ubuntu 20.04.1 LTS) / x86_64  OK  OK  OK UNNEEDED, same version exists in internal repository
tokay2 Windows Server 2012 R2 Standard / x64  OK  OK  OK  OK UNNEEDED, same version exists in internal repository
riesling1 Windows Server 2019 Standard / x64  OK  OK  OK  OK 
machv2 macOS 10.14.6 Mojave / x86_64  OK  OK  OK  OK UNNEEDED, same version exists in internal repository
Package 45/1907HostnameOS / ArchINSTALLBUILDCHECKBUILD BIN
alpine 1.17.1
Michael Love
Last Commit: 7761de0
Last Changed Date: 2020-11-03 00:48:03 -0500
malbec2 Linux (Ubuntu 20.04.1 LTS) / x86_64  OK  OK  OK UNNEEDED, same version exists in internal repository
tokay2 Windows Server 2012 R2 Standard / x64  OK  OK  OK  OK UNNEEDED, same version exists in internal repository
riesling1 Windows Server 2019 Standard / x64  OK  OK  OK  OK 
machv2 macOS 10.14.6 Mojave / x86_64  OK  OK  OK  OK UNNEEDED, same version exists in internal repository
Package 46/1907HostnameOS / ArchINSTALLBUILDCHECKBUILD BIN
ALPS 1.5.0
Venu Thatikonda
Last Commit: 6ea885b
Last Changed Date: 2020-10-27 11:50:35 -0500
malbec2 Linux (Ubuntu 20.04.1 LTS) / x86_64  OK  OK  OK UNNEEDED, same version exists in internal repository
tokay2 Windows Server 2012 R2 Standard / x64  OK  OK  WARNINGS  OK UNNEEDED, same version exists in internal repository
riesling1 Windows Server 2019 Standard / x64  OK  OK  WARNINGS  OK 
machv2 macOS 10.14.6 Mojave / x86_64  OK  OK  OK  OK UNNEEDED, same version exists in internal repository
Package 47/1907HostnameOS / ArchINSTALLBUILDCHECKBUILD BIN
AlpsNMR 3.1.3
Luis Fernandez
Last Commit: 3e37db4
Last Changed Date: 2020-11-19 06:18:34 -0500
malbec2 Linux (Ubuntu 20.04.1 LTS) / x86_64  OK  OK  WARNINGS UNNEEDED, same version exists in internal repository
tokay2 Windows Server 2012 R2 Standard / x64  OK  OK  WARNINGS  OK UNNEEDED, same version exists in internal repository
riesling1 Windows Server 2019 Standard / x64  OK  OK  ERROR  OK 
machv2 macOS 10.14.6 Mojave / x86_64  OK  OK  WARNINGS  OK UNNEEDED, same version exists in internal repository
Package 48/1907HostnameOS / ArchINSTALLBUILDCHECKBUILD BIN
alsace 1.27.0
Ron Wehrens
Last Commit: 3a198b5
Last Changed Date: 2020-10-27 10:55:09 -0500
malbec2 Linux (Ubuntu 20.04.1 LTS) / x86_64  OK  OK  OK UNNEEDED, same version exists in internal repository
tokay2 Windows Server 2012 R2 Standard / x64  OK  OK  OK  OK UNNEEDED, same version exists in internal repository
riesling1 Windows Server 2019 Standard / x64  OK  OK  OK  OK 
machv2 macOS 10.14.6 Mojave / x86_64  OK  OK  OK  OK UNNEEDED, same version exists in internal repository
Package 49/1907HostnameOS / ArchINSTALLBUILDCHECKBUILD BIN
altcdfenvs 2.53.0
Laurent Gautier
Last Commit: b216f22
Last Changed Date: 2020-10-27 10:23:45 -0500
malbec2 Linux (Ubuntu 20.04.1 LTS) / x86_64  OK  OK  OK UNNEEDED, same version exists in internal repository
tokay2 Windows Server 2012 R2 Standard / x64  OK  OK  WARNINGS  OK UNNEEDED, same version exists in internal repository
riesling1 Windows Server 2019 Standard / x64  OK  OK  WARNINGS  OK 
machv2 macOS 10.14.6 Mojave / x86_64  OK  OK  OK  OK UNNEEDED, same version exists in internal repository
Package 50/1907HostnameOS / ArchINSTALLBUILDCHECKBUILD BIN
AMARETTO 1.7.0
Olivier Gevaert
Last Commit: 020cfbf
Last Changed Date: 2020-10-27 11:43:56 -0500
malbec2 Linux (Ubuntu 20.04.1 LTS) / x86_64  OK  OK  OK UNNEEDED, same version exists in internal repository
tokay2 Windows Server 2012 R2 Standard / x64  OK  OK  OK  OK UNNEEDED, same version exists in internal repository
riesling1 Windows Server 2019 Standard / x64  OK  OK  OK  OK 
machv2 macOS 10.14.6 Mojave / x86_64  OK  OK  OK  OK UNNEEDED, same version exists in internal repository
Package 51/1907HostnameOS / ArchINSTALLBUILDCHECKBUILD BIN
AMOUNTAIN 1.17.0
Dong Li
Last Commit: 3a5c4ac
Last Changed Date: 2020-10-27 11:16:00 -0500
malbec2 Linux (Ubuntu 20.04.1 LTS) / x86_64  OK  OK  OK UNNEEDED, same version exists in internal repository
tokay2 Windows Server 2012 R2 Standard / x64  OK  OK  OK  OK UNNEEDED, same version exists in internal repository
riesling1 Windows Server 2019 Standard / x64  OK  OK  OK  OK 
machv2 macOS 10.14.6 Mojave / x86_64  OK  OK  OK  OK UNNEEDED, same version exists in internal repository
Package 52/1907HostnameOS / ArchINSTALLBUILDCHECKBUILD BIN
amplican 1.13.0
Eivind Valen
Last Commit: 2ad84af
Last Changed Date: 2020-10-27 11:27:25 -0500
malbec2 Linux (Ubuntu 20.04.1 LTS) / x86_64  OK  OK  OK UNNEEDED, same version exists in internal repository
tokay2 Windows Server 2012 R2 Standard / x64  OK  OK  WARNINGS  OK UNNEEDED, same version exists in internal repository
riesling1 Windows Server 2019 Standard / x64  OK  OK  WARNINGS  OK 
machv2 macOS 10.14.6 Mojave / x86_64  OK  OK  OK  OK UNNEEDED, same version exists in internal repository
Package 53/1907HostnameOS / ArchINSTALLBUILDCHECKBUILD BIN
Anaquin 2.15.0
Ted Wong
Last Commit: 2c6f883
Last Changed Date: 2020-10-27 11:17:12 -0500
malbec2 Linux (Ubuntu 20.04.1 LTS) / x86_64  OK  OK  OK UNNEEDED, same version exists in internal repository
tokay2 Windows Server 2012 R2 Standard / x64  OK  OK  OK  OK UNNEEDED, same version exists in internal repository
riesling1 Windows Server 2019 Standard / x64  OK  OK  OK  OK 
machv2 macOS 10.14.6 Mojave / x86_64  OK  OK  OK  OK UNNEEDED, same version exists in internal repository
Package 54/1907HostnameOS / ArchINSTALLBUILDCHECKBUILD BIN
ANCOMBC 1.1.1
Huang Lin
Last Commit: b3a2165
Last Changed Date: 2020-11-20 10:41:08 -0500
malbec2 Linux (Ubuntu 20.04.1 LTS) / x86_64  OK  OK  OK UNNEEDED, same version exists in internal repository
tokay2 Windows Server 2012 R2 Standard / x64  OK  OK  OK  OK UNNEEDED, same version exists in internal repository
riesling1 Windows Server 2019 Standard / x64  OK  OK  OK  OK 
machv2 macOS 10.14.6 Mojave / x86_64  OK  OK  OK  OK UNNEEDED, same version exists in internal repository
Package 55/1907HostnameOS / ArchINSTALLBUILDCHECKBUILD BIN
AneuFinder 1.19.0
Aaron Taudt
Last Commit: aee8641
Last Changed Date: 2020-10-27 11:12:55 -0500
malbec2 Linux (Ubuntu 20.04.1 LTS) / x86_64  OK  OK  OK UNNEEDED, same version exists in internal repository
tokay2 Windows Server 2012 R2 Standard / x64  OK  OK  WARNINGS  OK UNNEEDED, same version exists in internal repository
riesling1 Windows Server 2019 Standard / x64  OK  OK  WARNINGS  OK 
machv2 macOS 10.14.6 Mojave / x86_64  OK  OK  OK  OK UNNEEDED, same version exists in internal repository
Package 56/1907HostnameOS / ArchINSTALLBUILDCHECKBUILD BIN
ANF 1.13.0
Tianle Ma
Last Commit: 342ba6c
Last Changed Date: 2020-10-27 11:28:30 -0500
malbec2 Linux (Ubuntu 20.04.1 LTS) / x86_64  OK  OK  OK UNNEEDED, same version exists in internal repository
tokay2 Windows Server 2012 R2 Standard / x64  OK  OK  OK  OK UNNEEDED, same version exists in internal repository
riesling1 Windows Server 2019 Standard / x64  OK  OK  OK  OK 
machv2 macOS 10.14.6 Mojave / x86_64  OK  OK  OK  OK UNNEEDED, same version exists in internal repository
Package 57/1907HostnameOS / ArchINSTALLBUILDCHECKBUILD BIN
animalcules 1.7.0
Yue Zhao
Last Commit: eda5992
Last Changed Date: 2020-10-27 11:45:58 -0500
malbec2 Linux (Ubuntu 20.04.1 LTS) / x86_64  OK  OK  OK UNNEEDED, same version exists in internal repository
tokay2 Windows Server 2012 R2 Standard / x64  OK  OK  OK  OK UNNEEDED, same version exists in internal repository
riesling1 Windows Server 2019 Standard / x64  OK  OK  OK  OK 
machv2 macOS 10.14.6 Mojave / x86_64  OK  OK  OK  OK UNNEEDED, same version exists in internal repository
Package 58/1907HostnameOS / ArchINSTALLBUILDCHECKBUILD BIN
annaffy 1.63.0
Colin A. Smith
Last Commit: e1a84a1
Last Changed Date: 2020-10-27 10:22:41 -0500
malbec2 Linux (Ubuntu 20.04.1 LTS) / x86_64  OK  OK  WARNINGS UNNEEDED, same version exists in internal repository
tokay2 Windows Server 2012 R2 Standard / x64  OK  OK  WARNINGS  OK UNNEEDED, same version exists in internal repository
riesling1 Windows Server 2019 Standard / x64  OK  OK  WARNINGS  OK 
machv2 macOS 10.14.6 Mojave / x86_64  OK  OK  WARNINGS  OK UNNEEDED, same version exists in internal repository
Package 59/1907HostnameOS / ArchINSTALLBUILDCHECKBUILD BIN
annmap 1.33.0
Chris Wirth
Last Commit: 74b1046
Last Changed Date: 2020-10-27 10:46:00 -0500
malbec2 Linux (Ubuntu 20.04.1 LTS) / x86_64  OK  OK  WARNINGS UNNEEDED, same version exists in internal repository
tokay2 Windows Server 2012 R2 Standard / x64 ...NOT SUPPORTED...
riesling1 Windows Server 2019 Standard / x64 ...NOT SUPPORTED...
machv2 macOS 10.14.6 Mojave / x86_64  OK  OK  WARNINGS  OK UNNEEDED, same version exists in internal repository
Package 60/1907HostnameOS / ArchINSTALLBUILDCHECKBUILD BIN
annotate 1.69.0
Bioconductor Package Maintainer
Last Commit: 8144b7a
Last Changed Date: 2020-10-27 10:21:39 -0500
malbec2 Linux (Ubuntu 20.04.1 LTS) / x86_64  OK  OK  OK UNNEEDED, same version exists in internal repository
tokay2 Windows Server 2012 R2 Standard / x64  OK  OK  WARNINGS  OK UNNEEDED, same version exists in internal repository
riesling1 Windows Server 2019 Standard / x64  OK  OK  WARNINGS  OK 
machv2 macOS 10.14.6 Mojave / x86_64  OK  OK  OK  OK UNNEEDED, same version exists in internal repository
Package 61/1907HostnameOS / ArchINSTALLBUILDCHECKBUILD BIN
AnnotationDbi 1.53.0
Bioconductor Package Maintainer
Last Commit: c49b6ff
Last Changed Date: 2020-10-27 10:29:55 -0500
malbec2 Linux (Ubuntu 20.04.1 LTS) / x86_64  OK  OK  OK UNNEEDED, same version exists in internal repository
tokay2 Windows Server 2012 R2 Standard / x64  OK  OK  WARNINGS  OK UNNEEDED, same version exists in internal repository
riesling1 Windows Server 2019 Standard / x64  OK  OK  WARNINGS  OK 
machv2 macOS 10.14.6 Mojave / x86_64  OK  OK  OK  OK UNNEEDED, same version exists in internal repository
Package 62/1907HostnameOS / ArchINSTALLBUILDCHECKBUILD BIN
AnnotationFilter 1.15.0
Bioconductor Package Maintainer
Last Commit: c745bae
Last Changed Date: 2020-10-27 11:22:59 -0500
malbec2 Linux (Ubuntu 20.04.1 LTS) / x86_64  OK  OK  OK UNNEEDED, same version exists in internal repository
tokay2 Windows Server 2012 R2 Standard / x64  OK  OK  WARNINGS  OK UNNEEDED, same version exists in internal repository
riesling1 Windows Server 2019 Standard / x64  OK  OK  WARNINGS  OK 
machv2 macOS 10.14.6 Mojave / x86_64  OK  OK  OK  OK UNNEEDED, same version exists in internal repository
Package 63/1907HostnameOS / ArchINSTALLBUILDCHECKBUILD BIN
AnnotationForge 1.33.1
Bioconductor Package Maintainer
Last Commit: ddd8dc7
Last Changed Date: 2020-10-30 09:53:07 -0500
malbec2 Linux (Ubuntu 20.04.1 LTS) / x86_64  OK  OK  OK UNNEEDED, same version exists in internal repository
tokay2 Windows Server 2012 R2 Standard / x64  OK  OK  OK  OK UNNEEDED, same version exists in internal repository
riesling1 Windows Server 2019 Standard / x64  OK  OK  OK  OK 
machv2 macOS 10.14.6 Mojave / x86_64  OK  OK  OK  OK UNNEEDED, same version exists in internal repository
Package 64/1907HostnameOS / ArchINSTALLBUILDCHECKBUILD BIN
AnnotationFuncs 1.41.0
Stefan McKinnon Edwards
Last Commit: 2f64997
Last Changed Date: 2020-10-27 10:40:41 -0500
malbec2 Linux (Ubuntu 20.04.1 LTS) / x86_64  OK  OK  OK UNNEEDED, same version exists in internal repository
tokay2 Windows Server 2012 R2 Standard / x64  OK  OK  OK  OK UNNEEDED, same version exists in internal repository
riesling1 Windows Server 2019 Standard / x64  OK  OK  OK  OK 
machv2 macOS 10.14.6 Mojave / x86_64  OK  OK  OK  OK UNNEEDED, same version exists in internal repository
Package 65/1907HostnameOS / ArchINSTALLBUILDCHECKBUILD BIN
AnnotationHub 2.23.0
Bioconductor Package Maintainer
Last Commit: 8b2de3c
Last Changed Date: 2020-10-27 10:50:05 -0500
malbec2 Linux (Ubuntu 20.04.1 LTS) / x86_64  OK  OK  WARNINGS UNNEEDED, same version exists in internal repository
tokay2 Windows Server 2012 R2 Standard / x64  OK  ERROR  skipped  skipped 
riesling1 Windows Server 2019 Standard / x64  OK  OK  WARNINGS  OK 
machv2 macOS 10.14.6 Mojave / x86_64  OK  OK  WARNINGS  OK UNNEEDED, same version exists in internal repository
Package 66/1907HostnameOS / ArchINSTALLBUILDCHECKBUILD BIN
AnnotationHubData 1.21.1
Bioconductor Package Maintainer
Last Commit: 971ddaf
Last Changed Date: 2020-10-30 09:20:53 -0500
malbec2 Linux (Ubuntu 20.04.1 LTS) / x86_64  OK  OK  WARNINGS UNNEEDED, same version exists in internal repository
tokay2 Windows Server 2012 R2 Standard / x64  OK  OK  WARNINGS  OK UNNEEDED, same version exists in internal repository
riesling1 Windows Server 2019 Standard / x64  OK  OK  WARNINGS  OK 
machv2 macOS 10.14.6 Mojave / x86_64  OK  OK  WARNINGS  OK UNNEEDED, same version exists in internal repository
Package 67/1907HostnameOS / ArchINSTALLBUILDCHECKBUILD BIN
annotationTools 1.65.0
Alexandre Kuhn
Last Commit: f36aec0
Last Changed Date: 2020-10-27 10:30:36 -0500
malbec2 Linux (Ubuntu 20.04.1 LTS) / x86_64  OK  OK  OK UNNEEDED, same version exists in internal repository
tokay2 Windows Server 2012 R2 Standard / x64  OK  OK  OK  OK UNNEEDED, same version exists in internal repository
riesling1 Windows Server 2019 Standard / x64  OK  OK  OK  OK 
machv2 macOS 10.14.6 Mojave / x86_64  OK  OK  OK  OK UNNEEDED, same version exists in internal repository
Package 68/1907HostnameOS / ArchINSTALLBUILDCHECKBUILD BIN
annotatr 1.17.0
Raymond G. Cavalcante
Last Commit: 9f2c3f9
Last Changed Date: 2020-10-27 11:18:54 -0500
malbec2 Linux (Ubuntu 20.04.1 LTS) / x86_64  OK  ERROR  skipped 
tokay2 Windows Server 2012 R2 Standard / x64  OK  OK  OK  OK UNNEEDED, same version exists in internal repository
riesling1 Windows Server 2019 Standard / x64  OK  OK  OK  OK 
machv2 macOS 10.14.6 Mojave / x86_64  OK  OK  OK  OK UNNEEDED, same version exists in internal repository
Package 69/1907HostnameOS / ArchINSTALLBUILDCHECKBUILD BIN
anota 1.39.0
Ola Larsson
Last Commit: 001245c
Last Changed Date: 2020-10-27 10:41:28 -0500
malbec2 Linux (Ubuntu 20.04.1 LTS) / x86_64  OK  OK  OK UNNEEDED, same version exists in internal repository
tokay2 Windows Server 2012 R2 Standard / x64  OK  OK  OK  OK UNNEEDED, same version exists in internal repository
riesling1 Windows Server 2019 Standard / x64  OK  OK  OK  OK 
machv2 macOS 10.14.6 Mojave / x86_64  OK  OK  OK  OK UNNEEDED, same version exists in internal repository
Package 70/1907HostnameOS / ArchINSTALLBUILDCHECKBUILD BIN
anota2seq 1.13.0
Christian Oertlin , Julie Lorent
Last Commit: 5cf973b
Last Changed Date: 2020-10-27 11:28:38 -0500
malbec2 Linux (Ubuntu 20.04.1 LTS) / x86_64  OK  OK  OK UNNEEDED, same version exists in internal repository
tokay2 Windows Server 2012 R2 Standard / x64  OK  OK  OK  OK UNNEEDED, same version exists in internal repository
riesling1 Windows Server 2019 Standard / x64  OK  OK  OK  OK 
machv2 macOS 10.14.6 Mojave / x86_64  OK  OK  OK  OK UNNEEDED, same version exists in internal repository
Package 71/1907HostnameOS / ArchINSTALLBUILDCHECKBUILD BIN
antiProfiles 1.31.0
Hector Corrada Bravo
Last Commit: 775041f
Last Changed Date: 2020-10-27 10:50:20 -0500
malbec2 Linux (Ubuntu 20.04.1 LTS) / x86_64  OK  OK  OK UNNEEDED, same version exists in internal repository
tokay2 Windows Server 2012 R2 Standard / x64  OK  OK  OK  OK UNNEEDED, same version exists in internal repository
riesling1 Windows Server 2019 Standard / x64  OK  OK  OK  OK 
machv2 macOS 10.14.6 Mojave / x86_64  OK  OK  OK  OK UNNEEDED, same version exists in internal repository
Package 72/1907HostnameOS / ArchINSTALLBUILDCHECKBUILD BIN
AnVIL 1.3.3
Martin Morgan
Last Commit: d1ec54f
Last Changed Date: 2020-11-18 05:51:07 -0500
malbec2 Linux (Ubuntu 20.04.1 LTS) / x86_64  OK  OK  OK UNNEEDED, same version exists in internal repository
tokay2 Windows Server 2012 R2 Standard / x64  OK  OK  OK  OK UNNEEDED, same version exists in internal repository
riesling1 Windows Server 2019 Standard / x64  OK  OK  OK  OK 
machv2 macOS 10.14.6 Mojave / x86_64  OK  OK  OK  OK UNNEEDED, same version exists in internal repository
Package 73/1907HostnameOS / ArchINSTALLBUILDCHECKBUILD BIN
AnVILBilling 1.1.1
Vince Carey
Last Commit: 280a0e9
Last Changed Date: 2020-11-19 07:20:04 -0500
malbec2 Linux (Ubuntu 20.04.1 LTS) / x86_64  OK  OK  OK UNNEEDED, same version exists in internal repository
tokay2 Windows Server 2012 R2 Standard / x64  OK  OK  OK  OK UNNEEDED, same version exists in internal repository
riesling1 Windows Server 2019 Standard / x64  OK  OK  OK  OK 
machv2 macOS 10.14.6 Mojave / x86_64  OK  OK  OK  OK UNNEEDED, same version exists in internal repository
Package 74/1907HostnameOS / ArchINSTALLBUILDCHECKBUILD BIN
AnVILPublish 1.1.1
Martin Morgan
Last Commit: d0288ba
Last Changed Date: 2020-11-17 09:26:29 -0500
malbec2 Linux (Ubuntu 20.04.1 LTS) / x86_64  OK  OK  OK UNNEEDED, same version exists in internal repository
tokay2 Windows Server 2012 R2 Standard / x64  OK  OK  OK  OK UNNEEDED, same version exists in internal repository
riesling1 Windows Server 2019 Standard / x64  OK  OK  OK  OK 
machv2 macOS 10.14.6 Mojave / x86_64  OK  OK  OK  OK UNNEEDED, same version exists in internal repository
Package 75/1907HostnameOS / ArchINSTALLBUILDCHECKBUILD BIN
APAlyzer 1.5.0
Ruijia Wang
Last Commit: 8de3fa7
Last Changed Date: 2020-10-27 11:48:13 -0500
malbec2 Linux (Ubuntu 20.04.1 LTS) / x86_64  ERROR  ERROR  skipped 
tokay2 Windows Server 2012 R2 Standard / x64  ERROR  ERROR  skipped  skipped 
riesling1 Windows Server 2019 Standard / x64  ERROR  ERROR  skipped  skipped 
machv2 macOS 10.14.6 Mojave / x86_64  ERROR  ERROR  skipped  skipped 
Package 76/1907HostnameOS / ArchINSTALLBUILDCHECKBUILD BIN
apComplex 2.57.0
Denise Scholtens
Last Commit: 30bf96e
Last Changed Date: 2020-10-27 10:25:14 -0500
malbec2 Linux (Ubuntu 20.04.1 LTS) / x86_64  OK  OK  OK UNNEEDED, same version exists in internal repository
tokay2 Windows Server 2012 R2 Standard / x64  OK  OK  OK  OK UNNEEDED, same version exists in internal repository
riesling1 Windows Server 2019 Standard / x64  OK  OK  OK  OK 
machv2 macOS 10.14.6 Mojave / x86_64  OK  OK  OK  OK UNNEEDED, same version exists in internal repository
Package 77/1907HostnameOS / ArchINSTALLBUILDCHECKBUILD BIN
apeglm 1.13.0
Anqi Zhu
Last Commit: eba3734
Last Changed Date: 2020-10-27 11:27:12 -0500
malbec2 Linux (Ubuntu 20.04.1 LTS) / x86_64  OK  OK  OK UNNEEDED, same version exists in internal repository
tokay2 Windows Server 2012 R2 Standard / x64  OK  OK  OK  OK UNNEEDED, same version exists in internal repository
riesling1 Windows Server 2019 Standard / x64  OK  OK  OK  OK 
machv2 macOS 10.14.6 Mojave / x86_64  OK  OK  OK  OK UNNEEDED, same version exists in internal repository
Package 78/1907HostnameOS / ArchINSTALLBUILDCHECKBUILD BIN
appreci8R 1.9.0
Sarah Sandmann
Last Commit: a8d6498
Last Changed Date: 2020-10-27 11:37:03 -0500
malbec2 Linux (Ubuntu 20.04.1 LTS) / x86_64  OK  OK  OK UNNEEDED, same version exists in internal repository
tokay2 Windows Server 2012 R2 Standard / x64  OK  OK  OK  OK UNNEEDED, same version exists in internal repository
riesling1 Windows Server 2019 Standard / x64  OK  OK  OK  OK 
machv2 macOS 10.14.6 Mojave / x86_64  OK  OK  OK  OK UNNEEDED, same version exists in internal repository
Package 79/1907HostnameOS / ArchINSTALLBUILDCHECKBUILD BIN
aroma.light 3.21.0
Henrik Bengtsson
Last Commit: 2548b93
Last Changed Date: 2020-10-27 10:29:08 -0500
malbec2 Linux (Ubuntu 20.04.1 LTS) / x86_64  OK  OK  OK UNNEEDED, same version exists in internal repository
tokay2 Windows Server 2012 R2 Standard / x64  OK  OK  OK  OK UNNEEDED, same version exists in internal repository
riesling1 Windows Server 2019 Standard / x64  OK  OK  OK  OK 
machv2 macOS 10.14.6 Mojave / x86_64  OK  OK  OK  OK UNNEEDED, same version exists in internal repository
Package 80/1907HostnameOS / ArchINSTALLBUILDCHECKBUILD BIN
ArrayExpress 1.51.0
Suhaib Mohammed
Last Commit: 3c6d341
Last Changed Date: 2020-10-27 10:34:31 -0500
malbec2 Linux (Ubuntu 20.04.1 LTS) / x86_64  OK  OK  OK UNNEEDED, same version exists in internal repository
tokay2 Windows Server 2012 R2 Standard / x64  OK  OK  OK  OK UNNEEDED, same version exists in internal repository
riesling1 Windows Server 2019 Standard / x64  OK  OK  OK  OK 
machv2 macOS 10.14.6 Mojave / x86_64  OK  OK  OK  OK UNNEEDED, same version exists in internal repository
Package 81/1907HostnameOS / ArchINSTALLBUILDCHECKBUILD BIN
ArrayExpressHTS 1.41.0
Angela Goncalves , Andrew Tikhonov
Last Commit: 80548a4
Last Changed Date: 2020-10-27 10:41:34 -0500
malbec2 Linux (Ubuntu 20.04.1 LTS) / x86_64  ERROR  ERROR  skipped 
tokay2 Windows Server 2012 R2 Standard / x64 ...NOT SUPPORTED...
riesling1 Windows Server 2019 Standard / x64 ...NOT SUPPORTED...
machv2 macOS 10.14.6 Mojave / x86_64  ERROR  ERROR  skipped  skipped 
Package 82/1907HostnameOS / ArchINSTALLBUILDCHECKBUILD BIN
arrayMvout 1.49.0
V. Carey
Last Commit: b40d423
Last Changed Date: 2020-10-27 10:34:44 -0500
malbec2 Linux (Ubuntu 20.04.1 LTS) / x86_64  ERROR  ERROR  skipped 
tokay2 Windows Server 2012 R2 Standard / x64  ERROR  ERROR  skipped  skipped 
riesling1 Windows Server 2019 Standard / x64  ERROR  ERROR  skipped  skipped 
machv2 macOS 10.14.6 Mojave / x86_64  ERROR  ERROR  skipped  skipped 
Package 83/1907HostnameOS / ArchINSTALLBUILDCHECKBUILD BIN
arrayQuality 1.69.0
Agnes Paquet
Last Commit: b010b31
Last Changed Date: 2020-10-27 10:23:48 -0500
malbec2 Linux (Ubuntu 20.04.1 LTS) / x86_64  OK  OK  WARNINGS UNNEEDED, same version exists in internal repository
tokay2 Windows Server 2012 R2 Standard / x64  OK  OK  WARNINGS  OK UNNEEDED, same version exists in internal repository
riesling1 Windows Server 2019 Standard / x64  OK  OK  WARNINGS  OK 
machv2 macOS 10.14.6 Mojave / x86_64  OK  OK  WARNINGS  OK UNNEEDED, same version exists in internal repository
Package 84/1907HostnameOS / ArchINSTALLBUILDCHECKBUILD BIN
arrayQualityMetrics 3.47.0
Mike Smith
Last Commit: 2ac069e
Last Changed Date: 2020-10-27 10:31:46 -0500
malbec2 Linux (Ubuntu 20.04.1 LTS) / x86_64  OK  OK  OK UNNEEDED, same version exists in internal repository
tokay2 Windows Server 2012 R2 Standard / x64  OK  OK  OK  OK UNNEEDED, same version exists in internal repository
riesling1 Windows Server 2019 Standard / x64  OK  OK  OK  OK 
machv2 macOS 10.14.6 Mojave / x86_64  OK  OK  OK  OK UNNEEDED, same version exists in internal repository
Package 85/1907HostnameOS / ArchINSTALLBUILDCHECKBUILD BIN
ArrayTools 1.51.0
Arthur Li
Last Commit: 82a9484
Last Changed Date: 2020-10-27 10:34:24 -0500
malbec2 Linux (Ubuntu 20.04.1 LTS) / x86_64  OK  OK  ERROR 
tokay2 Windows Server 2012 R2 Standard / x64  OK  OK  ERROR  OK 
riesling1 Windows Server 2019 Standard / x64  OK  OK  ERROR  OK 
machv2 macOS 10.14.6 Mojave / x86_64  OK  OK  ERROR  OK 
Package 86/1907HostnameOS / ArchINSTALLBUILDCHECKBUILD BIN
ARRmNormalization 1.31.0
Jean-Philippe Fortin
Last Commit: 3dc386c
Last Changed Date: 2020-10-27 10:49:34 -0500
malbec2 Linux (Ubuntu 20.04.1 LTS) / x86_64  OK  OK  OK UNNEEDED, same version exists in internal repository
tokay2 Windows Server 2012 R2 Standard / x64  OK  OK  OK  OK UNNEEDED, same version exists in internal repository
riesling1 Windows Server 2019 Standard / x64  OK  OK  OK  OK 
machv2 macOS 10.14.6 Mojave / x86_64  OK  OK  OK  OK UNNEEDED, same version exists in internal repository
Package 87/1907HostnameOS / ArchINSTALLBUILDCHECKBUILD BIN
artMS 1.9.0
David Jimenez-Morales
Last Commit: d930405
Last Changed Date: 2020-10-27 11:40:21 -0500
malbec2 Linux (Ubuntu 20.04.1 LTS) / x86_64  OK  OK  OK UNNEEDED, same version exists in internal repository
tokay2 Windows Server 2012 R2 Standard / x64  OK  OK  OK  OK UNNEEDED, same version exists in internal repository
riesling1 Windows Server 2019 Standard / x64  OK  OK  OK  OK 
machv2 macOS 10.14.6 Mojave / x86_64  OK  OK  OK  OK UNNEEDED, same version exists in internal repository
Package 88/1907HostnameOS / ArchINSTALLBUILDCHECKBUILD BIN
ASAFE 1.17.0
Qian Zhang
Last Commit: 13598c8
Last Changed Date: 2020-10-27 11:16:15 -0500
malbec2 Linux (Ubuntu 20.04.1 LTS) / x86_64  OK  OK  OK UNNEEDED, same version exists in internal repository
tokay2 Windows Server 2012 R2 Standard / x64  OK  OK  OK  OK UNNEEDED, same version exists in internal repository
riesling1 Windows Server 2019 Standard / x64  OK  OK  OK  OK 
machv2 macOS 10.14.6 Mojave / x86_64  OK  OK  OK  OK UNNEEDED, same version exists in internal repository
Package 89/1907HostnameOS / ArchINSTALLBUILDCHECKBUILD BIN
ASEB 1.35.0
Likun Wang
Last Commit: 5cea626
Last Changed Date: 2020-10-27 10:44:11 -0500
malbec2 Linux (Ubuntu 20.04.1 LTS) / x86_64  OK  OK  OK UNNEEDED, same version exists in internal repository
tokay2 Windows Server 2012 R2 Standard / x64  OK  OK  OK  OK UNNEEDED, same version exists in internal repository
riesling1 Windows Server 2019 Standard / x64  OK  OK  OK  OK 
machv2 macOS 10.14.6 Mojave / x86_64  OK  OK  OK  OK UNNEEDED, same version exists in internal repository
Package 90/1907HostnameOS / ArchINSTALLBUILDCHECKBUILD BIN
ASGSCA 1.25.0
Hela Romdhani
Last Commit: 093d6b6
Last Changed Date: 2020-10-27 10:59:45 -0500
malbec2 Linux (Ubuntu 20.04.1 LTS) / x86_64  OK  OK  OK UNNEEDED, same version exists in internal repository
tokay2 Windows Server 2012 R2 Standard / x64  OK  OK  OK  OK UNNEEDED, same version exists in internal repository
riesling1 Windows Server 2019 Standard / x64  OK  OK  OK  OK 
machv2 macOS 10.14.6 Mojave / x86_64  OK  OK  OK  OK UNNEEDED, same version exists in internal repository
Package 91/1907HostnameOS / ArchINSTALLBUILDCHECKBUILD BIN
ASICS 2.7.1
Gaëlle Lefort
Last Commit: 36532a6
Last Changed Date: 2020-10-28 05:39:57 -0500
malbec2 Linux (Ubuntu 20.04.1 LTS) / x86_64  OK  OK  OK UNNEEDED, same version exists in internal repository
tokay2 Windows Server 2012 R2 Standard / x64  OK  OK  OK  OK UNNEEDED, same version exists in internal repository
riesling1 Windows Server 2019 Standard / x64  OK  OK  OK  OK 
machv2 macOS 10.14.6 Mojave / x86_64  OK  OK  OK  OK UNNEEDED, same version exists in internal repository
Package 92/1907HostnameOS / ArchINSTALLBUILDCHECKBUILD BIN
ASpediaFI 1.5.0
Doyeong Yu
Last Commit: 7705de1
Last Changed Date: 2020-10-27 11:50:40 -0500
malbec2 Linux (Ubuntu 20.04.1 LTS) / x86_64  OK  OK  OK UNNEEDED, same version exists in internal repository
tokay2 Windows Server 2012 R2 Standard / x64  OK  OK  WARNINGS  OK UNNEEDED, same version exists in internal repository
riesling1 Windows Server 2019 Standard / x64  OK  OK  WARNINGS  OK 
machv2 macOS 10.14.6 Mojave / x86_64  OK  OK  OK  OK UNNEEDED, same version exists in internal repository
Package 93/1907HostnameOS / ArchINSTALLBUILDCHECKBUILD BIN
ASpli 2.1.0
Estefania Mancini
Last Commit: 931d0a6
Last Changed Date: 2020-10-27 11:16:38 -0500
malbec2 Linux (Ubuntu 20.04.1 LTS) / x86_64  OK  OK  OK UNNEEDED, same version exists in internal repository
tokay2 Windows Server 2012 R2 Standard / x64  OK  OK  WARNINGS  OK UNNEEDED, same version exists in internal repository
riesling1 Windows Server 2019 Standard / x64  OK  OK  WARNINGS  OK 
machv2 macOS 10.14.6 Mojave / x86_64  OK  OK  OK  OK UNNEEDED, same version exists in internal repository
Package 94/1907HostnameOS / ArchINSTALLBUILDCHECKBUILD BIN
AssessORF 1.9.0
Deepank Korandla
Last Commit: 1ab79ed
Last Changed Date: 2020-10-27 11:40:18 -0500
malbec2 Linux (Ubuntu 20.04.1 LTS) / x86_64  OK  OK  OK UNNEEDED, same version exists in internal repository
tokay2 Windows Server 2012 R2 Standard / x64  OK  OK  OK  OK UNNEEDED, same version exists in internal repository
riesling1 Windows Server 2019 Standard / x64  OK  OK  OK  OK 
machv2 macOS 10.14.6 Mojave / x86_64  OK  OK  OK  OK UNNEEDED, same version exists in internal repository
Package 95/1907HostnameOS / ArchINSTALLBUILDCHECKBUILD BIN
ASSET 2.9.0
Samsiddhi Bhattacharjee
Last Commit: 665ad77
Last Changed Date: 2020-10-27 10:52:19 -0500
malbec2 Linux (Ubuntu 20.04.1 LTS) / x86_64  OK  OK  WARNINGS UNNEEDED, same version exists in internal repository
tokay2 Windows Server 2012 R2 Standard / x64  OK  OK  WARNINGS  OK UNNEEDED, same version exists in internal repository
riesling1 Windows Server 2019 Standard / x64  OK  OK  WARNINGS  OK 
machv2 macOS 10.14.6 Mojave / x86_64  OK  OK  WARNINGS  OK UNNEEDED, same version exists in internal repository
Package 96/1907HostnameOS / ArchINSTALLBUILDCHECKBUILD BIN
ASSIGN 1.27.0
Ying Shen , W. Evan Johnson
Last Commit: 888b86c
Last Changed Date: 2020-10-27 10:55:44 -0500
malbec2 Linux (Ubuntu 20.04.1 LTS) / x86_64  OK  OK  OK UNNEEDED, same version exists in internal repository
tokay2 Windows Server 2012 R2 Standard / x64  OK  OK  OK  OK UNNEEDED, same version exists in internal repository
riesling1 Windows Server 2019 Standard / x64  OK  OK  OK  OK 
machv2 macOS 10.14.6 Mojave / x86_64  OK  OK  OK  OK UNNEEDED, same version exists in internal repository
Package 97/1907HostnameOS / ArchINSTALLBUILDCHECKBUILD BIN
ATACseqQC 1.15.4
Jianhong Ou
Last Commit: 92b86aa
Last Changed Date: 2020-11-05 10:07:31 -0500
malbec2 Linux (Ubuntu 20.04.1 LTS) / x86_64  OK  OK  OK UNNEEDED, same version exists in internal repository
tokay2 Windows Server 2012 R2 Standard / x64  OK  OK  OK  OK UNNEEDED, same version exists in internal repository
riesling1 Windows Server 2019 Standard / x64  OK  OK  OK  OK 
machv2 macOS 10.14.6 Mojave / x86_64  OK  OK  OK  OK UNNEEDED, same version exists in internal repository
Package 98/1907HostnameOS / ArchINSTALLBUILDCHECKBUILD BIN
atSNP 1.7.0
Sunyoung Shin
Last Commit: 2c02b23
Last Changed Date: 2020-10-27 11:42:52 -0500
malbec2 Linux (Ubuntu 20.04.1 LTS) / x86_64  OK  ERROR  skipped 
tokay2 Windows Server 2012 R2 Standard / x64  OK  OK  OK  OK UNNEEDED, same version exists in internal repository
riesling1 Windows Server 2019 Standard / x64  OK  OK  OK  OK 
machv2 macOS 10.14.6 Mojave / x86_64  OK  OK  OK  OK UNNEEDED, same version exists in internal repository
Package 99/1907HostnameOS / ArchINSTALLBUILDCHECKBUILD BIN
attract 1.43.0
Samuel Zimmerman
Last Commit: 073748a
Last Changed Date: 2020-10-27 10:38:24 -0500
malbec2 Linux (Ubuntu 20.04.1 LTS) / x86_64  OK  OK  OK UNNEEDED, same version exists in internal repository
tokay2 Windows Server 2012 R2 Standard / x64  OK  OK  OK  OK UNNEEDED, same version exists in internal repository
riesling1 Windows Server 2019 Standard / x64  OK  OK  OK  OK 
machv2 macOS 10.14.6 Mojave / x86_64  OK  OK  OK  OK UNNEEDED, same version exists in internal repository
Package 100/1907HostnameOS / ArchINSTALLBUILDCHECKBUILD BIN
AUCell 1.13.0
Sara Aibar
Last Commit: be87c73
Last Changed Date: 2020-10-29 14:51:03 -0500
malbec2 Linux (Ubuntu 20.04.1 LTS) / x86_64  OK  OK  WARNINGS UNNEEDED, same version exists in internal repository
tokay2 Windows Server 2012 R2 Standard / x64  OK  OK  WARNINGS  OK UNNEEDED, same version exists in internal repository
riesling1 Windows Server 2019 Standard / x64  OK  OK  WARNINGS  OK 
machv2 macOS 10.14.6 Mojave / x86_64  OK  OK  WARNINGS  OK UNNEEDED, same version exists in internal repository
Package 101/1907HostnameOS / ArchINSTALLBUILDCHECKBUILD BIN
Autotuner 1.5.0
Craig McLean
Last Commit: 3b0e32d
Last Changed Date: 2020-10-27 11:47:39 -0500
malbec2 Linux (Ubuntu 20.04.1 LTS) / x86_64  OK  OK  OK UNNEEDED, same version exists in internal repository
tokay2 Windows Server 2012 R2 Standard / x64  OK  ERROR  skipped  skipped 
riesling1 Windows Server 2019 Standard / x64  OK  OK  OK  OK 
machv2 macOS 10.14.6 Mojave / x86_64  OK  ERROR  skipped  skipped 
Package 102/1907HostnameOS / ArchINSTALLBUILDCHECKBUILD BIN
AWFisher 1.5.0
Zhiguang Huo
Last Commit: 71f2e97
Last Changed Date: 2020-10-27 11:47:23 -0500
malbec2 Linux (Ubuntu 20.04.1 LTS) / x86_64  OK  OK  OK UNNEEDED, same version exists in internal repository
tokay2 Windows Server 2012 R2 Standard / x64  OK  OK  OK  OK UNNEEDED, same version exists in internal repository
riesling1 Windows Server 2019 Standard / x64  OK  OK  OK  OK 
machv2 macOS 10.14.6 Mojave / x86_64  OK  OK  OK  OK UNNEEDED, same version exists in internal repository
B
ABCDEFGHIJKLMNOPQRSTUVWXYZ
Package 103/1907HostnameOS / ArchINSTALLBUILDCHECKBUILD BIN
BaalChIP 1.17.0
Ines de Santiago
Last Commit: e913dd3
Last Changed Date: 2020-10-27 11:17:44 -0500
malbec2 Linux (Ubuntu 20.04.1 LTS) / x86_64  OK  OK  WARNINGS UNNEEDED, same version exists in internal repository
tokay2 Windows Server 2012 R2 Standard / x64  OK  OK  WARNINGS  OK UNNEEDED, same version exists in internal repository
riesling1 Windows Server 2019 Standard / x64  OK  OK  WARNINGS  OK 
machv2 macOS 10.14.6 Mojave / x86_64  OK  OK  WARNINGS  OK UNNEEDED, same version exists in internal repository
Package 104/1907HostnameOS / ArchINSTALLBUILDCHECKBUILD BIN
BAC 1.51.0
Raphael Gottardo
Last Commit: 081ddff
Last Changed Date: 2020-10-27 10:32:43 -0500
malbec2 Linux (Ubuntu 20.04.1 LTS) / x86_64  OK  OK  OK UNNEEDED, same version exists in internal repository
tokay2 Windows Server 2012 R2 Standard / x64  OK  OK  OK  OK UNNEEDED, same version exists in internal repository
riesling1 Windows Server 2019 Standard / x64  OK  OK  OK  OK 
machv2 macOS 10.14.6 Mojave / x86_64  OK  OK  OK  OK UNNEEDED, same version exists in internal repository
Package 105/1907HostnameOS / ArchINSTALLBUILDCHECKBUILD BIN
bacon 1.19.0
Maarten van Iterson
Last Commit: 6fd6171
Last Changed Date: 2020-10-27 11:12:21 -0500
malbec2 Linux (Ubuntu 20.04.1 LTS) / x86_64  OK  OK  OK UNNEEDED, same version exists in internal repository
tokay2 Windows Server 2012 R2 Standard / x64  OK  OK  OK  OK UNNEEDED, same version exists in internal repository
riesling1 Windows Server 2019 Standard / x64  OK  OK  OK  OK 
machv2 macOS 10.14.6 Mojave / x86_64  OK  OK  OK  OK UNNEEDED, same version exists in internal repository
Package 106/1907HostnameOS / ArchINSTALLBUILDCHECKBUILD BIN
BADER 1.29.0
Andreas Neudecker
Last Commit: af4c6cf
Last Changed Date: 2020-10-27 10:52:38 -0500
malbec2 Linux (Ubuntu 20.04.1 LTS) / x86_64  OK  OK  OK UNNEEDED, same version exists in internal repository
tokay2 Windows Server 2012 R2 Standard / x64  OK  OK  OK  OK UNNEEDED, same version exists in internal repository
riesling1 Windows Server 2019 Standard / x64  OK  OK  OK  OK 
machv2 macOS 10.14.6 Mojave / x86_64  OK  OK  OK  OK UNNEEDED, same version exists in internal repository
Package 107/1907HostnameOS / ArchINSTALLBUILDCHECKBUILD BIN
BadRegionFinder 1.19.0
Sarah Sandmann
Last Commit: 3325649
Last Changed Date: 2020-10-27 11:13:27 -0500
malbec2 Linux (Ubuntu 20.04.1 LTS) / x86_64  OK  OK  OK UNNEEDED, same version exists in internal repository
tokay2 Windows Server 2012 R2 Standard / x64  OK  OK  OK  OK UNNEEDED, same version exists in internal repository
riesling1 Windows Server 2019 Standard / x64  OK  OK  OK  OK 
machv2 macOS 10.14.6 Mojave / x86_64  OK  OK  OK  OK UNNEEDED, same version exists in internal repository
Package 108/1907HostnameOS / ArchINSTALLBUILDCHECKBUILD BIN
BAGS 2.31.0
Alejandro Quiroz-Zarate
Last Commit: 4629bd8
Last Changed Date: 2020-10-27 10:44:28 -0500
malbec2 Linux (Ubuntu 20.04.1 LTS) / x86_64  OK  OK  OK UNNEEDED, same version exists in internal repository
tokay2 Windows Server 2012 R2 Standard / x64  OK  OK  OK  OK UNNEEDED, same version exists in internal repository
riesling1 Windows Server 2019 Standard / x64  OK  OK  OK  OK 
machv2 macOS 10.14.6 Mojave / x86_64  OK  OK  OK  OK UNNEEDED, same version exists in internal repository
Package 109/1907HostnameOS / ArchINSTALLBUILDCHECKBUILD BIN
ballgown 2.23.0
Jack Fu
Last Commit: df8c9d9
Last Changed Date: 2020-10-27 10:57:50 -0500
malbec2 Linux (Ubuntu 20.04.1 LTS) / x86_64  OK  OK  OK UNNEEDED, same version exists in internal repository
tokay2 Windows Server 2012 R2 Standard / x64  OK  OK  WARNINGS  OK UNNEEDED, same version exists in internal repository
riesling1 Windows Server 2019 Standard / x64  OK  OK  WARNINGS  OK 
machv2 macOS 10.14.6 Mojave / x86_64  OK  OK  OK  OK UNNEEDED, same version exists in internal repository
Package 110/1907HostnameOS / ArchINSTALLBUILDCHECKBUILD BIN
bambu 1.1.2
Ying Chen
Last Commit: a5228ce
Last Changed Date: 2020-11-10 05:27:49 -0500
malbec2 Linux (Ubuntu 20.04.1 LTS) / x86_64  OK  OK  OK UNNEEDED, same version exists in internal repository
tokay2 Windows Server 2012 R2 Standard / x64  OK  OK  OK  OK UNNEEDED, same version exists in internal repository
riesling1 Windows Server 2019 Standard / x64  OK  OK  OK  OK 
machv2 macOS 10.14.6 Mojave / x86_64  OK  OK  OK  OK UNNEEDED, same version exists in internal repository
Package 111/1907HostnameOS / ArchINSTALLBUILDCHECKBUILD BIN
bamsignals 1.23.0
Johannes Helmuth
Last Commit: 59d71d0
Last Changed Date: 2020-10-27 11:03:29 -0500
malbec2 Linux (Ubuntu 20.04.1 LTS) / x86_64  OK  OK  OK UNNEEDED, same version exists in internal repository
tokay2 Windows Server 2012 R2 Standard / x64  OK  OK  OK  OK UNNEEDED, same version exists in internal repository
riesling1 Windows Server 2019 Standard / x64  OK  OK  OK  OK 
machv2 macOS 10.14.6 Mojave / x86_64  OK  OK  OK  OK UNNEEDED, same version exists in internal repository
Package 112/1907HostnameOS / ArchINSTALLBUILDCHECKBUILD BIN
BANDITS 1.7.0
Simone Tiberi
Last Commit: e9b6d9d
Last Changed Date: 2020-10-27 11:44:55 -0500
malbec2 Linux (Ubuntu 20.04.1 LTS) / x86_64  OK  OK  OK UNNEEDED, same version exists in internal repository
tokay2 Windows Server 2012 R2 Standard / x64  OK  OK  OK  OK UNNEEDED, same version exists in internal repository
riesling1 Windows Server 2019 Standard / x64  OK  OK  OK  OK 
machv2 macOS 10.14.6 Mojave / x86_64  OK  OK  OK  OK UNNEEDED, same version exists in internal repository
Package 113/1907HostnameOS / ArchINSTALLBUILDCHECKBUILD BIN
banocc 1.15.0
George Weingart
Last Commit: 4c0f7d7
Last Changed Date: 2020-10-27 11:23:12 -0500
malbec2 Linux (Ubuntu 20.04.1 LTS) / x86_64  OK  OK  OK UNNEEDED, same version exists in internal repository
tokay2 Windows Server 2012 R2 Standard / x64  OK  ERROR  skipped  skipped 
riesling1 Windows Server 2019 Standard / x64  OK  ERROR  skipped  skipped 
machv2 macOS 10.14.6 Mojave / x86_64  OK  OK  OK  OK UNNEEDED, same version exists in internal repository
Package 114/1907HostnameOS / ArchINSTALLBUILDCHECKBUILD BIN
basecallQC 1.15.0
Thomas Carroll
Last Commit: 076ec76
Last Changed Date: 2020-10-27 11:23:18 -0500
malbec2 Linux (Ubuntu 20.04.1 LTS) / x86_64  OK  OK  OK UNNEEDED, same version exists in internal repository
tokay2 Windows Server 2012 R2 Standard / x64  OK  OK  WARNINGS  OK UNNEEDED, same version exists in internal repository
riesling1 Windows Server 2019 Standard / x64  OK  OK  WARNINGS  OK 
machv2 macOS 10.14.6 Mojave / x86_64  OK  OK  OK  OK UNNEEDED, same version exists in internal repository
Package 115/1907HostnameOS / ArchINSTALLBUILDCHECKBUILD BIN
BaseSpaceR 1.35.0
Jared O'Connell
Last Commit: f5864f7
Last Changed Date: 2020-10-27 10:49:55 -0500
malbec2 Linux (Ubuntu 20.04.1 LTS) / x86_64  OK  OK  OK UNNEEDED, same version exists in internal repository
tokay2 Windows Server 2012 R2 Standard / x64  OK  OK  WARNINGS  OK UNNEEDED, same version exists in internal repository
riesling1 Windows Server 2019 Standard / x64  OK  OK  WARNINGS  OK 
machv2 macOS 10.14.6 Mojave / x86_64  OK  OK  OK  OK UNNEEDED, same version exists in internal repository
Package 116/1907HostnameOS / ArchINSTALLBUILDCHECKBUILD BIN
Basic4Cseq 1.27.0
Carolin Walter
Last Commit: 20a204e
Last Changed Date: 2020-10-27 10:55:12 -0500
malbec2 Linux (Ubuntu 20.04.1 LTS) / x86_64  OK  OK  OK UNNEEDED, same version exists in internal repository
tokay2 Windows Server 2012 R2 Standard / x64  OK  OK  WARNINGS  OK UNNEEDED, same version exists in internal repository
riesling1 Windows Server 2019 Standard / x64  OK  OK  WARNINGS  OK 
machv2 macOS 10.14.6 Mojave / x86_64  OK  OK  OK  OK UNNEEDED, same version exists in internal repository
Package 117/1907HostnameOS / ArchINSTALLBUILDCHECKBUILD BIN
BASiCS 2.3.0
Catalina Vallejos
Last Commit: 6c05c4c
Last Changed Date: 2020-10-27 11:28:04 -0500
malbec2 Linux (Ubuntu 20.04.1 LTS) / x86_64  OK  OK  OK UNNEEDED, same version exists in internal repository
tokay2 Windows Server 2012 R2 Standard / x64  OK  OK  WARNINGS  OK UNNEEDED, same version exists in internal repository
riesling1 Windows Server 2019 Standard / x64  OK  OK  WARNINGS  OK 
machv2 macOS 10.14.6 Mojave / x86_64  OK  OK  OK  OK UNNEEDED, same version exists in internal repository
Package 118/1907HostnameOS / ArchINSTALLBUILDCHECKBUILD BIN
BasicSTARRseq 1.19.0
Annika Buerger
Last Commit: ff7887d
Last Changed Date: 2020-10-27 11:10:59 -0500
malbec2 Linux (Ubuntu 20.04.1 LTS) / x86_64  OK  OK  OK UNNEEDED, same version exists in internal repository
tokay2 Windows Server 2012 R2 Standard / x64  OK  OK  WARNINGS  OK UNNEEDED, same version exists in internal repository
riesling1 Windows Server 2019 Standard / x64  OK  OK  WARNINGS  OK 
machv2 macOS 10.14.6 Mojave / x86_64  OK  OK  OK  OK UNNEEDED, same version exists in internal repository
Package 119/1907HostnameOS / ArchINSTALLBUILDCHECKBUILD BIN
basilisk 1.3.0
Aaron Lun
Last Commit: 37198be
Last Changed Date: 2020-10-27 11:53:26 -0500
malbec2 Linux (Ubuntu 20.04.1 LTS) / x86_64  OK  OK  OK UNNEEDED, same version exists in internal repository
tokay2 Windows Server 2012 R2 Standard / x64  OK  OK  OK  OK UNNEEDED, same version exists in internal repository
riesling1 Windows Server 2019 Standard / x64  OK  OK  OK  OK 
machv2 macOS 10.14.6 Mojave / x86_64  OK  OK  OK  OK UNNEEDED, same version exists in internal repository
Package 120/1907HostnameOS / ArchINSTALLBUILDCHECKBUILD BIN
basilisk.utils 1.3.0
Aaron Lun
Last Commit: ff88bcb
Last Changed Date: 2020-10-27 11:53:41 -0500
malbec2 Linux (Ubuntu 20.04.1 LTS) / x86_64  OK  OK  OK UNNEEDED, same version exists in internal repository
tokay2 Windows Server 2012 R2 Standard / x64  OK  OK  OK  OK UNNEEDED, same version exists in internal repository
riesling1 Windows Server 2019 Standard / x64  OK  OK  OK  OK 
machv2 macOS 10.14.6 Mojave / x86_64  OK  OK  OK  OK UNNEEDED, same version exists in internal repository
Package 121/1907HostnameOS / ArchINSTALLBUILDCHECKBUILD BIN
batchelor 1.7.2
Aaron Lun
Last Commit: cdf0970
Last Changed Date: 2020-11-17 00:01:54 -0500
malbec2 Linux (Ubuntu 20.04.1 LTS) / x86_64  OK  OK  OK UNNEEDED, same version exists in internal repository
tokay2 Windows Server 2012 R2 Standard / x64  OK  OK  OK  OK UNNEEDED, same version exists in internal repository
riesling1 Windows Server 2019 Standard / x64  OK  OK  OK  OK 
machv2 macOS 10.14.6 Mojave / x86_64  OK  OK  OK  OK UNNEEDED, same version exists in internal repository
Package 122/1907HostnameOS / ArchINSTALLBUILDCHECKBUILD BIN
BatchQC 1.19.0
Solaiappan Manimaran
Last Commit: 57dec4d
Last Changed Date: 2020-10-27 11:13:49 -0500
malbec2 Linux (Ubuntu 20.04.1 LTS) / x86_64  OK  OK  OK UNNEEDED, same version exists in internal repository
tokay2 Windows Server 2012 R2 Standard / x64  OK  OK  OK  OK UNNEEDED, same version exists in internal repository
riesling1 Windows Server 2019 Standard / x64  OK  OK  OK  OK 
machv2 macOS 10.14.6 Mojave / x86_64  OK  OK  OK  OK UNNEEDED, same version exists in internal repository
Package 123/1907HostnameOS / ArchINSTALLBUILDCHECKBUILD BIN
BayesKnockdown 1.17.0
William Chad Young
Last Commit: cf686d4
Last Changed Date: 2020-10-27 11:16:44 -0500
malbec2 Linux (Ubuntu 20.04.1 LTS) / x86_64  OK  OK  OK UNNEEDED, same version exists in internal repository
tokay2 Windows Server 2012 R2 Standard / x64  OK  OK  OK  OK UNNEEDED, same version exists in internal repository
riesling1 Windows Server 2019 Standard / x64  OK  OK  OK  OK 
machv2 macOS 10.14.6 Mojave / x86_64  OK  OK  OK  OK UNNEEDED, same version exists in internal repository
Package 124/1907HostnameOS / ArchINSTALLBUILDCHECKBUILD BIN
BayesSpace 1.1.0
Matt Stone
Last Commit: 8f08b8e
Last Changed Date: 2020-10-27 12:02:12 -0500
malbec2 Linux (Ubuntu 20.04.1 LTS) / x86_64  OK  OK  OK UNNEEDED, same version exists in internal repository
tokay2 Windows Server 2012 R2 Standard / x64  OK  OK  OK  OK UNNEEDED, same version exists in internal repository
riesling1 Windows Server 2019 Standard / x64  OK  OK  OK  OK 
machv2 macOS 10.14.6 Mojave / x86_64  OK  OK  OK  OK UNNEEDED, same version exists in internal repository
Package 125/1907HostnameOS / ArchINSTALLBUILDCHECKBUILD BIN
bayNorm 1.9.0
Wenhao Tang
Last Commit: 9729223
Last Changed Date: 2020-10-27 11:39:35 -0500
malbec2 Linux (Ubuntu 20.04.1 LTS) / x86_64  OK  OK  OK UNNEEDED, same version exists in internal repository
tokay2 Windows Server 2012 R2 Standard / x64  OK  OK  OK  OK UNNEEDED, same version exists in internal repository
riesling1 Windows Server 2019 Standard / x64  OK  OK  OK  OK 
machv2 macOS 10.14.6 Mojave / x86_64  OK  OK  OK  OK UNNEEDED, same version exists in internal repository
Package 126/1907HostnameOS / ArchINSTALLBUILDCHECKBUILD BIN
baySeq 2.25.0
Thomas J. Hardcastle
Last Commit: 08d6e83
Last Changed Date: 2020-10-27 10:36:38 -0500
malbec2 Linux (Ubuntu 20.04.1 LTS) / x86_64  OK  OK  OK UNNEEDED, same version exists in internal repository
tokay2 Windows Server 2012 R2 Standard / x64  OK  OK  WARNINGS  OK UNNEEDED, same version exists in internal repository
riesling1 Windows Server 2019 Standard / x64  OK  OK  WARNINGS  OK 
machv2 macOS 10.14.6 Mojave / x86_64  OK  OK  OK  OK UNNEEDED, same version exists in internal repository
Package 127/1907HostnameOS / ArchINSTALLBUILDCHECKBUILD BIN
BBCAnalyzer 1.21.0
Sarah Sandmann
Last Commit: 24a6c8d
Last Changed Date: 2020-10-27 11:07:22 -0500
malbec2 Linux (Ubuntu 20.04.1 LTS) / x86_64  OK  OK  OK UNNEEDED, same version exists in internal repository
tokay2 Windows Server 2012 R2 Standard / x64  OK  OK  WARNINGS  OK UNNEEDED, same version exists in internal repository
riesling1 Windows Server 2019 Standard / x64  OK  OK  WARNINGS  OK 
machv2 macOS 10.14.6 Mojave / x86_64  OK  OK  OK  OK UNNEEDED, same version exists in internal repository
Package 128/1907HostnameOS / ArchINSTALLBUILDCHECKBUILD BIN
BCRANK 1.53.0
Adam Ameur
Last Commit: 2b0163a
Last Changed Date: 2020-10-27 10:32:55 -0500
malbec2 Linux (Ubuntu 20.04.1 LTS) / x86_64  OK  OK  OK UNNEEDED, same version exists in internal repository
tokay2 Windows Server 2012 R2 Standard / x64  OK  OK  OK  OK UNNEEDED, same version exists in internal repository
riesling1 Windows Server 2019 Standard / x64  OK  OK  OK  OK 
machv2 macOS 10.14.6 Mojave / x86_64  OK  OK  OK  OK UNNEEDED, same version exists in internal repository
Package 129/1907HostnameOS / ArchINSTALLBUILDCHECKBUILD BIN
bcSeq 1.13.0
Jiaxing Lin
Last Commit: 45fcdff
Last Changed Date: 2020-10-27 11:30:03 -0500
malbec2 Linux (Ubuntu 20.04.1 LTS) / x86_64  OK  OK  WARNINGS UNNEEDED, same version exists in internal repository
tokay2 Windows Server 2012 R2 Standard / x64  OK  OK  WARNINGS  OK UNNEEDED, same version exists in internal repository
riesling1 Windows Server 2019 Standard / x64  OK  OK  WARNINGS  OK 
machv2 macOS 10.14.6 Mojave / x86_64  OK  OK  OK  OK UNNEEDED, same version exists in internal repository
Package 130/1907HostnameOS / ArchINSTALLBUILDCHECKBUILD BIN
BDMMAcorrect 1.9.0
ZHENWEI DAI
Last Commit: 6daa323
Last Changed Date: 2020-10-27 11:40:39 -0500
malbec2 Linux (Ubuntu 20.04.1 LTS) / x86_64  OK  OK  OK UNNEEDED, same version exists in internal repository
tokay2 Windows Server 2012 R2 Standard / x64  OK  OK  OK  OK UNNEEDED, same version exists in internal repository
riesling1 Windows Server 2019 Standard / x64  OK  OK  OK  OK 
machv2 macOS 10.14.6 Mojave / x86_64  OK  OK  OK  OK UNNEEDED, same version exists in internal repository
Package 131/1907HostnameOS / ArchINSTALLBUILDCHECKBUILD BIN
beachmat 2.7.1
Aaron Lun
Last Commit: 2c37aeb
Last Changed Date: 2020-11-16 01:58:56 -0500
malbec2 Linux (Ubuntu 20.04.1 LTS) / x86_64  OK  OK  OK UNNEEDED, same version exists in internal repository
tokay2 Windows Server 2012 R2 Standard / x64  OK  OK  OK  OK UNNEEDED, same version exists in internal repository
riesling1 Windows Server 2019 Standard / x64  OK  OK  OK  OK 
machv2 macOS 10.14.6 Mojave / x86_64  OK  OK  OK  OK UNNEEDED, same version exists in internal repository
Package 132/1907HostnameOS / ArchINSTALLBUILDCHECKBUILD BIN
beadarray 2.41.0
Mark Dunning
Last Commit: 7ac051d
Last Changed Date: 2020-10-27 10:28:02 -0500
malbec2 Linux (Ubuntu 20.04.1 LTS) / x86_64  OK  OK  OK UNNEEDED, same version exists in internal repository
tokay2 Windows Server 2012 R2 Standard / x64  OK  OK  WARNINGS  OK UNNEEDED, same version exists in internal repository
riesling1 Windows Server 2019 Standard / x64  OK  OK  WARNINGS  OK 
machv2 macOS 10.14.6 Mojave / x86_64  OK  OK  OK  OK UNNEEDED, same version exists in internal repository
Package 133/1907HostnameOS / ArchINSTALLBUILDCHECKBUILD BIN
beadarraySNP 1.57.0
Jan Oosting
Last Commit: ad139f2
Last Changed Date: 2020-10-27 10:29:26 -0500
malbec2 Linux (Ubuntu 20.04.1 LTS) / x86_64  OK  OK  OK UNNEEDED, same version exists in internal repository
tokay2 Windows Server 2012 R2 Standard / x64  OK  OK  WARNINGS  OK UNNEEDED, same version exists in internal repository
riesling1 Windows Server 2019 Standard / x64  OK  OK  WARNINGS  OK 
machv2 macOS 10.14.6 Mojave / x86_64  OK  OK  OK  OK UNNEEDED, same version exists in internal repository
Package 134/1907HostnameOS / ArchINSTALLBUILDCHECKBUILD BIN
BeadDataPackR 1.43.0
Mike Smith
Last Commit: f31bb93
Last Changed Date: 2020-10-27 10:37:45 -0500
malbec2 Linux (Ubuntu 20.04.1 LTS) / x86_64  OK  OK  OK UNNEEDED, same version exists in internal repository
tokay2 Windows Server 2012 R2 Standard / x64  OK  OK  OK  OK UNNEEDED, same version exists in internal repository
riesling1 Windows Server 2019 Standard / x64  OK  OK  OK  OK 
machv2 macOS 10.14.6 Mojave / x86_64  OK  OK  OK  OK UNNEEDED, same version exists in internal repository
Package 135/1907HostnameOS / ArchINSTALLBUILDCHECKBUILD BIN
BEARscc 1.11.0
Benjamin Schuster-Boeckler
Last Commit: 9b9a2cb
Last Changed Date: 2020-10-27 11:31:46 -0500
malbec2 Linux (Ubuntu 20.04.1 LTS) / x86_64  OK  OK  OK UNNEEDED, same version exists in internal repository
tokay2 Windows Server 2012 R2 Standard / x64  OK  OK  OK  OK UNNEEDED, same version exists in internal repository
riesling1 Windows Server 2019 Standard / x64  OK  OK  OK  OK 
machv2 macOS 10.14.6 Mojave / x86_64  OK  OK  OK  OK UNNEEDED, same version exists in internal repository
Package 136/1907HostnameOS / ArchINSTALLBUILDCHECKBUILD BIN
BEAT 1.29.0
Kemal Akman
Last Commit: 0998ff3
Last Changed Date: 2020-10-27 10:54:23 -0500
malbec2 Linux (Ubuntu 20.04.1 LTS) / x86_64  OK  OK  OK UNNEEDED, same version exists in internal repository
tokay2 Windows Server 2012 R2 Standard / x64  OK  OK  OK  OK UNNEEDED, same version exists in internal repository
riesling1 Windows Server 2019 Standard / x64  OK  OK  OK  OK 
machv2 macOS 10.14.6 Mojave / x86_64  OK  OK  OK  OK UNNEEDED, same version exists in internal repository
Package 137/1907HostnameOS / ArchINSTALLBUILDCHECKBUILD BIN
BEclear 2.7.2
David Rasp
Last Commit: f827e3e
Last Changed Date: 2020-11-03 10:23:04 -0500
malbec2 Linux (Ubuntu 20.04.1 LTS) / x86_64  OK  OK  OK UNNEEDED, same version exists in internal repository
tokay2 Windows Server 2012 R2 Standard / x64  OK  OK  OK  OK UNNEEDED, same version exists in internal repository
riesling1 Windows Server 2019 Standard / x64  OK  OK  OK  OK 
machv2 macOS 10.14.6 Mojave / x86_64  OK  OK  OK  OK UNNEEDED, same version exists in internal repository
Package 138/1907HostnameOS / ArchINSTALLBUILDCHECKBUILD BIN
BgeeCall 1.7.1
Julien Wollbrett
Last Commit: e26530a
Last Changed Date: 2020-11-06 09:46:20 -0500
malbec2 Linux (Ubuntu 20.04.1 LTS) / x86_64  OK  OK  WARNINGS UNNEEDED, same version exists in internal repository
tokay2 Windows Server 2012 R2 Standard / x64  OK  OK  WARNINGS  OK UNNEEDED, same version exists in internal repository
riesling1 Windows Server 2019 Standard / x64  OK  OK  WARNINGS  OK 
machv2 macOS 10.14.6 Mojave / x86_64  OK  OK  WARNINGS  OK UNNEEDED, same version exists in internal repository
Package 139/1907HostnameOS / ArchINSTALLBUILDCHECKBUILD BIN
BgeeDB 2.17.0
Julien Wollbrett , Julien Roux , Andrea Komljenovic , Frederic Bastian
Last Commit: 79c2afc
Last Changed Date: 2020-10-27 11:14:01 -0500
malbec2 Linux (Ubuntu 20.04.1 LTS) / x86_64  OK  OK  ERROR 
tokay2 Windows Server 2012 R2 Standard / x64  OK  OK  TIMEOUT  OK 
riesling1 Windows Server 2019 Standard / x64  OK  OK  TIMEOUT  OK 
machv2 macOS 10.14.6 Mojave / x86_64  OK  OK  OK  OK UNNEEDED, same version exists in internal repository
Package 140/1907HostnameOS / ArchINSTALLBUILDCHECKBUILD BIN
BGmix 1.51.0
Alex Lewin
Last Commit: 90607b2
Last Changed Date: 2020-10-27 10:32:32 -0500
malbec2 Linux (Ubuntu 20.04.1 LTS) / x86_64  OK  OK  WARNINGS UNNEEDED, same version exists in internal repository
tokay2 Windows Server 2012 R2 Standard / x64 ...NOT SUPPORTED...
riesling1 Windows Server 2019 Standard / x64 ...NOT SUPPORTED...
machv2 macOS 10.14.6 Mojave / x86_64  OK  OK  OK  OK UNNEEDED, same version exists in internal repository
Package 141/1907HostnameOS / ArchINSTALLBUILDCHECKBUILD BIN
bgx 1.57.0
Ernest Turro
Last Commit: 775907e
Last Changed Date: 2020-10-27 10:31:16 -0500
malbec2 Linux (Ubuntu 20.04.1 LTS) / x86_64  OK  OK  OK UNNEEDED, same version exists in internal repository
tokay2 Windows Server 2012 R2 Standard / x64  OK  OK  OK  OK UNNEEDED, same version exists in internal repository
riesling1 Windows Server 2019 Standard / x64  OK  OK  OK  OK 
machv2 macOS 10.14.6 Mojave / x86_64  OK  OK  WARNINGS  OK UNNEEDED, same version exists in internal repository
Package 142/1907HostnameOS / ArchINSTALLBUILDCHECKBUILD BIN
BHC 1.43.0
Rich Savage
Last Commit: 22025b4
Last Changed Date: 2020-10-27 10:38:29 -0500
malbec2 Linux (Ubuntu 20.04.1 LTS) / x86_64  OK  OK  OK UNNEEDED, same version exists in internal repository
tokay2 Windows Server 2012 R2 Standard / x64  OK  OK  OK  OK UNNEEDED, same version exists in internal repository
riesling1 Windows Server 2019 Standard / x64  OK  OK  OK  OK 
machv2 macOS 10.14.6 Mojave / x86_64  OK  OK  OK  OK UNNEEDED, same version exists in internal repository
Package 143/1907HostnameOS / ArchINSTALLBUILDCHECKBUILD BIN
BicARE 1.49.0
Pierre Gestraud
Last Commit: 3ccb7b4
Last Changed Date: 2020-10-27 10:34:52 -0500
malbec2 Linux (Ubuntu 20.04.1 LTS) / x86_64  OK  OK  OK UNNEEDED, same version exists in internal repository
tokay2 Windows Server 2012 R2 Standard / x64  OK  OK  OK  OK UNNEEDED, same version exists in internal repository
riesling1 Windows Server 2019 Standard / x64  OK  OK  OK  OK 
machv2 macOS 10.14.6 Mojave / x86_64  OK  OK  OK  OK UNNEEDED, same version exists in internal repository
Package 144/1907HostnameOS / ArchINSTALLBUILDCHECKBUILD BIN
BiFET 1.11.0
Ahrim Youn
Last Commit: 3a9d223
Last Changed Date: 2020-10-27 11:31:12 -0500
malbec2 Linux (Ubuntu 20.04.1 LTS) / x86_64  OK  OK  OK UNNEEDED, same version exists in internal repository
tokay2 Windows Server 2012 R2 Standard / x64  OK  OK  OK  OK UNNEEDED, same version exists in internal repository
riesling1 Windows Server 2019 Standard / x64  OK  OK  OK  OK 
machv2 macOS 10.14.6 Mojave / x86_64  OK  OK  OK  OK UNNEEDED, same version exists in internal repository
Package 145/1907HostnameOS / ArchINSTALLBUILDCHECKBUILD BIN
BiGGR 1.27.0
Anand K. Gavai
Last Commit: 0a8aba5
Last Changed Date: 2020-10-27 10:52:29 -0500
malbec2 Linux (Ubuntu 20.04.1 LTS) / x86_64  OK  OK  WARNINGS UNNEEDED, same version exists in internal repository
tokay2 Windows Server 2012 R2 Standard / x64  OK  OK  WARNINGS  OK UNNEEDED, same version exists in internal repository
riesling1 Windows Server 2019 Standard / x64  OK  OK  WARNINGS  OK 
machv2 macOS 10.14.6 Mojave / x86_64 ...NOT SUPPORTED...
Package 146/1907HostnameOS / ArchINSTALLBUILDCHECKBUILD BIN
bigmelon 1.17.0
Tyler J. Gorrie-Stone
Last Commit: d3073ba
Last Changed Date: 2020-10-27 11:17:49 -0500
malbec2 Linux (Ubuntu 20.04.1 LTS) / x86_64  OK  OK  OK UNNEEDED, same version exists in internal repository
tokay2 Windows Server 2012 R2 Standard / x64  OK  OK  OK  OK UNNEEDED, same version exists in internal repository
riesling1 Windows Server 2019 Standard / x64  OK  OK  OK  OK 
machv2 macOS 10.14.6 Mojave / x86_64  OK  OK  OK  OK UNNEEDED, same version exists in internal repository
Package 147/1907HostnameOS / ArchINSTALLBUILDCHECKBUILD BIN
bigmemoryExtras 1.39.0
Peter M. Haverty
Last Commit: dbd1147
Last Changed Date: 2020-10-27 10:47:34 -0500
malbec2 Linux (Ubuntu 20.04.1 LTS) / x86_64  OK  OK  ERROR 
tokay2 Windows Server 2012 R2 Standard / x64 ...NOT SUPPORTED...
riesling1 Windows Server 2019 Standard / x64 ...NOT SUPPORTED...
machv2 macOS 10.14.6 Mojave / x86_64  OK  OK  ERROR  OK 
Package 148/1907HostnameOS / ArchINSTALLBUILDCHECKBUILD BIN
bigPint 1.7.0
Lindsay Rutter
Last Commit: efdc594
Last Changed Date: 2020-10-27 11:41:54 -0500
malbec2 Linux (Ubuntu 20.04.1 LTS) / x86_64  OK  OK  OK UNNEEDED, same version exists in internal repository
tokay2 Windows Server 2012 R2 Standard / x64  OK  OK  OK  OK UNNEEDED, same version exists in internal repository
riesling1 Windows Server 2019 Standard / x64  OK  OK  OK  OK 
machv2 macOS 10.14.6 Mojave / x86_64  OK  OK  OK  OK UNNEEDED, same version exists in internal repository
Package 149/1907HostnameOS / ArchINSTALLBUILDCHECKBUILD BIN
bioassayR 1.29.0
Tyler Backman
Last Commit: f6479fe
Last Changed Date: 2020-10-27 10:53:10 -0500
malbec2 Linux (Ubuntu 20.04.1 LTS) / x86_64  OK  ERROR  skipped 
tokay2 Windows Server 2012 R2 Standard / x64  OK  ERROR  skipped  skipped 
riesling1 Windows Server 2019 Standard / x64  OK  ERROR  skipped  skipped 
machv2 macOS 10.14.6 Mojave / x86_64  OK  ERROR  skipped  skipped 
Package 150/1907HostnameOS / ArchINSTALLBUILDCHECKBUILD BIN
Biobase 2.51.0
Bioconductor Package Maintainer
Last Commit: 4dd4294
Last Changed Date: 2020-10-27 10:21:30 -0500
malbec2 Linux (Ubuntu 20.04.1 LTS) / x86_64  OK  OK  OK UNNEEDED, same version exists in internal repository
tokay2 Windows Server 2012 R2 Standard / x64  OK  OK  WARNINGS  OK UNNEEDED, same version exists in internal repository
riesling1 Windows Server 2019 Standard / x64  OK  OK  WARNINGS  OK 
machv2 macOS 10.14.6 Mojave / x86_64  OK  OK  OK  OK UNNEEDED, same version exists in internal repository
Package 151/1907HostnameOS / ArchINSTALLBUILDCHECKBUILD BIN
biobroom 1.23.0
John D. Storey and Andrew J. Bass
Last Commit: 71fba46
Last Changed Date: 2020-10-27 11:09:12 -0500
malbec2 Linux (Ubuntu 20.04.1 LTS) / x86_64  OK  OK  WARNINGS UNNEEDED, same version exists in internal repository
tokay2 Windows Server 2012 R2 Standard / x64  OK  OK  WARNINGS  OK UNNEEDED, same version exists in internal repository
riesling1 Windows Server 2019 Standard / x64  OK  OK  WARNINGS  OK 
machv2 macOS 10.14.6 Mojave / x86_64  OK  OK  WARNINGS  OK UNNEEDED, same version exists in internal repository
Package 152/1907HostnameOS / ArchINSTALLBUILDCHECKBUILD BIN
biobtreeR 1.3.0
Tamer Gur
Last Commit: f2b3aa1
Last Changed Date: 2020-10-27 11:52:17 -0500
malbec2 Linux (Ubuntu 20.04.1 LTS) / x86_64  OK  OK  OK UNNEEDED, same version exists in internal repository
tokay2 Windows Server 2012 R2 Standard / x64  OK  OK  OK  OK UNNEEDED, same version exists in internal repository
riesling1 Windows Server 2019 Standard / x64  OK  OK  OK  OK 
machv2 macOS 10.14.6 Mojave / x86_64  OK  OK  OK  OK UNNEEDED, same version exists in internal repository
Package 153/1907HostnameOS / ArchINSTALLBUILDCHECKBUILD BIN
bioCancer 1.19.0
Karim Mezhoud
Last Commit: 9950615
Last Changed Date: 2020-10-27 11:15:00 -0500
malbec2 Linux (Ubuntu 20.04.1 LTS) / x86_64  OK  OK  WARNINGS UNNEEDED, same version exists in internal repository
tokay2 Windows Server 2012 R2 Standard / x64  OK  OK  WARNINGS  OK UNNEEDED, same version exists in internal repository
riesling1 Windows Server 2019 Standard / x64  OK  OK  WARNINGS  OK 
machv2 macOS 10.14.6 Mojave / x86_64  OK  OK  WARNINGS  OK UNNEEDED, same version exists in internal repository
Package 154/1907HostnameOS / ArchINSTALLBUILDCHECKBUILD BIN
BiocCaseStudies 1.53.0
Bioconductor Package Maintainer
Last Commit: 7cd08f4
Last Changed Date: 2020-10-27 10:32:29 -0500
malbec2 Linux (Ubuntu 20.04.1 LTS) / x86_64  OK  OK  ERROR 
tokay2 Windows Server 2012 R2 Standard / x64  OK  OK  ERROR  OK 
riesling1 Windows Server 2019 Standard / x64  OK  OK  ERROR  OK 
machv2 macOS 10.14.6 Mojave / x86_64  OK  OK  ERROR  OK 
Package 155/1907HostnameOS / ArchINSTALLBUILDCHECKBUILD BIN
BiocCheck 1.27.1
Bioconductor Package Maintainer
Last Commit: 3c11188
Last Changed Date: 2020-11-12 08:44:04 -0500
malbec2 Linux (Ubuntu 20.04.1 LTS) / x86_64  OK  OK  OK UNNEEDED, same version exists in internal repository
tokay2 Windows Server 2012 R2 Standard / x64  OK  OK  OK  OK UNNEEDED, same version exists in internal repository
riesling1 Windows Server 2019 Standard / x64  OK  OK  OK  OK 
machv2 macOS 10.14.6 Mojave / x86_64  OK  OK  OK  OK UNNEEDED, same version exists in internal repository
Package 156/1907HostnameOS / ArchINSTALLBUILDCHECKBUILD BIN
BiocDockerManager 1.3.0
Bioconductor Package Maintainer
Last Commit: 3c2134e
Last Changed Date: 2020-10-27 11:55:09 -0500
malbec2 Linux (Ubuntu 20.04.1 LTS) / x86_64  OK  OK  OK UNNEEDED, same version exists in internal repository
tokay2 Windows Server 2012 R2 Standard / x64  OK  OK  OK  OK UNNEEDED, same version exists in internal repository
riesling1 Windows Server 2019 Standard / x64  OK  OK  OK  OK 
machv2 macOS 10.14.6 Mojave / x86_64  OK  OK  OK  OK UNNEEDED, same version exists in internal repository
Package 157/1907HostnameOS / ArchINSTALLBUILDCHECKBUILD BIN
BiocFileCache 1.15.1
Lori Shepherd
Last Commit: 0685885
Last Changed Date: 2020-11-09 12:59:51 -0500
malbec2 Linux (Ubuntu 20.04.1 LTS) / x86_64  OK  OK  OK UNNEEDED, same version exists in internal repository
tokay2 Windows Server 2012 R2 Standard / x64  OK  OK  WARNINGS  OK UNNEEDED, same version exists in internal repository
riesling1 Windows Server 2019 Standard / x64  OK  OK  WARNINGS  OK 
machv2 macOS 10.14.6 Mojave / x86_64  OK  OK  OK  OK UNNEEDED, same version exists in internal repository
Package 158/1907HostnameOS / ArchINSTALLBUILDCHECKBUILD BIN
BiocGenerics 0.37.0
Bioconductor Package Maintainer
Last Commit: d24d8c6
Last Changed Date: 2020-10-27 10:44:05 -0500
malbec2 Linux (Ubuntu 20.04.1 LTS) / x86_64  OK  OK  WARNINGS UNNEEDED, same version exists in internal repository
tokay2 Windows Server 2012 R2 Standard / x64  OK  OK  WARNINGS  OK UNNEEDED, same version exists in internal repository
riesling1 Windows Server 2019 Standard / x64  OK  OK  WARNINGS  OK 
machv2 macOS 10.14.6 Mojave / x86_64  OK  OK  WARNINGS  OK UNNEEDED, same version exists in internal repository
Package 159/1907HostnameOS / ArchINSTALLBUILDCHECKBUILD BIN
biocGraph 1.53.0
Florian Hahne
Last Commit: 3b33d19
Last Changed Date: 2020-10-27 10:31:30 -0500
malbec2 Linux (Ubuntu 20.04.1 LTS) / x86_64  OK  OK  OK UNNEEDED, same version exists in internal repository
tokay2 Windows Server 2012 R2 Standard / x64  OK  OK  OK  OK UNNEEDED, same version exists in internal repository
riesling1 Windows Server 2019 Standard / x64  OK  OK  OK  OK 
machv2 macOS 10.14.6 Mojave / x86_64  OK  OK  OK  OK UNNEEDED, same version exists in internal repository
Package 160/1907HostnameOS / ArchINSTALLBUILDCHECKBUILD BIN
BiocIO 1.1.1
Bioconductor Package Maintainer
Last Commit: be74281
Last Changed Date: 2020-11-09 08:40:43 -0500
malbec2 Linux (Ubuntu 20.04.1 LTS) / x86_64  OK  OK  OK UNNEEDED, same version exists in internal repository
tokay2 Windows Server 2012 R2 Standard / x64  OK  OK  WARNINGS  OK UNNEEDED, same version exists in internal repository
riesling1 Windows Server 2019 Standard / x64  OK  OK  WARNINGS  OK 
machv2 macOS 10.14.6 Mojave / x86_64  OK  OK  OK  OK UNNEEDED, same version exists in internal repository
Package 161/1907HostnameOS / ArchINSTALLBUILDCHECKBUILD BIN
BiocNeighbors 1.9.2
Aaron Lun
Last Commit: af6c3c2
Last Changed Date: 2020-11-11 13:18:53 -0500
malbec2 Linux (Ubuntu 20.04.1 LTS) / x86_64  OK  OK  OK UNNEEDED, same version exists in internal repository
tokay2 Windows Server 2012 R2 Standard / x64  OK  OK  OK  OK UNNEEDED, same version exists in internal repository
riesling1 Windows Server 2019 Standard / x64  OK  OK  OK  OK 
machv2 macOS 10.14.6 Mojave / x86_64  OK  OK  OK  OK UNNEEDED, same version exists in internal repository
Package 162/1907HostnameOS / ArchINSTALLBUILDCHECKBUILD BIN
BiocOncoTK 1.11.0
VJ Carey
Last Commit: 340a6c7
Last Changed Date: 2020-10-27 11:35:12 -0500
malbec2 Linux (Ubuntu 20.04.1 LTS) / x86_64  OK  OK  OK UNNEEDED, same version exists in internal repository
tokay2 Windows Server 2012 R2 Standard / x64  OK  OK  WARNINGS  OK UNNEEDED, same version exists in internal repository
riesling1 Windows Server 2019 Standard / x64  OK  OK  WARNINGS  OK 
machv2 macOS 10.14.6 Mojave / x86_64  OK  OK  OK  OK UNNEEDED, same version exists in internal repository
Package 163/1907HostnameOS / ArchINSTALLBUILDCHECKBUILD BIN
BioCor 1.15.0
Lluís Revilla Sancho
Last Commit: 99dcacb
Last Changed Date: 2020-10-27 11:22:31 -0500
malbec2 Linux (Ubuntu 20.04.1 LTS) / x86_64  OK  OK  OK UNNEEDED, same version exists in internal repository
tokay2 Windows Server 2012 R2 Standard / x64  OK  OK  OK  OK UNNEEDED, same version exists in internal repository
riesling1 Windows Server 2019 Standard / x64  OK  OK  OK  OK 
machv2 macOS 10.14.6 Mojave / x86_64  OK  OK  OK  OK UNNEEDED, same version exists in internal repository
Package 164/1907HostnameOS / ArchINSTALLBUILDCHECKBUILD BIN
BiocParallel 1.25.1
Bioconductor Package Maintainer
Last Commit: b14f455
Last Changed Date: 2020-11-06 02:59:53 -0500
malbec2 Linux (Ubuntu 20.04.1 LTS) / x86_64  OK  OK  OK UNNEEDED, same version exists in internal repository
tokay2 Windows Server 2012 R2 Standard / x64  OK  OK  WARNINGS  OK UNNEEDED, same version exists in internal repository
riesling1 Windows Server 2019 Standard / x64  OK  OK  WARNINGS  OK 
machv2 macOS 10.14.6 Mojave / x86_64  OK  OK  OK  OK UNNEEDED, same version exists in internal repository
Package 165/1907HostnameOS / ArchINSTALLBUILDCHECKBUILD BIN
BiocPkgTools 1.9.0
Sean Davis
Last Commit: f344fcb
Last Changed Date: 2020-10-27 11:38:35 -0500
malbec2 Linux (Ubuntu 20.04.1 LTS) / x86_64  OK  OK  OK UNNEEDED, same version exists in internal repository
tokay2 Windows Server 2012 R2 Standard / x64  OK  OK  OK  OK UNNEEDED, same version exists in internal repository
riesling1 Windows Server 2019 Standard / x64  OK  OK  OK  OK 
machv2 macOS 10.14.6 Mojave / x86_64  OK  OK  OK  OK UNNEEDED, same version exists in internal repository
Package 166/1907HostnameOS / ArchINSTALLBUILDCHECKBUILD BIN
BiocSet 1.5.0
Kayla Morrell
Last Commit: c2a7d86
Last Changed Date: 2020-10-27 11:51:46 -0500
malbec2 Linux (Ubuntu 20.04.1 LTS) / x86_64  OK  OK  OK UNNEEDED, same version exists in internal repository
tokay2 Windows Server 2012 R2 Standard / x64  OK  OK  OK  OK UNNEEDED, same version exists in internal repository
riesling1 Windows Server 2019 Standard / x64  OK  OK  OK  OK 
machv2 macOS 10.14.6 Mojave / x86_64  OK  OK  OK  OK UNNEEDED, same version exists in internal repository
Package 167/1907HostnameOS / ArchINSTALLBUILDCHECKBUILD BIN
BiocSingular 1.7.0
Aaron Lun
Last Commit: bbc89e8
Last Changed Date: 2020-10-27 11:42:55 -0500
malbec2 Linux (Ubuntu 20.04.1 LTS) / x86_64  OK  OK  OK UNNEEDED, same version exists in internal repository
tokay2 Windows Server 2012 R2 Standard / x64  OK  OK  WARNINGS  OK UNNEEDED, same version exists in internal repository
riesling1 Windows Server 2019 Standard / x64  OK  OK  WARNINGS  OK 
machv2 macOS 10.14.6 Mojave / x86_64  OK  OK  OK  OK UNNEEDED, same version exists in internal repository
Package 168/1907HostnameOS / ArchINSTALLBUILDCHECKBUILD BIN
BiocSklearn 1.13.0
VJ Carey
Last Commit: 4be1d3c
Last Changed Date: 2020-10-27 11:26:17 -0500
malbec2 Linux (Ubuntu 20.04.1 LTS) / x86_64  OK  OK  OK UNNEEDED, same version exists in internal repository
tokay2 Windows Server 2012 R2 Standard / x64  OK  OK  OK  OK UNNEEDED, same version exists in internal repository
riesling1 Windows Server 2019 Standard / x64  OK  OK  OK  OK 
machv2 macOS 10.14.6 Mojave / x86_64  OK  OK  OK  OK UNNEEDED, same version exists in internal repository
Package 169/1907HostnameOS / ArchINSTALLBUILDCHECKBUILD BIN
BiocStyle 2.19.0
Bioconductor Package Maintainer
Last Commit: b87e6cf
Last Changed Date: 2020-10-27 10:51:28 -0500
malbec2 Linux (Ubuntu 20.04.1 LTS) / x86_64  OK  OK  OK UNNEEDED, same version exists in internal repository
tokay2 Windows Server 2012 R2 Standard / x64  OK  OK  OK  OK UNNEEDED, same version exists in internal repository
riesling1 Windows Server 2019 Standard / x64  OK  OK  OK  OK 
machv2 macOS 10.14.6 Mojave / x86_64  OK  OK  OK  OK UNNEEDED, same version exists in internal repository
Package 170/1907HostnameOS / ArchINSTALLBUILDCHECKBUILD BIN
biocthis 1.1.2
Leonardo Collado-Torres
Last Commit: 0d888cf
Last Changed Date: 2020-11-04 05:10:58 -0500
malbec2 Linux (Ubuntu 20.04.1 LTS) / x86_64  OK  ERROR  skipped 
tokay2 Windows Server 2012 R2 Standard / x64  OK  ERROR  skipped  skipped 
riesling1 Windows Server 2019 Standard / x64  OK  ERROR  skipped  skipped 
machv2 macOS 10.14.6 Mojave / x86_64  OK  ERROR  skipped  skipped 
Package 171/1907HostnameOS / ArchINSTALLBUILDCHECKBUILD BIN
BiocVersion 3.13.1
Bioconductor Package Maintainer
Last Commit: 3466413
Last Changed Date: 2020-10-27 13:48:38 -0500
malbec2 Linux (Ubuntu 20.04.1 LTS) / x86_64  OK  OK  OK UNNEEDED, same version exists in internal repository
tokay2 Windows Server 2012 R2 Standard / x64  OK  OK  OK  OK UNNEEDED, same version exists in internal repository
riesling1 Windows Server 2019 Standard / x64  OK  OK  OK  OK 
machv2 macOS 10.14.6 Mojave / x86_64  OK  OK  OK  OK UNNEEDED, same version exists in internal repository
Package 172/1907HostnameOS / ArchINSTALLBUILDCHECKBUILD BIN
biocViews 1.59.1
Bioconductor Package Maintainer
Last Commit: cfebd53
Last Changed Date: 2020-11-16 18:43:10 -0500
malbec2 Linux (Ubuntu 20.04.1 LTS) / x86_64  OK  OK  OK UNNEEDED, same version exists in internal repository
tokay2 Windows Server 2012 R2 Standard / x64  OK  OK  WARNINGS  OK UNNEEDED, same version exists in internal repository
riesling1 Windows Server 2019 Standard / x64  OK  OK  WARNINGS  OK 
machv2 macOS 10.14.6 Mojave / x86_64  OK  OK  OK  OK UNNEEDED, same version exists in internal repository
Package 173/1907HostnameOS / ArchINSTALLBUILDCHECKBUILD BIN
BiocWorkflowTools 1.17.0
Mike Smith
Last Commit: c3cb747
Last Changed Date: 2020-10-27 11:17:37 -0500
malbec2 Linux (Ubuntu 20.04.1 LTS) / x86_64  OK  OK  OK UNNEEDED, same version exists in internal repository
tokay2 Windows Server 2012 R2 Standard / x64  OK  OK  OK  OK UNNEEDED, same version exists in internal repository
riesling1 Windows Server 2019 Standard / x64  OK  OK  OK  OK 
machv2 macOS 10.14.6 Mojave / x86_64  OK  OK  OK  OK UNNEEDED, same version exists in internal repository
Package 174/1907HostnameOS / ArchINSTALLBUILDCHECKBUILD BIN
bioDist 1.63.0
Bioconductor Package Maintainer
Last Commit: 4094159
Last Changed Date: 2020-10-27 10:25:08 -0500
malbec2 Linux (Ubuntu 20.04.1 LTS) / x86_64  OK  OK  OK UNNEEDED, same version exists in internal repository
tokay2 Windows Server 2012 R2 Standard / x64  OK  OK  OK  OK UNNEEDED, same version exists in internal repository
riesling1 Windows Server 2019 Standard / x64  OK  OK  OK  OK 
machv2 macOS 10.14.6 Mojave / x86_64  OK  OK  OK  OK UNNEEDED, same version exists in internal repository
Package 175/1907HostnameOS / ArchINSTALLBUILDCHECKBUILD BIN
biomaRt 2.47.1
Mike Smith
Last Commit: 52635cc
Last Changed Date: 2020-11-10 04:30:57 -0500
malbec2 Linux (Ubuntu 20.04.1 LTS) / x86_64  OK  OK  OK UNNEEDED, same version exists in internal repository
tokay2 Windows Server 2012 R2 Standard / x64  OK  OK  OK  OK UNNEEDED, same version exists in internal repository
riesling1 Windows Server 2019 Standard / x64  OK  OK  OK  OK 
machv2 macOS 10.14.6 Mojave / x86_64  OK  OK  OK  OK UNNEEDED, same version exists in internal repository
Package 176/1907HostnameOS / ArchINSTALLBUILDCHECKBUILD BIN
biomformat 1.19.0
Paul J. McMurdie
Last Commit: 6a60f61
Last Changed Date: 2020-10-27 11:09:49 -0500
malbec2 Linux (Ubuntu 20.04.1 LTS) / x86_64  OK  OK  WARNINGS UNNEEDED, same version exists in internal repository
tokay2 Windows Server 2012 R2 Standard / x64  OK  OK  WARNINGS  OK UNNEEDED, same version exists in internal repository
riesling1 Windows Server 2019 Standard / x64  OK  OK  WARNINGS  OK 
machv2 macOS 10.14.6 Mojave / x86_64  OK  OK  WARNINGS  OK UNNEEDED, same version exists in internal repository
Package 177/1907HostnameOS / ArchINSTALLBUILDCHECKBUILD BIN
BioMM 1.7.0
Junfang Chen
Last Commit: 54374d6
Last Changed Date: 2020-10-27 11:42:47 -0500
malbec2 Linux (Ubuntu 20.04.1 LTS) / x86_64  OK  OK  OK UNNEEDED, same version exists in internal repository
tokay2 Windows Server 2012 R2 Standard / x64  OK  OK  OK  OK UNNEEDED, same version exists in internal repository
riesling1 Windows Server 2019 Standard / x64  OK  OK  OK  OK 
machv2 macOS 10.14.6 Mojave / x86_64  OK  OK  OK  OK UNNEEDED, same version exists in internal repository
Package 178/1907HostnameOS / ArchINSTALLBUILDCHECKBUILD BIN
BioMVCClass 1.59.0
Elizabeth Whalen
Last Commit: 6e3c245
Last Changed Date: 2020-10-27 10:29:17 -0500
malbec2 Linux (Ubuntu 20.04.1 LTS) / x86_64  OK  OK  OK UNNEEDED, same version exists in internal repository
tokay2 Windows Server 2012 R2 Standard / x64  OK  OK  WARNINGS  OK UNNEEDED, same version exists in internal repository
riesling1 Windows Server 2019 Standard / x64  OK  OK  WARNINGS  OK 
machv2 macOS 10.14.6 Mojave / x86_64  OK  OK  OK  OK UNNEEDED, same version exists in internal repository
Package 179/1907HostnameOS / ArchINSTALLBUILDCHECKBUILD BIN
biomvRCNS 1.31.0
Yang Du
Last Commit: fe6c819
Last Changed Date: 2020-10-27 10:49:21 -0500
malbec2 Linux (Ubuntu 20.04.1 LTS) / x86_64  OK  OK  OK UNNEEDED, same version exists in internal repository
tokay2 Windows Server 2012 R2 Standard / x64  OK  OK  OK  OK UNNEEDED, same version exists in internal repository
riesling1 Windows Server 2019 Standard / x64  OK  OK  OK  OK 
machv2 macOS 10.14.6 Mojave / x86_64  OK  OK  OK  OK UNNEEDED, same version exists in internal repository
Package 180/1907HostnameOS / ArchINSTALLBUILDCHECKBUILD BIN
BioNet 1.51.0
Marcus Dittrich
Last Commit: f599a6b
Last Changed Date: 2020-10-27 10:38:44 -0500
malbec2 Linux (Ubuntu 20.04.1 LTS) / x86_64  OK  OK  OK UNNEEDED, same version exists in internal repository
tokay2 Windows Server 2012 R2 Standard / x64  OK  OK  OK  OK UNNEEDED, same version exists in internal repository
riesling1 Windows Server 2019 Standard / x64  OK  OK  OK  OK 
machv2 macOS 10.14.6 Mojave / x86_64  OK  OK  OK  OK UNNEEDED, same version exists in internal repository
Package 181/1907HostnameOS / ArchINSTALLBUILDCHECKBUILD BIN
BioNetStat 1.11.0
Vinicius Jardim
Last Commit: 89eb9a9
Last Changed Date: 2020-10-27 11:34:54 -0500
malbec2 Linux (Ubuntu 20.04.1 LTS) / x86_64  OK  OK  ERROR 
tokay2 Windows Server 2012 R2 Standard / x64  OK  OK  ERROR  OK 
riesling1 Windows Server 2019 Standard / x64  OK  OK  ERROR  OK 
machv2 macOS 10.14.6 Mojave / x86_64  OK  OK  ERROR  OK 
Package 182/1907HostnameOS / ArchINSTALLBUILDCHECKBUILD BIN
BioQC 1.19.0
Jitao David Zhang
Last Commit: 12eb373
Last Changed Date: 2020-10-27 11:09:47 -0500
malbec2 Linux (Ubuntu 20.04.1 LTS) / x86_64  OK  OK  OK UNNEEDED, same version exists in internal repository
tokay2 Windows Server 2012 R2 Standard / x64  OK  OK  WARNINGS  OK UNNEEDED, same version exists in internal repository
riesling1 Windows Server 2019 Standard / x64  OK  OK  WARNINGS  OK 
machv2 macOS 10.14.6 Mojave / x86_64  OK  OK  OK  OK UNNEEDED, same version exists in internal repository
Package 183/1907HostnameOS / ArchINSTALLBUILDCHECKBUILD BIN
biosigner 1.19.2
Philippe Rinaudo , Etienne Thevenot
Last Commit: 1c02b2d
Last Changed Date: 2020-11-18 10:20:45 -0500
malbec2 Linux (Ubuntu 20.04.1 LTS) / x86_64  OK  OK  OK UNNEEDED, same version exists in internal repository
tokay2 Windows Server 2012 R2 Standard / x64  OK  OK  OK  OK UNNEEDED, same version exists in internal repository
riesling1 Windows Server 2019 Standard / x64  OK  OK  OK  OK 
machv2 macOS 10.14.6 Mojave / x86_64  OK  OK  OK  OK UNNEEDED, same version exists in internal repository
Package 184/1907HostnameOS / ArchINSTALLBUILDCHECKBUILD BIN
Biostrings 2.59.0
H. Pagès
Last Commit: cb171e6
Last Changed Date: 2020-11-03 01:03:46 -0500
malbec2 Linux (Ubuntu 20.04.1 LTS) / x86_64  OK  OK  WARNINGS UNNEEDED, same version exists in internal repository
tokay2 Windows Server 2012 R2 Standard / x64  OK  OK  WARNINGS  OK UNNEEDED, same version exists in internal repository
riesling1 Windows Server 2019 Standard / x64  OK  OK  WARNINGS  OK 
machv2 macOS 10.14.6 Mojave / x86_64  OK  OK  WARNINGS  OK UNNEEDED, same version exists in internal repository
Package 185/1907HostnameOS / ArchINSTALLBUILDCHECKBUILD BIN
BioTIP 1.5.0
Yuxi (Jennifer) Sun , Zhezhen Wang , and X Holly Yang
Last Commit: 53a38c6
Last Changed Date: 2020-10-27 11:49:44 -0500
malbec2 Linux (Ubuntu 20.04.1 LTS) / x86_64  OK  OK  WARNINGS UNNEEDED, same version exists in internal repository
tokay2 Windows Server 2012 R2 Standard / x64  OK  OK  WARNINGS  OK UNNEEDED, same version exists in internal repository
riesling1 Windows Server 2019 Standard / x64  OK  OK  WARNINGS  OK 
machv2 macOS 10.14.6 Mojave / x86_64  OK  OK  WARNINGS  OK UNNEEDED, same version exists in internal repository
Package 186/1907HostnameOS / ArchINSTALLBUILDCHECKBUILD BIN
biotmle 1.15.0
Nima Hejazi
Last Commit: 368e409
Last Changed Date: 2020-10-27 11:23:45 -0500
malbec2 Linux (Ubuntu 20.04.1 LTS) / x86_64  OK  OK  OK UNNEEDED, same version exists in internal repository
tokay2 Windows Server 2012 R2 Standard / x64  OK  OK  OK  OK UNNEEDED, same version exists in internal repository
riesling1 Windows Server 2019 Standard / x64  OK  OK  OK  OK 
machv2 macOS 10.14.6 Mojave / x86_64  OK  OK  OK  OK UNNEEDED, same version exists in internal repository
Package 187/1907HostnameOS / ArchINSTALLBUILDCHECKBUILD BIN
biovizBase 1.39.0
Michael Lawrence
Last Commit: 22453e6
Last Changed Date: 2020-10-27 10:43:03 -0500
malbec2 Linux (Ubuntu 20.04.1 LTS) / x86_64  OK  OK  WARNINGS UNNEEDED, same version exists in internal repository
tokay2 Windows Server 2012 R2 Standard / x64  OK  OK  WARNINGS  OK UNNEEDED, same version exists in internal repository
riesling1 Windows Server 2019 Standard / x64  OK  OK  WARNINGS  OK 
machv2 macOS 10.14.6 Mojave / x86_64  OK  OK  WARNINGS  OK UNNEEDED, same version exists in internal repository
Package 188/1907HostnameOS / ArchINSTALLBUILDCHECKBUILD BIN
BiRewire 3.23.0
Andrea Gobbi
Last Commit: a8d8e73
Last Changed Date: 2020-10-27 10:52:47 -0500
malbec2 Linux (Ubuntu 20.04.1 LTS) / x86_64  OK  OK  WARNINGS UNNEEDED, same version exists in internal repository
tokay2 Windows Server 2012 R2 Standard / x64  OK  OK  WARNINGS  OK UNNEEDED, same version exists in internal repository
riesling1 Windows Server 2019 Standard / x64  OK  OK  WARNINGS  OK 
machv2 macOS 10.14.6 Mojave / x86_64  OK  OK  OK  OK UNNEEDED, same version exists in internal repository
Package 189/1907HostnameOS / ArchINSTALLBUILDCHECKBUILD BIN
biscuiteer 1.5.0
"Jacob Morrison"
Last Commit: 59120ba
Last Changed Date: 2020-10-27 11:50:52 -0500
malbec2 Linux (Ubuntu 20.04.1 LTS) / x86_64  OK  OK  WARNINGS UNNEEDED, same version exists in internal repository
tokay2 Windows Server 2012 R2 Standard / x64  OK  OK  WARNINGS  OK UNNEEDED, same version exists in internal repository
riesling1 Windows Server 2019 Standard / x64  OK  OK  WARNINGS  OK 
machv2 macOS 10.14.6 Mojave / x86_64  OK  OK  WARNINGS  OK UNNEEDED, same version exists in internal repository
Package 190/1907HostnameOS / ArchINSTALLBUILDCHECKBUILD BIN
BiSeq 1.31.0
Katja Hebestreit
Last Commit: 810f267
Last Changed Date: 2020-10-27 10:50:37 -0500
malbec2 Linux (Ubuntu 20.04.1 LTS) / x86_64  OK  OK  OK UNNEEDED, same version exists in internal repository
tokay2 Windows Server 2012 R2 Standard / x64  OK  OK  WARNINGS  OK UNNEEDED, same version exists in internal repository
riesling1 Windows Server 2019 Standard / x64  OK  OK  WARNINGS  OK 
machv2 macOS 10.14.6 Mojave / x86_64  OK  OK  OK  OK UNNEEDED, same version exists in internal repository
Package 191/1907HostnameOS / ArchINSTALLBUILDCHECKBUILD BIN
BitSeq 1.35.0
Antti Honkela , Panagiotis Papastamoulis
Last Commit: 14a6a43
Last Changed Date: 2020-10-27 10:45:25 -0500
malbec2 Linux (Ubuntu 20.04.1 LTS) / x86_64  OK  OK  ERROR 
tokay2 Windows Server 2012 R2 Standard / x64  OK  OK  ERROR  OK 
riesling1 Windows Server 2019 Standard / x64  OK  OK  ERROR  OK 
machv2 macOS 10.14.6 Mojave / x86_64  OK  OK  ERROR  OK 
Package 192/1907HostnameOS / ArchINSTALLBUILDCHECKBUILD BIN
blacksheepr 1.5.0
RugglesLab
Last Commit: ea733bc
Last Changed Date: 2020-10-27 11:50:16 -0500
malbec2 Linux (Ubuntu 20.04.1 LTS) / x86_64  OK  OK  OK UNNEEDED, same version exists in internal repository
tokay2 Windows Server 2012 R2 Standard / x64  OK  OK  OK  OK UNNEEDED, same version exists in internal repository
riesling1 Windows Server 2019 Standard / x64  OK  OK  OK  OK 
machv2 macOS 10.14.6 Mojave / x86_64  OK  OK  OK  OK UNNEEDED, same version exists in internal repository
Package 193/1907HostnameOS / ArchINSTALLBUILDCHECKBUILD BIN
blima 1.25.0
Vojtěch Kulvait
Last Commit: ac17992
Last Changed Date: 2020-10-27 10:56:49 -0500
malbec2 Linux (Ubuntu 20.04.1 LTS) / x86_64  OK  OK  WARNINGS UNNEEDED, same version exists in internal repository
tokay2 Windows Server 2012 R2 Standard / x64  OK  OK  WARNINGS  OK UNNEEDED, same version exists in internal repository
riesling1 Windows Server 2019 Standard / x64  OK  OK  WARNINGS  OK 
machv2 macOS 10.14.6 Mojave / x86_64  OK  OK  WARNINGS  OK UNNEEDED, same version exists in internal repository
Package 194/1907HostnameOS / ArchINSTALLBUILDCHECKBUILD BIN
BLMA 1.15.0
Hung Nguyen
Last Commit: adaa83a
Last Changed Date: 2020-10-27 11:23:48 -0500
malbec2 Linux (Ubuntu 20.04.1 LTS) / x86_64  OK  OK  OK UNNEEDED, same version exists in internal repository
tokay2 Windows Server 2012 R2 Standard / x64  OK  OK  OK  OK UNNEEDED, same version exists in internal repository
riesling1 Windows Server 2019 Standard / x64  OK  OK  OK  OK 
machv2 macOS 10.14.6 Mojave / x86_64  OK  OK  OK  OK UNNEEDED, same version exists in internal repository
Package 195/1907HostnameOS / ArchINSTALLBUILDCHECKBUILD BIN
bluster 1.1.0
Aaron Lun
Last Commit: a39a539
Last Changed Date: 2020-10-27 11:58:59 -0500
malbec2 Linux (Ubuntu 20.04.1 LTS) / x86_64  OK  OK  OK UNNEEDED, same version exists in internal repository
tokay2 Windows Server 2012 R2 Standard / x64  OK  OK  WARNINGS  OK UNNEEDED, same version exists in internal repository
riesling1 Windows Server 2019 Standard / x64  OK  OK  WARNINGS  OK 
machv2 macOS 10.14.6 Mojave / x86_64  OK  OK  OK  OK UNNEEDED, same version exists in internal repository
Package 196/1907HostnameOS / ArchINSTALLBUILDCHECKBUILD BIN
bnbc 1.13.0
Kipper Fletez-Brant
Last Commit: 6fe4a4d
Last Changed Date: 2020-10-27 11:28:47 -0500
malbec2 Linux (Ubuntu 20.04.1 LTS) / x86_64  OK  OK  OK UNNEEDED, same version exists in internal repository
tokay2 Windows Server 2012 R2 Standard / x64  OK  OK  WARNINGS  OK UNNEEDED, same version exists in internal repository
riesling1 Windows Server 2019 Standard / x64  OK  OK  WARNINGS  OK 
machv2 macOS 10.14.6 Mojave / x86_64  OK  OK  OK  OK UNNEEDED, same version exists in internal repository
Package 197/1907HostnameOS / ArchINSTALLBUILDCHECKBUILD BIN
BPRMeth 1.17.0
Chantriolnt-Andreas Kapourani
Last Commit: eac8a8b
Last Changed Date: 2020-10-27 11:19:30 -0500
malbec2 Linux (Ubuntu 20.04.1 LTS) / x86_64  OK  OK  OK UNNEEDED, same version exists in internal repository
tokay2 Windows Server 2012 R2 Standard / x64  OK  OK  OK  OK UNNEEDED, same version exists in internal repository
riesling1 Windows Server 2019 Standard / x64  OK  OK  OK  OK 
machv2 macOS 10.14.6 Mojave / x86_64  OK  OK  OK  OK UNNEEDED, same version exists in internal repository
Package 198/1907HostnameOS / ArchINSTALLBUILDCHECKBUILD BIN
BRAIN 1.37.0
Piotr Dittwald
Last Commit: c8c2d61
Last Changed Date: 2020-10-27 10:45:00 -0500
malbec2 Linux (Ubuntu 20.04.1 LTS) / x86_64  OK  OK  WARNINGS UNNEEDED, same version exists in internal repository
tokay2 Windows Server 2012 R2 Standard / x64  OK  OK  WARNINGS  OK UNNEEDED, same version exists in internal repository
riesling1 Windows Server 2019 Standard / x64  OK  OK  WARNINGS  OK 
machv2 macOS 10.14.6 Mojave / x86_64  OK  OK  WARNINGS  OK UNNEEDED, same version exists in internal repository
Package 199/1907HostnameOS / ArchINSTALLBUILDCHECKBUILD BIN
brainflowprobes 1.5.0
Amanda Price
Last Commit: 9888dd6
Last Changed Date: 2020-10-27 11:51:30 -0500
malbec2 Linux (Ubuntu 20.04.1 LTS) / x86_64  OK  ERROR  skipped 
tokay2 Windows Server 2012 R2 Standard / x64  OK  ERROR  skipped  skipped 
riesling1 Windows Server 2019 Standard / x64  OK  ERROR  skipped  skipped 
machv2 macOS 10.14.6 Mojave / x86_64  OK  ERROR  skipped  skipped 
Package 200/1907HostnameOS / ArchINSTALLBUILDCHECKBUILD BIN
BrainSABER 1.1.0
USD Biomedical Engineering
Last Commit: 2810ba8
Last Changed Date: 2020-10-27 11:57:38 -0500
malbec2 Linux (Ubuntu 20.04.1 LTS) / x86_64  OK  OK  OK UNNEEDED, same version exists in internal repository
tokay2 Windows Server 2012 R2 Standard / x64  OK  OK  WARNINGS  OK UNNEEDED, same version exists in internal repository
riesling1 Windows Server 2019 Standard / x64  OK  OK  WARNINGS  OK 
machv2 macOS 10.14.6 Mojave / x86_64  OK  OK  OK  OK UNNEEDED, same version exists in internal repository
Package 201/1907HostnameOS / ArchINSTALLBUILDCHECKBUILD BIN
BrainStars 1.35.0
Itoshi NIKAIDO
Last Commit: 7a87bab
Last Changed Date: 2020-10-27 10:45:11 -0500
malbec2 Linux (Ubuntu 20.04.1 LTS) / x86_64  OK  OK  OK UNNEEDED, same version exists in internal repository
tokay2 Windows Server 2012 R2 Standard / x64  OK  OK  WARNINGS  OK UNNEEDED, same version exists in internal repository
riesling1 Windows Server 2019 Standard / x64  OK  OK  WARNINGS  OK 
machv2 macOS 10.14.6 Mojave / x86_64  OK  OK  OK  OK UNNEEDED, same version exists in internal repository
Package 202/1907HostnameOS / ArchINSTALLBUILDCHECKBUILD BIN
branchpointer 1.17.0
Beth Signal
Last Commit: 9c5c66d
Last Changed Date: 2020-10-27 11:22:25 -0500
malbec2 Linux (Ubuntu 20.04.1 LTS) / x86_64  OK  OK  OK UNNEEDED, same version exists in internal repository
tokay2 Windows Server 2012 R2 Standard / x64  OK  OK  OK  OK UNNEEDED, same version exists in internal repository
riesling1 Windows Server 2019 Standard / x64  OK  OK  OK  OK 
machv2 macOS 10.14.6 Mojave / x86_64  OK  OK  OK  OK UNNEEDED, same version exists in internal repository
Package 203/1907HostnameOS / ArchINSTALLBUILDCHECKBUILD BIN
breakpointR 1.9.0
David Porubsky
Last Commit: af70ec2
Last Changed Date: 2020-10-27 11:38:49 -0500
malbec2 Linux (Ubuntu 20.04.1 LTS) / x86_64  OK  OK  OK UNNEEDED, same version exists in internal repository
tokay2 Windows Server 2012 R2 Standard / x64  OK  OK  WARNINGS  OK UNNEEDED, same version exists in internal repository
riesling1 Windows Server 2019 Standard / x64  OK  OK  WARNINGS  OK 
machv2 macOS 10.14.6 Mojave / x86_64  OK  OK  OK  OK UNNEEDED, same version exists in internal repository
Package 204/1907HostnameOS / ArchINSTALLBUILDCHECKBUILD BIN
brendaDb 1.5.0
Yi Zhou
Last Commit: 413f134
Last Changed Date: 2020-10-27 11:48:32 -0500
malbec2 Linux (Ubuntu 20.04.1 LTS) / x86_64  OK  OK  OK UNNEEDED, same version exists in internal repository
tokay2 Windows Server 2012 R2 Standard / x64  OK  OK  OK  OK UNNEEDED, same version exists in internal repository
riesling1 Windows Server 2019 Standard / x64  OK  OK  OK  OK 
machv2 macOS 10.14.6 Mojave / x86_64  OK  ERROR  skipped  skipped 
Package 205/1907HostnameOS / ArchINSTALLBUILDCHECKBUILD BIN
BRGenomics 1.3.0
Mike DeBerardine
Last Commit: 215a74e
Last Changed Date: 2020-10-27 11:54:54 -0500
malbec2 Linux (Ubuntu 20.04.1 LTS) / x86_64  OK  OK  OK UNNEEDED, same version exists in internal repository
tokay2 Windows Server 2012 R2 Standard / x64  OK  OK  OK  OK UNNEEDED, same version exists in internal repository
riesling1 Windows Server 2019 Standard / x64  OK  OK  OK  OK 
machv2 macOS 10.14.6 Mojave / x86_64  OK  OK  OK  OK UNNEEDED, same version exists in internal repository
Package 206/1907HostnameOS / ArchINSTALLBUILDCHECKBUILD BIN
bridge 1.55.0
Raphael Gottardo
Last Commit: d4adc22
Last Changed Date: 2020-10-27 10:26:08 -0500
malbec2 Linux (Ubuntu 20.04.1 LTS) / x86_64  OK  OK  WARNINGS UNNEEDED, same version exists in internal repository
tokay2 Windows Server 2012 R2 Standard / x64  OK  OK  WARNINGS  OK UNNEEDED, same version exists in internal repository
riesling1 Windows Server 2019 Standard / x64  OK  OK  WARNINGS  OK 
machv2 macOS 10.14.6 Mojave / x86_64  OK  OK  OK  OK UNNEEDED, same version exists in internal repository
Package 207/1907HostnameOS / ArchINSTALLBUILDCHECKBUILD BIN
BridgeDbR 2.1.1
Egon Willighagen
Last Commit: 1ed1d6b
Last Changed Date: 2020-10-27 13:04:59 -0500
malbec2 Linux (Ubuntu 20.04.1 LTS) / x86_64  OK  OK  OK UNNEEDED, same version exists in internal repository
tokay2 Windows Server 2012 R2 Standard / x64  OK  OK  OK  OK UNNEEDED, same version exists in internal repository
riesling1 Windows Server 2019 Standard / x64  OK  OK  OK  OK 
machv2 macOS 10.14.6 Mojave / x86_64  OK  OK  OK  OK UNNEEDED, same version exists in internal repository
Package 208/1907HostnameOS / ArchINSTALLBUILDCHECKBUILD BIN
BrowserViz 2.13.0
Paul Shannon
Last Commit: 0c07173
Last Changed Date: 2020-10-27 11:02:54 -0500
malbec2 Linux (Ubuntu 20.04.1 LTS) / x86_64  OK  OK  OK UNNEEDED, same version exists in internal repository
tokay2 Windows Server 2012 R2 Standard / x64  OK  OK  OK  OK UNNEEDED, same version exists in internal repository
riesling1 Windows Server 2019 Standard / x64  OK  OK  OK  OK 
machv2 macOS 10.14.6 Mojave / x86_64  OK  OK  OK  OK UNNEEDED, same version exists in internal repository
Package 209/1907HostnameOS / ArchINSTALLBUILDCHECKBUILD BIN
BSgenome 1.59.1
H. Pagès
Last Commit: d6821f6
Last Changed Date: 2020-11-16 23:07:24 -0500
malbec2 Linux (Ubuntu 20.04.1 LTS) / x86_64  OK  OK  WARNINGS UNNEEDED, same version exists in internal repository
tokay2 Windows Server 2012 R2 Standard / x64  OK  OK  WARNINGS  OK UNNEEDED, same version exists in internal repository
riesling1 Windows Server 2019 Standard / x64  OK  OK  WARNINGS  OK 
machv2 macOS 10.14.6 Mojave / x86_64  OK  OK  WARNINGS  OK UNNEEDED, same version exists in internal repository
Package 210/1907HostnameOS / ArchINSTALLBUILDCHECKBUILD BIN
bsseq 1.27.0
Kasper Daniel Hansen
Last Commit: e0089b4
Last Changed Date: 2020-10-27 10:46:25 -0500
malbec2 Linux (Ubuntu 20.04.1 LTS) / x86_64  OK  OK  OK UNNEEDED, same version exists in internal repository
tokay2 Windows Server 2012 R2 Standard / x64  OK  OK  WARNINGS  OK UNNEEDED, same version exists in internal repository
riesling1 Windows Server 2019 Standard / x64  OK  OK  WARNINGS  OK 
machv2 macOS 10.14.6 Mojave / x86_64  OK  OK  OK  OK UNNEEDED, same version exists in internal repository
Package 211/1907HostnameOS / ArchINSTALLBUILDCHECKBUILD BIN
BubbleTree 2.21.0
Todd Creasy , Wei Zhu
Last Commit: 2f0e37d
Last Changed Date: 2020-10-27 11:02:36 -0500
malbec2 Linux (Ubuntu 20.04.1 LTS) / x86_64  OK  OK  OK UNNEEDED, same version exists in internal repository
tokay2 Windows Server 2012 R2 Standard / x64  OK  OK  WARNINGS  OK UNNEEDED, same version exists in internal repository
riesling1 Windows Server 2019 Standard / x64  OK  OK  WARNINGS  OK 
machv2 macOS 10.14.6 Mojave / x86_64  OK  OK  OK  OK UNNEEDED, same version exists in internal repository
Package 212/1907HostnameOS / ArchINSTALLBUILDCHECKBUILD BIN
BufferedMatrix 1.55.0
Ben Bolstad
Last Commit: 50ec20f
Last Changed Date: 2020-10-27 10:30:14 -0500
malbec2 Linux (Ubuntu 20.04.1 LTS) / x86_64  OK  OK  OK UNNEEDED, same version exists in internal repository
tokay2 Windows Server 2012 R2 Standard / x64  OK  OK  WARNINGS  OK UNNEEDED, same version exists in internal repository
riesling1 Windows Server 2019 Standard / x64  OK  OK  WARNINGS  OK 
machv2 macOS 10.14.6 Mojave / x86_64  OK  OK  WARNINGS  OK UNNEEDED, same version exists in internal repository
Package 213/1907HostnameOS / ArchINSTALLBUILDCHECKBUILD BIN
BufferedMatrixMethods 1.55.0
Ben Bolstad
Last Commit: dd269a8
Last Changed Date: 2020-10-27 10:30:18 -0500
malbec2 Linux (Ubuntu 20.04.1 LTS) / x86_64  OK  OK  OK UNNEEDED, same version exists in internal repository
tokay2 Windows Server 2012 R2 Standard / x64  OK  OK  OK  OK UNNEEDED, same version exists in internal repository
riesling1 Windows Server 2019 Standard / x64  OK  OK  OK  OK 
machv2 macOS 10.14.6 Mojave / x86_64  OK  OK  OK  OK UNNEEDED, same version exists in internal repository
Package 214/1907HostnameOS / ArchINSTALLBUILDCHECKBUILD BIN
BUMHMM 1.15.0
Alina Selega
Last Commit: 0f0787e
Last Changed Date: 2020-10-27 11:20:05 -0500
malbec2 Linux (Ubuntu 20.04.1 LTS) / x86_64  OK  OK  OK UNNEEDED, same version exists in internal repository
tokay2 Windows Server 2012 R2 Standard / x64  OK  OK  OK  OK UNNEEDED, same version exists in internal repository
riesling1 Windows Server 2019 Standard / x64  OK  OK  OK  OK 
machv2 macOS 10.14.6 Mojave / x86_64  OK  OK  OK  OK UNNEEDED, same version exists in internal repository
Package 215/1907HostnameOS / ArchINSTALLBUILDCHECKBUILD BIN
bumphunter 1.33.0
Rafael A. Irizarry
Last Commit: 70d65f5
Last Changed Date: 2020-10-27 10:48:20 -0500
malbec2 Linux (Ubuntu 20.04.1 LTS) / x86_64  OK  OK  ERROR 
tokay2 Windows Server 2012 R2 Standard / x64  OK  OK  ERROR  OK 
riesling1 Windows Server 2019 Standard / x64  OK  OK  ERROR  OK 
machv2 macOS 10.14.6 Mojave / x86_64  OK  OK  ERROR  OK 
Package 216/1907HostnameOS / ArchINSTALLBUILDCHECKBUILD BIN
BUS 1.47.0
Yuanhua Liu
Last Commit: 52e264b
Last Changed Date: 2020-10-27 10:36:02 -0500
malbec2 Linux (Ubuntu 20.04.1 LTS) / x86_64  OK  OK  OK UNNEEDED, same version exists in internal repository
tokay2 Windows Server 2012 R2 Standard / x64  OK  OK  OK  OK UNNEEDED, same version exists in internal repository
riesling1 Windows Server 2019 Standard / x64  OK  OK  OK  OK 
machv2 macOS 10.14.6 Mojave / x86_64  OK  OK  OK  OK UNNEEDED, same version exists in internal repository
Package 217/1907HostnameOS / ArchINSTALLBUILDCHECKBUILD BIN
BUScorrect 1.9.0
Xiangyu Luo
Last Commit: 537e1eb
Last Changed Date: 2020-10-27 11:38:02 -0500
malbec2 Linux (Ubuntu 20.04.1 LTS) / x86_64  OK  OK  OK UNNEEDED, same version exists in internal repository
tokay2 Windows Server 2012 R2 Standard / x64  OK  OK  OK  OK UNNEEDED, same version exists in internal repository
riesling1 Windows Server 2019 Standard / x64  OK  OK  OK  OK 
machv2 macOS 10.14.6 Mojave / x86_64  OK  OK  OK  OK UNNEEDED, same version exists in internal repository
Package 218/1907HostnameOS / ArchINSTALLBUILDCHECKBUILD BIN
BUSpaRse 1.5.0
Lambda Moses
Last Commit: 9d772b2
Last Changed Date: 2020-10-27 11:48:43 -0500
malbec2 Linux (Ubuntu 20.04.1 LTS) / x86_64  OK  ERROR  skipped 
tokay2 Windows Server 2012 R2 Standard / x64  OK  ERROR  skipped  skipped 
riesling1 Windows Server 2019 Standard / x64  OK  ERROR  skipped  skipped 
machv2 macOS 10.14.6 Mojave / x86_64  OK  ERROR  skipped  skipped 
C
ABCDEFGHIJKLMNOPQRSTUVWXYZ
Package 219/1907HostnameOS / ArchINSTALLBUILDCHECKBUILD BIN
CAFE 1.27.0
Sander Bollen
Last Commit: afe93d2
Last Changed Date: 2020-10-27 10:55:14 -0500
malbec2 Linux (Ubuntu 20.04.1 LTS) / x86_64  OK  OK  WARNINGS UNNEEDED, same version exists in internal repository
tokay2 Windows Server 2012 R2 Standard / x64  OK  OK  WARNINGS  OK UNNEEDED, same version exists in internal repository
riesling1 Windows Server 2019 Standard / x64  OK  OK  WARNINGS  OK 
machv2 macOS 10.14.6 Mojave / x86_64  OK  OK  WARNINGS  OK UNNEEDED, same version exists in internal repository
Package 220/1907HostnameOS / ArchINSTALLBUILDCHECKBUILD BIN
CAGEfightR 1.11.0
Malte Thodberg
Last Commit: 97f44a1
Last Changed Date: 2020-10-27 11:35:28 -0500
malbec2 Linux (Ubuntu 20.04.1 LTS) / x86_64  OK  OK  OK UNNEEDED, same version exists in internal repository
tokay2 Windows Server 2012 R2 Standard / x64  OK  OK  OK  OK UNNEEDED, same version exists in internal repository
riesling1 Windows Server 2019 Standard / x64  OK  OK  OK  OK 
machv2 macOS 10.14.6 Mojave / x86_64  OK  OK  OK  OK UNNEEDED, same version exists in internal repository
Package 221/1907HostnameOS / ArchINSTALLBUILDCHECKBUILD BIN
CAGEr 1.33.0
Vanja Haberle , Charles Plessy , Damir Baranasic , Sarvesh Nikumbh
Last Commit: 9dbb868
Last Changed Date: 2020-10-27 10:49:24 -0500
malbec2 Linux (Ubuntu 20.04.1 LTS) / x86_64  OK  OK  OK UNNEEDED, same version exists in internal repository
tokay2 Windows Server 2012 R2 Standard / x64  OK  OK  WARNINGS  OK UNNEEDED, same version exists in internal repository
riesling1 Windows Server 2019 Standard / x64  OK  OK  WARNINGS  OK 
machv2 macOS 10.14.6 Mojave / x86_64  OK  OK  OK  OK UNNEEDED, same version exists in internal repository
Package 222/1907HostnameOS / ArchINSTALLBUILDCHECKBUILD BIN
calm 1.5.0
Kun Liang
Last Commit: 5fcab3a
Last Changed Date: 2020-10-27 11:48:50 -0500
malbec2 Linux (Ubuntu 20.04.1 LTS) / x86_64  OK  OK  OK UNNEEDED, same version exists in internal repository
tokay2 Windows Server 2012 R2 Standard / x64  OK  OK  OK  OK UNNEEDED, same version exists in internal repository
riesling1 Windows Server 2019 Standard / x64  OK  OK  OK  OK 
machv2 macOS 10.14.6 Mojave / x86_64  OK  OK  OK  OK UNNEEDED, same version exists in internal repository
Package 223/1907HostnameOS / ArchINSTALLBUILDCHECKBUILD BIN
CAMERA 1.47.0
Steffen Neumann
Last Commit: f890e59
Last Changed Date: 2020-10-27 10:35:19 -0500
malbec2 Linux (Ubuntu 20.04.1 LTS) / x86_64  OK  OK  OK UNNEEDED, same version exists in internal repository
tokay2 Windows Server 2012 R2 Standard / x64  OK  OK  OK  OK UNNEEDED, same version exists in internal repository
riesling1 Windows Server 2019 Standard / x64  OK  OK  OK  OK 
machv2 macOS 10.14.6 Mojave / x86_64  OK  OK  OK  OK UNNEEDED, same version exists in internal repository
Package 224/1907HostnameOS / ArchINSTALLBUILDCHECKBUILD BIN
canceR 1.25.0
Karim Mezhoud
Last Commit: 6bdd61e
Last Changed Date: 2020-10-27 11:03:05 -0500
malbec2 Linux (Ubuntu 20.04.1 LTS) / x86_64  OK  OK  OK UNNEEDED, same version exists in internal repository
tokay2 Windows Server 2012 R2 Standard / x64  OK  OK  OK  OK UNNEEDED, same version exists in internal repository
riesling1 Windows Server 2019 Standard / x64  OK  OK  OK  OK 
machv2 macOS 10.14.6 Mojave / x86_64  OK  OK  OK  OK UNNEEDED, same version exists in internal repository
Package 225/1907HostnameOS / ArchINSTALLBUILDCHECKBUILD BIN
cancerclass 1.35.0
Daniel Kosztyla
Last Commit: 475ad1f
Last Changed Date: 2020-10-27 10:45:50 -0500
malbec2 Linux (Ubuntu 20.04.1 LTS) / x86_64  OK  OK  OK UNNEEDED, same version exists in internal repository
tokay2 Windows Server 2012 R2 Standard / x64  OK  OK  OK  OK UNNEEDED, same version exists in internal repository
riesling1 Windows Server 2019 Standard / x64  OK  OK  OK  OK 
machv2 macOS 10.14.6 Mojave / x86_64  OK  OK  WARNINGS  OK UNNEEDED, same version exists in internal repository
Package 226/1907HostnameOS / ArchINSTALLBUILDCHECKBUILD BIN
CancerInSilico 2.11.0
Thomas D. Sherman
Last Commit: 8d5f308
Last Changed Date: 2020-10-27 11:18:15 -0500
malbec2 Linux (Ubuntu 20.04.1 LTS) / x86_64  OK  OK  OK UNNEEDED, same version exists in internal repository
tokay2 Windows Server 2012 R2 Standard / x64  OK  OK  OK  OK UNNEEDED, same version exists in internal repository
riesling1 Windows Server 2019 Standard / x64  OK  OK  OK  OK 
machv2 macOS 10.14.6 Mojave / x86_64  OK  OK  OK  OK UNNEEDED, same version exists in internal repository
Package 227/1907HostnameOS / ArchINSTALLBUILDCHECKBUILD BIN
CancerMutationAnalysis 1.33.0
Simina M. Boca
Last Commit: a6c8edb
Last Changed Date: 2020-10-27 10:45:27 -0500
malbec2 Linux (Ubuntu 20.04.1 LTS) / x86_64  OK  OK  OK UNNEEDED, same version exists in internal repository
tokay2 </