Workflows build report for BioC 3.12

This page was generated on 2020-12-01 15:45:13 -0500 (Tue, 01 Dec 2020).

Approx. Package Snapshot Date (git pull): 2020-12-01 09:00:02 -0500 (Tue, 01 Dec 2020)

HostnameOSArch (*)Platform label (**)R versionInstalled pkgs
malbec1Linux (Ubuntu 18.04.4 LTS)x86_64x86_64-linux-gnu4.0.3 (2020-10-10) -- "Bunny-Wunnies Freak Out" 4023
nebbiolo1Linux (Ubuntu 20.04.1 LTS)x86_64x86_64-linux-gnu4.0.3 (2020-10-10) -- "Bunny-Wunnies Freak Out" 4015
Click on any hostname to see more info about the system (e.g. compilers)      (*) as reported by 'uname -p', except on Windows and Mac OS X      (**) as reported by 'gcc -v'

Package status is indicated by one of the following glyphs
 TIMEOUT  INSTALL or BUILD of package took more than 40 or 120 minutes, respectively Use the check boxes to show only packages with the selected status types.
 ERROR  Bad DESCRIPTION file or INSTALL or BUILD of package failed
 OK  INSTALL or BUILD of package was OK
 skipped  CHECK or BUILD BIN of package was skipped because the BUILD step failed
 NA  BUILD result is not available because of an anomaly in the Build System
Click on any glyph in the report below to access the detailed results.
Package propagation status is indicated by one of the following LEDs
YES YES: Package was propagated because it didn't previously exist or version was bumped
NO NO: Package was not propagated because of a problem (impossible dependencies, or version lower than what is already propagated)
UNNEEDED UNNEEDED: Package was not propagated because it is already in the repository with this version. A version bump is required in order to propagate it

A crossed-out package name indicates the package is deprecated


SUMMARYOS / ArchINSTALLBUILD
malbec1 Linux (Ubuntu 18.04.4 LTS) / x86_64 
0028
0424
nebbiolo1 Linux (Ubuntu 20.04.1 LTS) / x86_64 
0028
0523
Package 1/28HostnameOS / ArchINSTALLBUILD
annotation 1.14.0
Bioconductor Package Maintainer
Last Commit: d08f0d4
Last Changed Date: 2020-10-27 09:40:33 -0500
malbec1 Linux (Ubuntu 18.04.4 LTS) / x86_64  OK  OK UNNEEDED, same version exists in internal repository
nebbiolo1 Linux (Ubuntu 20.04.1 LTS) / x86_64  OK  OK 
Package 2/28HostnameOS / ArchINSTALLBUILD
arrays 1.16.0
Bioconductor Package Maintainer
Last Commit: 9f57a83
Last Changed Date: 2020-10-27 09:40:36 -0500
malbec1 Linux (Ubuntu 18.04.4 LTS) / x86_64  OK  OK UNNEEDED, same version exists in internal repository
nebbiolo1 Linux (Ubuntu 20.04.1 LTS) / x86_64  OK  OK 
Package 3/28HostnameOS / ArchINSTALLBUILD
BiocMetaWorkflow 1.12.0
Mike Smith
Last Commit: 1b7aaba
Last Changed Date: 2020-10-27 09:41:49 -0500
malbec1 Linux (Ubuntu 18.04.4 LTS) / x86_64  OK  OK UNNEEDED, same version exists in internal repository
nebbiolo1 Linux (Ubuntu 20.04.1 LTS) / x86_64  OK  OK 
Package 4/28HostnameOS / ArchINSTALLBUILD
BP4RNAseq 1.0.0
Shanwen Sun
Last Commit: 72a1ded
Last Changed Date: 2020-10-27 09:42:14 -0500
malbec1 Linux (Ubuntu 18.04.4 LTS) / x86_64  OK  OK UNNEEDED, same version exists in internal repository
nebbiolo1 Linux (Ubuntu 20.04.1 LTS) / x86_64  OK  OK 
Package 5/28HostnameOS / ArchINSTALLBUILD
CAGEWorkflow 1.6.0
Malte Thodberg
Last Commit: 2074466
Last Changed Date: 2020-10-27 09:42:06 -0500
malbec1 Linux (Ubuntu 18.04.4 LTS) / x86_64  OK  OK UNNEEDED, same version exists in internal repository
nebbiolo1 Linux (Ubuntu 20.04.1 LTS) / x86_64  OK  OK 
Package 6/28HostnameOS / ArchINSTALLBUILD
chipseqDB 1.14.0
Aaron Lun
Last Commit: c67ced7
Last Changed Date: 2020-10-27 09:40:40 -0500
malbec1 Linux (Ubuntu 18.04.4 LTS) / x86_64  OK  OK UNNEEDED, same version exists in internal repository
nebbiolo1 Linux (Ubuntu 20.04.1 LTS) / x86_64  OK  OK 
Package 7/28HostnameOS / ArchINSTALLBUILD
csawUsersGuide 1.6.0
Aaron Lun
Last Commit: 490fa38
Last Changed Date: 2020-10-27 09:41:59 -0500
malbec1 Linux (Ubuntu 18.04.4 LTS) / x86_64  OK  OK UNNEEDED, same version exists in internal repository
nebbiolo1 Linux (Ubuntu 20.04.1 LTS) / x86_64  OK  OK 
Package 8/28HostnameOS / ArchINSTALLBUILD
cytofWorkflow 1.14.0
Mark D. Robinson
Last Commit: 788b423
Last Changed Date: 2020-10-27 09:40:43 -0500
malbec1 Linux (Ubuntu 18.04.4 LTS) / x86_64  OK  OK UNNEEDED, same version exists in internal repository
nebbiolo1 Linux (Ubuntu 20.04.1 LTS) / x86_64  OK  OK 
Package 9/28HostnameOS / ArchINSTALLBUILD
EGSEA123 1.14.0
Matthew Ritchie
Last Commit: c0cec4e
Last Changed Date: 2020-10-27 09:40:47 -0500
malbec1 Linux (Ubuntu 18.04.4 LTS) / x86_64  OK  ERROR 
nebbiolo1 Linux (Ubuntu 20.04.1 LTS) / x86_64  OK  ERROR 
Package 10/28HostnameOS / ArchINSTALLBUILD
eQTL 1.14.0
Vincent Carey
Last Commit: 5620eca
Last Changed Date: 2020-10-27 09:40:50 -0500
malbec1 Linux (Ubuntu 18.04.4 LTS) / x86_64  OK  OK UNNEEDED, same version exists in internal repository
nebbiolo1 Linux (Ubuntu 20.04.1 LTS) / x86_64  OK  OK 
Package 11/28HostnameOS / ArchINSTALLBUILD
ExpressionNormalizationWorkflow 1.16.0
Karthikeyan Murugesan
Last Commit: f2152af
Last Changed Date: 2020-10-27 09:40:57 -0500
malbec1 Linux (Ubuntu 18.04.4 LTS) / x86_64  OK  OK UNNEEDED, same version exists in internal repository
nebbiolo1 Linux (Ubuntu 20.04.1 LTS) / x86_64  OK  OK 
Package 12/28HostnameOS / ArchINSTALLBUILD
fluentGenomics 1.2.0
Stuart Lee
Last Commit: 9c741b0
Last Changed Date: 2020-10-27 09:42:10 -0500
malbec1 Linux (Ubuntu 18.04.4 LTS) / x86_64  OK  OK UNNEEDED, same version exists in internal repository
nebbiolo1 Linux (Ubuntu 20.04.1 LTS) / x86_64  OK  OK 
Package 13/28HostnameOS / ArchINSTALLBUILD
generegulation 1.14.0
Bioconductor Package Maintainer
Last Commit: b7f8f86
Last Changed Date: 2020-10-27 09:41:01 -0500
malbec1 Linux (Ubuntu 18.04.4 LTS) / x86_64  OK  OK UNNEEDED, same version exists in internal repository
nebbiolo1 Linux (Ubuntu 20.04.1 LTS) / x86_64  OK  OK 
Package 14/28HostnameOS / ArchINSTALLBUILD
highthroughputassays 1.14.0
Bioconductor Package Maintainer
Last Commit: 65e0165
Last Changed Date: 2020-10-27 09:41:04 -0500
malbec1 Linux (Ubuntu 18.04.4 LTS) / x86_64  OK  OK UNNEEDED, same version exists in internal repository
nebbiolo1 Linux (Ubuntu 20.04.1 LTS) / x86_64  OK  OK 
Package 15/28HostnameOS / ArchINSTALLBUILD
liftOver 1.14.0
Bioconductor Package Maintainer
Last Commit: 43c5ce2
Last Changed Date: 2020-10-27 09:41:07 -0500
malbec1 Linux (Ubuntu 18.04.4 LTS) / x86_64  OK  OK UNNEEDED, same version exists in internal repository
nebbiolo1 Linux (Ubuntu 20.04.1 LTS) / x86_64  OK  OK 
Package 16/28HostnameOS / ArchINSTALLBUILD
maEndToEnd 2.10.0
Stefanie Reisenauer
Last Commit: 1870ef9
Last Changed Date: 2020-10-27 09:41:52 -0500
malbec1 Linux (Ubuntu 18.04.4 LTS) / x86_64  OK  ERROR 
nebbiolo1 Linux (Ubuntu 20.04.1 LTS) / x86_64  OK  ERROR 
Package 17/28HostnameOS / ArchINSTALLBUILD
methylationArrayAnalysis 1.14.0
Jovana Maksimovic
Last Commit: 4e0d7f5
Last Changed Date: 2020-10-27 09:41:12 -0500
malbec1 Linux (Ubuntu 18.04.4 LTS) / x86_64  OK  OK UNNEEDED, same version exists in internal repository
nebbiolo1 Linux (Ubuntu 20.04.1 LTS) / x86_64  OK  OK 
Package 18/28HostnameOS / ArchINSTALLBUILD
proteomics 1.14.0
Laurent Gatto
Last Commit: 01d9331
Last Changed Date: 2020-10-27 09:41:18 -0500
malbec1 Linux (Ubuntu 18.04.4 LTS) / x86_64  OK  ERROR 
nebbiolo1 Linux (Ubuntu 20.04.1 LTS) / x86_64  OK  ERROR 
Package 19/28HostnameOS / ArchINSTALLBUILD
recountWorkflow 1.14.0
Leonardo Collado-Torres
Last Commit: 7d4cc91
Last Changed Date: 2020-10-27 09:41:21 -0500
malbec1 Linux (Ubuntu 18.04.4 LTS) / x86_64  OK  OK UNNEEDED, same version exists in internal repository
nebbiolo1 Linux (Ubuntu 20.04.1 LTS) / x86_64  OK  OK 
Package 20/28HostnameOS / ArchINSTALLBUILD
RNAseq123 1.14.1
Matthew Ritchie
Last Commit: 8551763
Last Changed Date: 2020-11-22 05:10:40 -0500
malbec1 Linux (Ubuntu 18.04.4 LTS) / x86_64  OK  OK UNNEEDED, same version exists in internal repository
nebbiolo1 Linux (Ubuntu 20.04.1 LTS) / x86_64  OK  OK 
Package 21/28HostnameOS / ArchINSTALLBUILD
rnaseqDTU 1.10.0
Michael Love
Last Commit: a5da65b
Last Changed Date: 2020-10-27 09:41:55 -0500
malbec1 Linux (Ubuntu 18.04.4 LTS) / x86_64  OK  OK UNNEEDED, same version exists in internal repository
nebbiolo1 Linux (Ubuntu 20.04.1 LTS) / x86_64  OK  OK 
Package 22/28HostnameOS / ArchINSTALLBUILD
rnaseqGene 1.14.0
Michael Love
Last Commit: 2578b1d
Last Changed Date: 2020-10-27 09:41:28 -0500
malbec1 Linux (Ubuntu 18.04.4 LTS) / x86_64  OK  OK UNNEEDED, same version exists in internal repository
nebbiolo1 Linux (Ubuntu 20.04.1 LTS) / x86_64  OK  OK 
Package 23/28HostnameOS / ArchINSTALLBUILD
RnaSeqGeneEdgeRQL 1.14.0
Yunshun Chen
Last Commit: 61c4e99
Last Changed Date: 2020-10-27 09:41:32 -0500
malbec1 Linux (Ubuntu 18.04.4 LTS) / x86_64  OK  OK UNNEEDED, same version exists in internal repository
nebbiolo1 Linux (Ubuntu 20.04.1 LTS) / x86_64  OK  ERROR 
Package 24/28HostnameOS / ArchINSTALLBUILD
sequencing 1.14.0
Bioconductor Package Maintainer
Last Commit: 464446f
Last Changed Date: 2020-10-27 09:41:36 -0500
malbec1 Linux (Ubuntu 18.04.4 LTS) / x86_64  OK  OK UNNEEDED, same version exists in internal repository
nebbiolo1 Linux (Ubuntu 20.04.1 LTS) / x86_64  OK  OK 
Package 25/28HostnameOS / ArchINSTALLBUILD
simpleSingleCell 1.14.0
Aaron Lun
Last Commit: 95859e9
Last Changed Date: 2020-10-27 09:41:39 -0500
malbec1 Linux (Ubuntu 18.04.4 LTS) / x86_64  OK  OK UNNEEDED, same version exists in internal repository
nebbiolo1 Linux (Ubuntu 20.04.1 LTS) / x86_64  OK  OK 
Package 26/28HostnameOS / ArchINSTALLBUILD
SingscoreAMLMutations 1.6.0
Dharmesh D. Bhuva
Last Commit: adf085d
Last Changed Date: 2020-10-27 09:42:02 -0500
malbec1 Linux (Ubuntu 18.04.4 LTS) / x86_64  OK  OK UNNEEDED, same version exists in internal repository
nebbiolo1 Linux (Ubuntu 20.04.1 LTS) / x86_64  OK  OK 
Package 27/28HostnameOS / ArchINSTALLBUILD
TCGAWorkflow 1.14.0
Tiago Chedraoui Silva
Last Commit: e905b26
Last Changed Date: 2020-10-27 09:41:42 -0500
malbec1 Linux (Ubuntu 18.04.4 LTS) / x86_64  OK  OK UNNEEDED, same version exists in internal repository
nebbiolo1 Linux (Ubuntu 20.04.1 LTS) / x86_64  OK  OK 
Package 28/28HostnameOS / ArchINSTALLBUILD
variants 1.14.0
Bioconductor Package Maintainer
Last Commit: c1172a5
Last Changed Date: 2020-10-27 09:41:46 -0500
malbec1 Linux (Ubuntu 18.04.4 LTS) / x86_64  OK  ERROR 
nebbiolo1 Linux (Ubuntu 20.04.1 LTS) / x86_64  OK  ERROR