Back to Workflows build report for BioC 3.12 |
This page was generated on 2021-05-07 15:45:15 -0400 (Fri, 07 May 2021).
To the developers/maintainers of the EGSEA123 package: Please make sure to use the following settings in order to reproduce any error or warning you see on this page. |
Package 9/28 | Hostname | OS / Arch | INSTALL | BUILD | ||||||||
EGSEA123 1.14.1 (landing page) Matthew Ritchie
| malbec1 | Linux (Ubuntu 18.04.5 LTS) / x86_64 | OK | OK | ||||||||
Package: EGSEA123 |
Version: 1.14.1 |
Command: /home/biocbuild/bbs-3.12-bioc/R/bin/R CMD build --keep-empty-dirs --no-resave-data EGSEA123 |
StartedAt: 2021-05-07 09:10:31 -0400 (Fri, 07 May 2021) |
EndedAt: 2021-05-07 09:20:15 -0400 (Fri, 07 May 2021) |
EllapsedTime: 584.0 seconds |
RetCode: 0 |
Status: OK |
PackageFile: EGSEA123_1.14.1.tar.gz |
PackageFileSize: 559.1 KiB |
############################################################################## ############################################################################## ### ### Running command: ### ### /home/biocbuild/bbs-3.12-bioc/R/bin/R CMD build --keep-empty-dirs --no-resave-data EGSEA123 ### ############################################################################## ############################################################################## * checking for file ‘EGSEA123/DESCRIPTION’ ... OK * preparing ‘EGSEA123’: * checking DESCRIPTION meta-information ... OK * installing the package to build vignettes * creating vignettes ... OK * checking for LF line-endings in source and make files and shell scripts * checking for empty or unneeded directories * creating default NAMESPACE file * building ‘EGSEA123_1.14.1.tar.gz’