Multiple platform build/check report for BioC 3.12 experimental data

This page was generated on 2020-11-30 14:10:36 -0500 (Mon, 30 Nov 2020).

Approx. Package Snapshot Date (git pull): 2020-11-30 09:00:13 -0500 (Mon, 30 Nov 2020)

HostnameOSArch (*)Platform label (**)R versionInstalled pkgs
malbec1Linux (Ubuntu 18.04.4 LTS)x86_64x86_64-linux-gnu4.0.3 (2020-10-10) -- "Bunny-Wunnies Freak Out" 4023
nebbiolo1Linux (Ubuntu 20.04.1 LTS)x86_64x86_64-linux-gnu4.0.3 (2020-10-10) -- "Bunny-Wunnies Freak Out" 4015
Click on any hostname to see more info about the system (e.g. compilers)      (*) as reported by 'uname -p', except on Windows and Mac OS X      (**) as reported by 'gcc -v'

Package status is indicated by one of the following glyphs
 TIMEOUT  INSTALL, BUILD, CHECK or BUILD BIN of package took more than 40, 80, 80 or 40 minutes, respectively Use the check boxes to show only packages with the selected status types.
 ERROR  Bad DESCRIPTION file or INSTALL, BUILD or BUILD BIN of package failed, or CHECK produced errors
 WARNINGS  CHECK of package produced warnings
 OK  INSTALL, BUILD, CHECK or BUILD BIN of package was OK
 skipped  CHECK or BUILD BIN of package was skipped because the BUILD step failed
 NA  BUILD, CHECK or BUILD BIN result is not available because of an anomaly in the Build System
Click on any glyph in the report below to access the detailed results.
Package propagation status is indicated by one of the following LEDs
YES YES: Package was propagated because it didn't previously exist or version was bumped
NO NO: Package was not propagated because of a problem (impossible dependencies, or version lower than what is already propagated)
UNNEEDED UNNEEDED: Package was not propagated because it is already in the repository with this version. A version bump is required in order to propagate it

A crossed-out package name indicates the package is deprecated


SUMMARYOS / ArchINSTALLBUILDCHECK
malbec1 Linux (Ubuntu 18.04.4 LTS) / x86_64 
03395
06392
0295295
nebbiolo1 Linux (Ubuntu 20.04.1 LTS) / x86_64 
03395
06392
0195296
A
ABCDEFGHIJKLMNOPQRSTUVWXYZ
Package 1/398HostnameOS / ArchINSTALLBUILDCHECK
ABAData 1.20.0
Steffi Grote
Last Commit: c08a841
Last Changed Date: 2020-10-27 10:13:41 -0500
malbec1 Linux (Ubuntu 18.04.4 LTS) / x86_64  OK  OK  OK UNNEEDED, same version exists in internal repository
nebbiolo1 Linux (Ubuntu 20.04.1 LTS) / x86_64  OK  OK  OK 
Package 2/398HostnameOS / ArchINSTALLBUILDCHECK
adductData 1.6.0
Josie Hayes
Last Commit: 24e2b4d
Last Changed Date: 2020-10-27 10:29:10 -0500
malbec1 Linux (Ubuntu 18.04.4 LTS) / x86_64  OK  OK  OK UNNEEDED, same version exists in internal repository
nebbiolo1 Linux (Ubuntu 20.04.1 LTS) / x86_64  OK  OK  OK 
Package 3/398HostnameOS / ArchINSTALLBUILDCHECK
affycompData 1.28.0
Harris Jaffee
Last Commit: eb50fbf
Last Changed Date: 2020-10-27 09:52:33 -0500
malbec1 Linux (Ubuntu 18.04.4 LTS) / x86_64  OK  OK  OK UNNEEDED, same version exists in internal repository
nebbiolo1 Linux (Ubuntu 20.04.1 LTS) / x86_64  OK  OK  OK 
Package 4/398HostnameOS / ArchINSTALLBUILDCHECK
affydata 1.38.0
Harris Jaffee
Last Commit: b5e843b
Last Changed Date: 2020-10-27 09:44:23 -0500
malbec1 Linux (Ubuntu 18.04.4 LTS) / x86_64  OK  OK  WARNINGS UNNEEDED, same version exists in internal repository
nebbiolo1 Linux (Ubuntu 20.04.1 LTS) / x86_64  OK  OK  WARNINGS 
Package 5/398HostnameOS / ArchINSTALLBUILDCHECK
Affyhgu133A2Expr 1.26.0
Zhicheng Ji
Last Commit: 71b413a
Last Changed Date: 2020-10-27 10:08:21 -0500
malbec1 Linux (Ubuntu 18.04.4 LTS) / x86_64  OK  OK  OK UNNEEDED, same version exists in internal repository
nebbiolo1 Linux (Ubuntu 20.04.1 LTS) / x86_64  OK  OK  OK 
Package 6/398HostnameOS / ArchINSTALLBUILDCHECK
Affyhgu133aExpr 1.28.0
Zhicheng Ji
Last Commit: 44cf3f3
Last Changed Date: 2020-10-27 10:07:40 -0500
malbec1 Linux (Ubuntu 18.04.4 LTS) / x86_64  OK  OK  OK UNNEEDED, same version exists in internal repository
nebbiolo1 Linux (Ubuntu 20.04.1 LTS) / x86_64  OK  OK  OK 
Package 7/398HostnameOS / ArchINSTALLBUILDCHECK
Affyhgu133Plus2Expr 1.24.0
Zhicheng Ji
Last Commit: 141936d
Last Changed Date: 2020-10-27 10:08:24 -0500
malbec1 Linux (Ubuntu 18.04.4 LTS) / x86_64  OK  OK  OK UNNEEDED, same version exists in internal repository
nebbiolo1 Linux (Ubuntu 20.04.1 LTS) / x86_64  OK  OK  OK 
Package 8/398HostnameOS / ArchINSTALLBUILDCHECK
AffymetrixDataTestFiles 0.28.0
Henrik Bengtsson
Last Commit: 0af6083
Last Changed Date: 2020-10-27 09:44:28 -0500
malbec1 Linux (Ubuntu 18.04.4 LTS) / x86_64  OK  OK  OK UNNEEDED, same version exists in internal repository
nebbiolo1 Linux (Ubuntu 20.04.1 LTS) / x86_64  OK  OK  OK 
Package 9/398HostnameOS / ArchINSTALLBUILDCHECK
Affymoe4302Expr 1.28.0
Zhicheng Ji
Last Commit: bb74007
Last Changed Date: 2020-10-27 10:07:56 -0500
malbec1 Linux (Ubuntu 18.04.4 LTS) / x86_64  OK  OK  OK UNNEEDED, same version exists in internal repository
nebbiolo1 Linux (Ubuntu 20.04.1 LTS) / x86_64  OK  OK  OK 
Package 10/398HostnameOS / ArchINSTALLBUILDCHECK
airway 1.10.0
Michael Love
Last Commit: dd99f8e
Last Changed Date: 2020-10-27 10:09:39 -0500
malbec1 Linux (Ubuntu 18.04.4 LTS) / x86_64  OK  OK  WARNINGS UNNEEDED, same version exists in internal repository
nebbiolo1 Linux (Ubuntu 20.04.1 LTS) / x86_64  OK  OK  WARNINGS 
Package 11/398HostnameOS / ArchINSTALLBUILDCHECK
ALL 1.32.0
Robert Gentleman
Last Commit: 83327cf
Last Changed Date: 2020-10-27 09:44:39 -0500
malbec1 Linux (Ubuntu 18.04.4 LTS) / x86_64  OK  OK  OK UNNEEDED, same version exists in internal repository
nebbiolo1 Linux (Ubuntu 20.04.1 LTS) / x86_64  OK  OK  OK 
Package 12/398HostnameOS / ArchINSTALLBUILDCHECK
ALLMLL 1.30.0
B. M. Bolstad
Last Commit: 6a5347b
Last Changed Date: 2020-10-27 09:44:43 -0500
malbec1 Linux (Ubuntu 18.04.4 LTS) / x86_64  OK  OK  OK UNNEEDED, same version exists in internal repository
nebbiolo1 Linux (Ubuntu 20.04.1 LTS) / x86_64  OK  OK  OK 
Package 13/398HostnameOS / ArchINSTALLBUILDCHECK
alpineData 1.16.0
Michael Love
Last Commit: 379b61e
Last Changed Date: 2020-10-27 10:21:31 -0500
malbec1 Linux (Ubuntu 18.04.4 LTS) / x86_64  OK  OK  OK UNNEEDED, same version exists in internal repository
nebbiolo1 Linux (Ubuntu 20.04.1 LTS) / x86_64  OK  OK  OK 
Package 14/398HostnameOS / ArchINSTALLBUILDCHECK
AmpAffyExample 1.30.0
Rafael A. Irizarry
Last Commit: 272695e
Last Changed Date: 2020-10-27 09:44:46 -0500
malbec1 Linux (Ubuntu 18.04.4 LTS) / x86_64  OK  OK  WARNINGS UNNEEDED, same version exists in internal repository
nebbiolo1 Linux (Ubuntu 20.04.1 LTS) / x86_64  OK  OK  WARNINGS 
Package 15/398HostnameOS / ArchINSTALLBUILDCHECK
AneuFinderData 1.18.0
Aaron Taudt
Last Commit: 1bf1657
Last Changed Date: 2020-10-27 10:18:25 -0500
malbec1 Linux (Ubuntu 18.04.4 LTS) / x86_64  OK  OK  WARNINGS UNNEEDED, same version exists in internal repository
nebbiolo1 Linux (Ubuntu 20.04.1 LTS) / x86_64  OK  OK  WARNINGS 
Package 16/398HostnameOS / ArchINSTALLBUILDCHECK
antiProfilesData 1.26.0
Hector Corrada Bravo
Last Commit: 372e2ae
Last Changed Date: 2020-10-27 10:01:42 -0500
malbec1 Linux (Ubuntu 18.04.4 LTS) / x86_64  OK  OK  OK UNNEEDED, same version exists in internal repository
nebbiolo1 Linux (Ubuntu 20.04.1 LTS) / x86_64  OK  OK  OK 
Package 17/398HostnameOS / ArchINSTALLBUILDCHECK
aracne.networks 1.16.0
Federico M. Giorgi , Mariano Alvarez
Last Commit: 4b502d6
Last Changed Date: 2020-10-27 10:20:54 -0500
malbec1 Linux (Ubuntu 18.04.4 LTS) / x86_64  OK  OK  WARNINGS UNNEEDED, same version exists in internal repository
nebbiolo1 Linux (Ubuntu 20.04.1 LTS) / x86_64  OK  OK  WARNINGS 
Package 18/398HostnameOS / ArchINSTALLBUILDCHECK
ARRmData 1.26.0
Jean-Philippe Fortin
Last Commit: e0e4c3f
Last Changed Date: 2020-10-27 10:00:59 -0500
malbec1 Linux (Ubuntu 18.04.4 LTS) / x86_64  OK  OK  OK UNNEEDED, same version exists in internal repository
nebbiolo1 Linux (Ubuntu 20.04.1 LTS) / x86_64  OK  OK  OK 
Package 19/398HostnameOS / ArchINSTALLBUILDCHECK
AshkenazimSonChr21 1.20.0
Who to complain to
Last Commit: 66b710d
Last Changed Date: 2020-10-27 10:13:29 -0500
malbec1 Linux (Ubuntu 18.04.4 LTS) / x86_64  OK  OK  OK UNNEEDED, same version exists in internal repository
nebbiolo1 Linux (Ubuntu 20.04.1 LTS) / x86_64  OK  OK  OK 
Package 20/398HostnameOS / ArchINSTALLBUILDCHECK
ASICSdata 1.10.0
Gaëlle Lefort
Last Commit: 7176761
Last Changed Date: 2020-10-27 10:26:25 -0500
malbec1 Linux (Ubuntu 18.04.4 LTS) / x86_64  OK  OK  OK UNNEEDED, same version exists in internal repository
nebbiolo1 Linux (Ubuntu 20.04.1 LTS) / x86_64  OK  OK  OK 
Package 21/398HostnameOS / ArchINSTALLBUILDCHECK
AssessORFData 1.8.0
Deepank Korandla
Last Commit: 8c560b1
Last Changed Date: 2020-10-27 10:28:32 -0500
malbec1 Linux (Ubuntu 18.04.4 LTS) / x86_64  OK  OK  OK UNNEEDED, same version exists in internal repository
nebbiolo1 Linux (Ubuntu 20.04.1 LTS) / x86_64  OK  OK  OK 
B
ABCDEFGHIJKLMNOPQRSTUVWXYZ
Package 22/398HostnameOS / ArchINSTALLBUILDCHECK
bcellViper 1.26.0
Mariano Javier Alvarez
Last Commit: f82cb21
Last Changed Date: 2020-10-27 10:08:37 -0500
malbec1 Linux (Ubuntu 18.04.4 LTS) / x86_64  OK  OK  OK UNNEEDED, same version exists in internal repository
nebbiolo1 Linux (Ubuntu 20.04.1 LTS) / x86_64  OK  OK  OK 
Package 23/398HostnameOS / ArchINSTALLBUILDCHECK
beadarrayExampleData 1.28.0
Mark Dunning
Last Commit: a9d22f9
Last Changed Date: 2020-10-27 09:53:57 -0500
malbec1 Linux (Ubuntu 18.04.4 LTS) / x86_64  OK  OK  OK UNNEEDED, same version exists in internal repository
nebbiolo1 Linux (Ubuntu 20.04.1 LTS) / x86_64  OK  OK  OK 
Package 24/398HostnameOS / ArchINSTALLBUILDCHECK
BeadArrayUseCases 1.28.0
Mike Smith
Last Commit: 5e935c0
Last Changed Date: 2020-10-27 09:54:12 -0500
malbec1 Linux (Ubuntu 18.04.4 LTS) / x86_64  OK  OK  OK UNNEEDED, same version exists in internal repository
nebbiolo1 Linux (Ubuntu 20.04.1 LTS) / x86_64  OK  OK  OK 
Package 25/398HostnameOS / ArchINSTALLBUILDCHECK
benchmarkfdrData2019 1.4.0
Stephanie Hicks
Last Commit: 98823f5
Last Changed Date: 2020-10-27 10:30:09 -0500
malbec1 Linux (Ubuntu 18.04.4 LTS) / x86_64  OK  OK  OK UNNEEDED, same version exists in internal repository
nebbiolo1 Linux (Ubuntu 20.04.1 LTS) / x86_64  OK  OK  OK 
Package 26/398HostnameOS / ArchINSTALLBUILDCHECK
beta7 1.28.0
Jean Yang
Last Commit: e89f68c
Last Changed Date: 2020-10-27 09:44:50 -0500
malbec1 Linux (Ubuntu 18.04.4 LTS) / x86_64  OK  OK  WARNINGS UNNEEDED, same version exists in internal repository
nebbiolo1 Linux (Ubuntu 20.04.1 LTS) / x86_64  OK  OK  WARNINGS 
Package 27/398HostnameOS / ArchINSTALLBUILDCHECK
biotmleData 1.14.0
Nima Hejazi
Last Commit: b524e5e
Last Changed Date: 2020-10-27 10:22:49 -0500
malbec1 Linux (Ubuntu 18.04.4 LTS) / x86_64  OK  OK  OK UNNEEDED, same version exists in internal repository
nebbiolo1 Linux (Ubuntu 20.04.1 LTS) / x86_64  OK  OK  OK 
Package 28/398HostnameOS / ArchINSTALLBUILDCHECK
biscuiteerData 1.4.0
"Jacob Morrison"
Last Commit: c83cdb2
Last Changed Date: 2020-10-27 10:30:54 -0500
malbec1 Linux (Ubuntu 18.04.4 LTS) / x86_64  OK  OK  OK UNNEEDED, same version exists in internal repository
nebbiolo1 Linux (Ubuntu 20.04.1 LTS) / x86_64  OK  OK  OK 
Package 29/398HostnameOS / ArchINSTALLBUILDCHECK
bladderbatch 1.28.0
Jeffrey T. Leek
Last Commit: 5d604cb
Last Changed Date: 2020-10-27 09:53:50 -0500
malbec1 Linux (Ubuntu 18.04.4 LTS) / x86_64  OK  OK  WARNINGS UNNEEDED, same version exists in internal repository
nebbiolo1 Linux (Ubuntu 20.04.1 LTS) / x86_64  OK  OK  WARNINGS 
Package 30/398HostnameOS / ArchINSTALLBUILDCHECK
blimaTestingData 1.10.0
Vojtech Kulvait
Last Commit: ca61895
Last Changed Date: 2020-10-27 10:09:04 -0500
malbec1 Linux (Ubuntu 18.04.4 LTS) / x86_64  OK  OK  OK UNNEEDED, same version exists in internal repository
nebbiolo1 Linux (Ubuntu 20.04.1 LTS) / x86_64  OK  OK  OK 
Package 31/398HostnameOS / ArchINSTALLBUILDCHECK
BloodCancerMultiOmics2017 1.10.0
Malgorzata Oles
Last Commit: 46a123d
Last Changed Date: 2020-10-27 10:26:12 -0500
malbec1 Linux (Ubuntu 18.04.4 LTS) / x86_64  OK  OK  OK UNNEEDED, same version exists in internal repository
nebbiolo1 Linux (Ubuntu 20.04.1 LTS) / x86_64  OK  OK  OK 
Package 32/398HostnameOS / ArchINSTALLBUILDCHECK
bodymapRat 1.6.0
Stephanie Hicks
Last Commit: da33656
Last Changed Date: 2020-10-27 10:29:45 -0500
malbec1 Linux (Ubuntu 18.04.4 LTS) / x86_64  OK  OK  OK UNNEEDED, same version exists in internal repository
nebbiolo1 Linux (Ubuntu 20.04.1 LTS) / x86_64  OK  OK  OK 
Package 33/398HostnameOS / ArchINSTALLBUILDCHECK
brainImageRdata 1.8.0
Sara Linker
Last Commit: e4da301
Last Changed Date: 2020-10-27 10:27:37 -0500
malbec1 Linux (Ubuntu 18.04.4 LTS) / x86_64  OK  OK  OK UNNEEDED, same version exists in internal repository
nebbiolo1 Linux (Ubuntu 20.04.1 LTS) / x86_64  OK  OK  OK 
Package 34/398HostnameOS / ArchINSTALLBUILDCHECK
breakpointRdata 1.8.0
David Porubsky
Last Commit: e9f0df6
Last Changed Date: 2020-10-27 10:27:44 -0500
malbec1 Linux (Ubuntu 18.04.4 LTS) / x86_64  OK  OK  OK UNNEEDED, same version exists in internal repository
nebbiolo1 Linux (Ubuntu 20.04.1 LTS) / x86_64  OK  OK  OK 
Package 35/398HostnameOS / ArchINSTALLBUILDCHECK
breastCancerMAINZ 1.28.0
Markus Schroeder , Benjamin Haibe-Kains
Last Commit: 57c2a87
Last Changed Date: 2020-10-27 09:52:40 -0500
malbec1 Linux (Ubuntu 18.04.4 LTS) / x86_64  OK  OK  WARNINGS UNNEEDED, same version exists in internal repository
nebbiolo1 Linux (Ubuntu 20.04.1 LTS) / x86_64  OK  OK  WARNINGS 
Package 36/398HostnameOS / ArchINSTALLBUILDCHECK
breastCancerNKI 1.28.0
Markus Schroeder , Benjamin Haibe-Kains
Last Commit: 3cc1834
Last Changed Date: 2020-10-27 09:52:43 -0500
malbec1 Linux (Ubuntu 18.04.4 LTS) / x86_64  OK  OK  WARNINGS UNNEEDED, same version exists in internal repository
nebbiolo1 Linux (Ubuntu 20.04.1 LTS) / x86_64  OK  OK  WARNINGS 
Package 37/398HostnameOS / ArchINSTALLBUILDCHECK
breastCancerTRANSBIG 1.28.0
Markus Schroeder , Benjamin Haibe-Kains
Last Commit: e7de199
Last Changed Date: 2020-10-27 09:52:47 -0500
malbec1 Linux (Ubuntu 18.04.4 LTS) / x86_64  OK  OK  WARNINGS UNNEEDED, same version exists in internal repository
nebbiolo1 Linux (Ubuntu 20.04.1 LTS) / x86_64  OK  OK  WARNINGS 
Package 38/398HostnameOS / ArchINSTALLBUILDCHECK
breastCancerUNT 1.28.0
Markus Schroeder , Benjamin Haibe-Kains
Last Commit: 59fb821
Last Changed Date: 2020-10-27 09:52:50 -0500
malbec1 Linux (Ubuntu 18.04.4 LTS) / x86_64  OK  OK  WARNINGS UNNEEDED, same version exists in internal repository
nebbiolo1 Linux (Ubuntu 20.04.1 LTS) / x86_64  OK  OK  WARNINGS 
Package 39/398HostnameOS / ArchINSTALLBUILDCHECK
breastCancerUPP 1.28.0
Markus Schroeder , Benjamin Haibe-Kains
Last Commit: 4d7fe07
Last Changed Date: 2020-10-27 09:52:54 -0500
malbec1 Linux (Ubuntu 18.04.4 LTS) / x86_64  OK  OK  WARNINGS UNNEEDED, same version exists in internal repository
nebbiolo1 Linux (Ubuntu 20.04.1 LTS) / x86_64  OK  OK  WARNINGS 
Package 40/398HostnameOS / ArchINSTALLBUILDCHECK
breastCancerVDX 1.28.0
Markus Schroeder , Benjamin Haibe-Kains
Last Commit: dfce14e
Last Changed Date: 2020-10-27 09:52:57 -0500
malbec1 Linux (Ubuntu 18.04.4 LTS) / x86_64  OK  OK  WARNINGS UNNEEDED, same version exists in internal repository
nebbiolo1 Linux (Ubuntu 20.04.1 LTS) / x86_64  OK  OK  WARNINGS 
Package 41/398HostnameOS / ArchINSTALLBUILDCHECK
brgedata 1.12.0
Carlos Ruiz-Arenas
Last Commit: 6bbaafe
Last Changed Date: 2020-10-27 10:23:31 -0500
malbec1 Linux (Ubuntu 18.04.4 LTS) / x86_64  OK  OK  WARNINGS UNNEEDED, same version exists in internal repository
nebbiolo1 Linux (Ubuntu 20.04.1 LTS) / x86_64  OK  OK  WARNINGS 
Package 42/398HostnameOS / ArchINSTALLBUILDCHECK
bronchialIL13 1.28.0
Vince Carey
Last Commit: b8d0db6
Last Changed Date: 2020-10-27 09:44:55 -0500
malbec1 Linux (Ubuntu 18.04.4 LTS) / x86_64  OK  OK  OK UNNEEDED, same version exists in internal repository
nebbiolo1 Linux (Ubuntu 20.04.1 LTS) / x86_64  OK  OK  OK 
Package 43/398HostnameOS / ArchINSTALLBUILDCHECK
bsseqData 0.28.0
Kasper Daniel Hansen
Last Commit: e83176a
Last Changed Date: 2020-10-27 09:56:15 -0500
malbec1 Linux (Ubuntu 18.04.4 LTS) / x86_64  OK  OK  OK UNNEEDED, same version exists in internal repository
nebbiolo1 Linux (Ubuntu 20.04.1 LTS) / x86_64  OK  OK  OK 
C
ABCDEFGHIJKLMNOPQRSTUVWXYZ
Package 44/398HostnameOS / ArchINSTALLBUILDCHECK
cancerdata 1.28.0
Daniel Kosztyla
Last Commit: 0ac2fd4
Last Changed Date: 2020-10-27 09:55:31 -0500
malbec1 Linux (Ubuntu 18.04.4 LTS) / x86_64  OK  OK  OK UNNEEDED, same version exists in internal repository
nebbiolo1 Linux (Ubuntu 20.04.1 LTS) / x86_64  OK  OK  OK 
Package 45/398HostnameOS / ArchINSTALLBUILDCHECK
CardinalWorkflows 1.22.0
Kylie A. Bemis
Last Commit: 0cef890
Last Changed Date: 2020-10-27 10:11:32 -0500
malbec1 Linux (Ubuntu 18.04.4 LTS) / x86_64  OK  OK  OK UNNEEDED, same version exists in internal repository
nebbiolo1 Linux (Ubuntu 20.04.1 LTS) / x86_64  OK  OK  OK 
Package 46/398HostnameOS / ArchINSTALLBUILDCHECK
ccdata 1.16.0
Alex Pickering
Last Commit: 7cfa9c5
Last Changed Date: 2020-10-27 10:21:01 -0500
malbec1 Linux (Ubuntu 18.04.4 LTS) / x86_64  OK  OK  WARNINGS UNNEEDED, same version exists in internal repository
nebbiolo1 Linux (Ubuntu 20.04.1 LTS) / x86_64  OK  OK  WARNINGS 
Package 47/398HostnameOS / ArchINSTALLBUILDCHECK
CCl4 1.28.0
Audrey Kauffmann
Last Commit: 452a2a5
Last Changed Date: 2020-10-27 09:47:36 -0500
malbec1 Linux (Ubuntu 18.04.4 LTS) / x86_64  OK  OK  WARNINGS UNNEEDED, same version exists in internal repository
nebbiolo1 Linux (Ubuntu 20.04.1 LTS) / x86_64  OK  OK  WARNINGS 
Package 48/398HostnameOS / ArchINSTALLBUILDCHECK
ccTutorial 1.28.0
Joern Toedling
Last Commit: a39d3f2
Last Changed Date: 2020-10-27 09:49:38 -0500
malbec1 Linux (Ubuntu 18.04.4 LTS) / x86_64  OK  OK  OK UNNEEDED, same version exists in internal repository
nebbiolo1 Linux (Ubuntu 20.04.1 LTS) / x86_64  OK  OK  OK 
Package 49/398HostnameOS / ArchINSTALLBUILDCHECK
celarefData 1.8.0
Sarah Williams
Last Commit: 1b2e482
Last Changed Date: 2020-10-27 10:27:16 -0500
malbec1 Linux (Ubuntu 18.04.4 LTS) / x86_64  OK  OK  OK UNNEEDED, same version exists in internal repository
nebbiolo1 Linux (Ubuntu 20.04.1 LTS) / x86_64  OK  OK  OK 
Package 50/398HostnameOS / ArchINSTALLBUILDCHECK
celldex 1.0.0
Aaron Lun
Last Commit: c398631
Last Changed Date: 2020-10-27 10:32:01 -0500
malbec1 Linux (Ubuntu 18.04.4 LTS) / x86_64  OK  OK  OK UNNEEDED, same version exists in internal repository
nebbiolo1 Linux (Ubuntu 20.04.1 LTS) / x86_64  OK  OK  OK 
Package 51/398HostnameOS / ArchINSTALLBUILDCHECK
CellMapperData 1.16.0
Brad Nelms
Last Commit: d6d5b69
Last Changed Date: 2020-10-27 10:21:34 -0500
malbec1 Linux (Ubuntu 18.04.4 LTS) / x86_64  OK  OK  OK UNNEEDED, same version exists in internal repository
nebbiolo1 Linux (Ubuntu 20.04.1 LTS) / x86_64  OK  OK  OK 
Package 52/398HostnameOS / ArchINSTALLBUILDCHECK
ceu1kg 0.28.0
VJ Carey
Last Commit: baecf9f
Last Changed Date: 2020-10-27 09:52:08 -0500
malbec1 Linux (Ubuntu 18.04.4 LTS) / x86_64  OK  OK  WARNINGS UNNEEDED, same version exists in internal repository
nebbiolo1 Linux (Ubuntu 20.04.1 LTS) / x86_64  OK  OK  WARNINGS 
Package 53/398HostnameOS / ArchINSTALLBUILDCHECK
ceu1kgv 0.32.0
VJ Carey
Last Commit: 99148cd
Last Changed Date: 2020-10-27 10:07:10 -0500
malbec1 Linux (Ubuntu 18.04.4 LTS) / x86_64  OK  OK  WARNINGS UNNEEDED, same version exists in internal repository
nebbiolo1 Linux (Ubuntu 20.04.1 LTS) / x86_64  OK  OK  WARNINGS 
Package 54/398HostnameOS / ArchINSTALLBUILDCHECK
ceuhm3 0.28.0
VJ Carey
Last Commit: 1b2abea
Last Changed Date: 2020-10-27 09:52:05 -0500
malbec1 Linux (Ubuntu 18.04.4 LTS) / x86_64  OK  OK  WARNINGS UNNEEDED, same version exists in internal repository
nebbiolo1 Linux (Ubuntu 20.04.1 LTS) / x86_64  OK  OK  WARNINGS 
Package 55/398HostnameOS / ArchINSTALLBUILDCHECK
cgdv17 0.28.0
VJ Carey
Last Commit: 60af2c9
Last Changed Date: 2020-10-27 09:54:48 -0500
malbec1 Linux (Ubuntu 18.04.4 LTS) / x86_64  OK  OK  OK UNNEEDED, same version exists in internal repository
nebbiolo1 Linux (Ubuntu 20.04.1 LTS) / x86_64  OK  OK  OK 
Package 56/398HostnameOS / ArchINSTALLBUILDCHECK
ChAMPdata 2.22.0
Yuan Tian
Last Commit: eeedd4c
Last Changed Date: 2020-10-27 10:05:58 -0500
malbec1 Linux (Ubuntu 18.04.4 LTS) / x86_64  OK  OK  OK UNNEEDED, same version exists in internal repository
nebbiolo1 Linux (Ubuntu 20.04.1 LTS) / x86_64  OK  OK  OK 
Package 57/398HostnameOS / ArchINSTALLBUILDCHECK
ChIC.data 1.10.0
Carmen Maria Livi
Last Commit: 1ceb1d5
Last Changed Date: 2020-10-27 10:26:51 -0500
malbec1 Linux (Ubuntu 18.04.4 LTS) / x86_64  OK  OK  OK UNNEEDED, same version exists in internal repository
nebbiolo1 Linux (Ubuntu 20.04.1 LTS) / x86_64  OK  OK  OK 
Package 58/398HostnameOS / ArchINSTALLBUILDCHECK
ChimpHumanBrainData 1.28.0
Sean Davis
Last Commit: e5fcb42
Last Changed Date: 2020-10-27 10:07:29 -0500
malbec1 Linux (Ubuntu 18.04.4 LTS) / x86_64  OK  OK  OK UNNEEDED, same version exists in internal repository
nebbiolo1 Linux (Ubuntu 20.04.1 LTS) / x86_64  OK  OK  OK 
Package 59/398HostnameOS / ArchINSTALLBUILDCHECK
chipenrich.data 2.14.0
Raymond G. Cavalcante
Last Commit: 15d78e9
Last Changed Date: 2020-10-27 10:05:31 -0500
malbec1 Linux (Ubuntu 18.04.4 LTS) / x86_64  OK  OK  OK UNNEEDED, same version exists in internal repository
nebbiolo1 Linux (Ubuntu 20.04.1 LTS) / x86_64  OK  OK  OK 
Package 60/398HostnameOS / ArchINSTALLBUILDCHECK
ChIPexoQualExample 1.14.0
Rene Welch
Last Commit: 8fc9b51
Last Changed Date: 2020-10-27 10:22:29 -0500
malbec1 Linux (Ubuntu 18.04.4 LTS) / x86_64  OK  OK  OK UNNEEDED, same version exists in internal repository
nebbiolo1 Linux (Ubuntu 20.04.1 LTS) / x86_64  OK  OK  OK 
Package 61/398HostnameOS / ArchINSTALLBUILDCHECK
chipseqDBData 1.6.0
Aaron Lun
Last Commit: ffdf891
Last Changed Date: 2020-10-27 10:29:02 -0500
malbec1 Linux (Ubuntu 18.04.4 LTS) / x86_64  OK  OK  OK UNNEEDED, same version exists in internal repository
nebbiolo1 Linux (Ubuntu 20.04.1 LTS) / x86_64  OK  OK  OK 
Package 62/398HostnameOS / ArchINSTALLBUILDCHECK
ChIPXpressData 1.28.0
George Wu
Last Commit: 2c31561
Last Changed Date: 2020-10-27 09:57:08 -0500
malbec1 Linux (Ubuntu 18.04.4 LTS) / x86_64  OK  OK  WARNINGS UNNEEDED, same version exists in internal repository
nebbiolo1 Linux (Ubuntu 20.04.1 LTS) / x86_64  OK  OK  WARNINGS 
Package 63/398HostnameOS / ArchINSTALLBUILDCHECK
chromstaRData 1.16.0
Aaron Taudt
Last Commit: de21cd8
Last Changed Date: 2020-10-27 10:20:48 -0500
malbec1 Linux (Ubuntu 18.04.4 LTS) / x86_64  OK  OK  OK UNNEEDED, same version exists in internal repository
nebbiolo1 Linux (Ubuntu 20.04.1 LTS) / x86_64  OK  OK  OK 
Package 64/398HostnameOS / ArchINSTALLBUILDCHECK
CLL 1.30.0
Robert Gentleman
Last Commit: e2e2507
Last Changed Date: 2020-10-27 09:44:59 -0500
malbec1 Linux (Ubuntu 18.04.4 LTS) / x86_64  OK  OK  OK UNNEEDED, same version exists in internal repository
nebbiolo1 Linux (Ubuntu 20.04.1 LTS) / x86_64  OK  OK  OK 
Package 65/398HostnameOS / ArchINSTALLBUILDCHECK
CLLmethylation 1.10.0
Malgorzata Oles , Andreas Mock
Last Commit: 731aab4
Last Changed Date: 2020-10-27 10:26:16 -0500
malbec1 Linux (Ubuntu 18.04.4 LTS) / x86_64  OK  OK  OK UNNEEDED, same version exists in internal repository
nebbiolo1 Linux (Ubuntu 20.04.1 LTS) / x86_64  OK  OK  OK 
Package 66/398HostnameOS / ArchINSTALLBUILDCHECK
CluMSIDdata 1.6.0
Tobias Depke
Last Commit: df11685
Last Changed Date: 2020-10-27 10:28:53 -0500
malbec1 Linux (Ubuntu 18.04.4 LTS) / x86_64  OK  OK  OK UNNEEDED, same version exists in internal repository
nebbiolo1 Linux (Ubuntu 20.04.1 LTS) / x86_64  OK  OK  OK 
Package 67/398HostnameOS / ArchINSTALLBUILDCHECK
clustifyrdatahub 1.0.0
Rui Fu
Last Commit: cbd5308
Last Changed Date: 2020-10-27 10:32:19 -0500
malbec1 Linux (Ubuntu 18.04.4 LTS) / x86_64  OK  OK  OK UNNEEDED, same version exists in internal repository
nebbiolo1 Linux (Ubuntu 20.04.1 LTS) / x86_64  OK  OK  OK 
Package 68/398HostnameOS / ArchINSTALLBUILDCHECK
cMap2data 1.26.0
J. Saez-Rodriguez
Last Commit: 8ac71dd
Last Changed Date: 2020-10-27 10:01:03 -0500
malbec1 Linux (Ubuntu 18.04.4 LTS) / x86_64  OK  OK  OK UNNEEDED, same version exists in internal repository
nebbiolo1 Linux (Ubuntu 20.04.1 LTS) / x86_64  OK  OK  OK 
Package 69/398HostnameOS / ArchINSTALLBUILDCHECK
cnvGSAdata 1.26.0
Joseph Lugo
Last Commit: b699546
Last Changed Date: 2020-10-27 09:55:27 -0500
malbec1 Linux (Ubuntu 18.04.4 LTS) / x86_64  OK  OK  WARNINGS UNNEEDED, same version exists in internal repository
nebbiolo1 Linux (Ubuntu 20.04.1 LTS) / x86_64  OK  OK  WARNINGS 
Package 70/398HostnameOS / ArchINSTALLBUILDCHECK
COHCAPanno 1.26.0
Charles Warden
Last Commit: a896171
Last Changed Date: 2020-10-27 10:07:36 -0500
malbec1 Linux (Ubuntu 18.04.4 LTS) / x86_64  OK  OK  OK UNNEEDED, same version exists in internal repository
nebbiolo1 Linux (Ubuntu 20.04.1 LTS) / x86_64  OK  OK  OK 
Package 71/398HostnameOS / ArchINSTALLBUILDCHECK
colonCA 1.32.0
W Sylvia Merk
Last Commit: 001877f
Last Changed Date: 2020-10-27 09:45:02 -0500
malbec1 Linux (Ubuntu 18.04.4 LTS) / x86_64  OK  OK  WARNINGS UNNEEDED, same version exists in internal repository
nebbiolo1 Linux (Ubuntu 20.04.1 LTS) / x86_64  OK  OK  WARNINGS 
Package 72/398HostnameOS / ArchINSTALLBUILDCHECK
CONFESSdata 1.18.0
Diana LOW
Last Commit: 26bb1fc
Last Changed Date: 2020-10-27 10:18:44 -0500
malbec1 Linux (Ubuntu 18.04.4 LTS) / x86_64  OK  OK  OK UNNEEDED, same version exists in internal repository
nebbiolo1 Linux (Ubuntu 20.04.1 LTS) / x86_64  OK  OK  OK 
Package 73/398HostnameOS / ArchINSTALLBUILDCHECK
ConnectivityMap 1.26.0
Paul Shannon
Last Commit: a724faa
Last Changed Date: 2020-10-27 10:01:07 -0500
malbec1 Linux (Ubuntu 18.04.4 LTS) / x86_64  OK  OK  OK UNNEEDED, same version exists in internal repository
nebbiolo1 Linux (Ubuntu 20.04.1 LTS) / x86_64  OK  OK  OK 
Package 74/398HostnameOS / ArchINSTALLBUILDCHECK
COPDSexualDimorphism.data 1.26.0
J Fah Sathirapongsasuti
Last Commit: c093858
Last Changed Date: 2020-10-27 10:08:40 -0500
malbec1 Linux (Ubuntu 18.04.4 LTS) / x86_64  OK  OK  WARNINGS UNNEEDED, same version exists in internal repository
nebbiolo1 Linux (Ubuntu 20.04.1 LTS) / x86_64  OK  OK  WARNINGS 
Package 75/398HostnameOS / ArchINSTALLBUILDCHECK
CopyhelpeR 1.22.0
Oscar Krijgsman
Last Commit: 205e1ab
Last Changed Date: 2020-10-27 10:12:43 -0500
malbec1 Linux (Ubuntu 18.04.4 LTS) / x86_64  OK  OK  OK UNNEEDED, same version exists in internal repository
nebbiolo1 Linux (Ubuntu 20.04.1 LTS) / x86_64  OK  OK  OK 
Package 76/398HostnameOS / ArchINSTALLBUILDCHECK
CopyNeutralIMA 1.8.0
Xavier Pastor Hostench
Last Commit: 2f77b25
Last Changed Date: 2020-10-27 10:27:13 -0500
malbec1 Linux (Ubuntu 18.04.4 LTS) / x86_64  OK  OK  OK UNNEEDED, same version exists in internal repository
nebbiolo1 Linux (Ubuntu 20.04.1 LTS) / x86_64  OK  OK  OK 
Package 77/398HostnameOS / ArchINSTALLBUILDCHECK
COSMIC.67 1.26.0
Julian Gehring
Last Commit: ae9f5cb
Last Changed Date: 2020-10-27 10:06:45 -0500
malbec1 Linux (Ubuntu 18.04.4 LTS) / x86_64  OK  OK  OK UNNEEDED, same version exists in internal repository
nebbiolo1 Linux (Ubuntu 20.04.1 LTS) / x86_64  OK  OK  OK 
Package 78/398HostnameOS / ArchINSTALLBUILDCHECK
CRCL18 1.10.0
Claudio Isella
Last Commit: 401b60e
Last Changed Date: 2020-10-27 10:09:44 -0500
malbec1 Linux (Ubuntu 18.04.4 LTS) / x86_64  OK  OK  OK UNNEEDED, same version exists in internal repository
nebbiolo1 Linux (Ubuntu 20.04.1 LTS) / x86_64  OK  OK  OK 
Package 79/398HostnameOS / ArchINSTALLBUILDCHECK
curatedAdipoArray 1.2.0
Mahmoud Ahmed
Last Commit: 1c38c92
Last Changed Date: 2020-10-27 10:31:04 -0500
malbec1 Linux (Ubuntu 18.04.4 LTS) / x86_64  OK  OK  OK UNNEEDED, same version exists in internal repository
nebbiolo1 Linux (Ubuntu 20.04.1 LTS) / x86_64  OK  OK  OK 
Package 80/398HostnameOS / ArchINSTALLBUILDCHECK
curatedAdipoChIP 1.6.0
Mahmoud Ahmed
Last Commit: 8d022c7
Last Changed Date: 2020-10-27 10:29:51 -0500
malbec1 Linux (Ubuntu 18.04.4 LTS) / x86_64  OK  OK  OK UNNEEDED, same version exists in internal repository
nebbiolo1 Linux (Ubuntu 20.04.1 LTS) / x86_64  OK  OK  OK 
Package 81/398HostnameOS / ArchINSTALLBUILDCHECK
curatedAdipoRNA 1.6.0
Mahmoud Ahmed
Last Commit: 0f10b2d
Last Changed Date: 2020-10-27 10:29:38 -0500
malbec1 Linux (Ubuntu 18.04.4 LTS) / x86_64  OK  OK  OK UNNEEDED, same version exists in internal repository
nebbiolo1 Linux (Ubuntu 20.04.1 LTS) / x86_64  OK  OK  OK 
Package 82/398HostnameOS / ArchINSTALLBUILDCHECK
curatedBladderData 1.26.0
Markus Riester
Last Commit: 10c26cc
Last Changed Date: 2020-10-27 10:05:27 -0500
malbec1 Linux (Ubuntu 18.04.4 LTS) / x86_64  OK  OK  OK UNNEEDED, same version exists in internal repository
nebbiolo1 Linux (Ubuntu 20.04.1 LTS) / x86_64  OK  OK  OK 
Package 83/398HostnameOS / ArchINSTALLBUILDCHECK
curatedBreastData 2.18.0
Katie Planey
Last Commit: 464335b
Last Changed Date: 2020-10-27 10:11:50 -0500
malbec1 Linux (Ubuntu 18.04.4 LTS) / x86_64  OK  OK  OK UNNEEDED, same version exists in internal repository
nebbiolo1 Linux (Ubuntu 20.04.1 LTS) / x86_64  OK  OK  OK 
Package 84/398HostnameOS / ArchINSTALLBUILDCHECK
curatedCRCData 2.22.0
Princy Parsana
Last Commit: fe88edd
Last Changed Date: 2020-10-27 10:06:49 -0500
malbec1 Linux (Ubuntu 18.04.4 LTS) / x86_64  OK  OK  OK UNNEEDED, same version exists in internal repository
nebbiolo1 Linux (Ubuntu 20.04.1 LTS) / x86_64  OK  OK  OK 
Package 85/398HostnameOS / ArchINSTALLBUILDCHECK
curatedMetagenomicData 1.20.0
Lucas Schiffer
Last Commit: 0af9806
Last Changed Date: 2020-10-27 10:20:00 -0500
malbec1 Linux (Ubuntu 18.04.4 LTS) / x86_64  OK  OK  OK UNNEEDED, same version exists in internal repository
nebbiolo1 Linux (Ubuntu 20.04.1 LTS) / x86_64  OK  OK  OK 
Package 86/398HostnameOS / ArchINSTALLBUILDCHECK
curatedOvarianData 1.28.0
Levi Waldron
Last Commit: 27fa1d5
Last Changed Date: 2020-10-27 10:00:26 -0500
malbec1 Linux (Ubuntu 18.04.4 LTS) / x86_64  OK  OK  OK UNNEEDED, same version exists in internal repository
nebbiolo1 Linux (Ubuntu 20.04.1 LTS) / x86_64  OK  OK  OK 
Package 87/398HostnameOS / ArchINSTALLBUILDCHECK
curatedTCGAData 1.12.0
Marcel Ramos
Last Commit: 4a729a3
Last Changed Date: 2020-10-27 10:24:24 -0500
malbec1 Linux (Ubuntu 18.04.4 LTS) / x86_64  OK  OK  OK UNNEEDED, same version exists in internal repository
nebbiolo1 Linux (Ubuntu 20.04.1 LTS) / x86_64  OK  OK  OK 
D
ABCDEFGHIJKLMNOPQRSTUVWXYZ
Package 88/398HostnameOS / ArchINSTALLBUILDCHECK
DAPARdata 1.20.1
Samuel Wieczorek
Last Commit: 65d3947
Last Changed Date: 2020-11-16 04:04:58 -0500
malbec1 Linux (Ubuntu 18.04.4 LTS) / x86_64  OK  OK  WARNINGS UNNEEDED, same version exists in internal repository
nebbiolo1 Linux (Ubuntu 20.04.1 LTS) / x86_64  OK  OK  WARNINGS 
Package 89/398HostnameOS / ArchINSTALLBUILDCHECK
davidTiling 1.30.0
Wolfgang Huber
Last Commit: d086898
Last Changed Date: 2020-10-27 09:45:05 -0500
malbec1 Linux (Ubuntu 18.04.4 LTS) / x86_64  OK  OK  WARNINGS UNNEEDED, same version exists in internal repository
nebbiolo1 Linux (Ubuntu 20.04.1 LTS) / x86_64  OK  OK  WARNINGS 
Package 90/398HostnameOS / ArchINSTALLBUILDCHECK
depmap 1.4.0
Laurent Gatto
Last Commit: 8f31da1
Last Changed Date: 2020-10-27 10:30:19 -0500
malbec1 Linux (Ubuntu 18.04.4 LTS) / x86_64  OK  OK  OK UNNEEDED, same version exists in internal repository
nebbiolo1 Linux (Ubuntu 20.04.1 LTS) / x86_64  OK  OK  OK 
Package 91/398HostnameOS / ArchINSTALLBUILDCHECK
derfinderData 2.8.0
Leonardo Collado-Torres
Last Commit: ea51d48
Last Changed Date: 2020-10-27 10:10:39 -0500
malbec1 Linux (Ubuntu 18.04.4 LTS) / x86_64  OK  OK  OK UNNEEDED, same version exists in internal repository
nebbiolo1 Linux (Ubuntu 20.04.1 LTS) / x86_64  OK  OK  OK 
Package 92/398HostnameOS / ArchINSTALLBUILDCHECK
DeSousa2013 1.26.0
Xin Wang
Last Commit: 46e8cec
Last Changed Date: 2020-10-27 10:02:18 -0500
malbec1 Linux (Ubuntu 18.04.4 LTS) / x86_64  OK  OK  OK UNNEEDED, same version exists in internal repository
nebbiolo1 Linux (Ubuntu 20.04.1 LTS) / x86_64  OK  OK  OK 
Package 93/398HostnameOS / ArchINSTALLBUILDCHECK
diffloopdata 1.18.0
Caleb Lareau
Last Commit: 02b0f89
Last Changed Date: 2020-10-27 10:19:08 -0500
malbec1 Linux (Ubuntu 18.04.4 LTS) / x86_64  OK  OK  OK UNNEEDED, same version exists in internal repository
nebbiolo1 Linux (Ubuntu 20.04.1 LTS) / x86_64  OK  OK  OK 
Package 94/398HostnameOS / ArchINSTALLBUILDCHECK
diggitdata 1.22.0
Mariano Javier Alvarez
Last Commit: d913c35
Last Changed Date: 2020-10-27 10:11:43 -0500
malbec1 Linux (Ubuntu 18.04.4 LTS) / x86_64  OK  OK  OK UNNEEDED, same version exists in internal repository
nebbiolo1 Linux (Ubuntu 20.04.1 LTS) / x86_64  OK  OK  OK 
Package 95/398HostnameOS / ArchINSTALLBUILDCHECK
DLBCL 1.30.0
Marcus Dittrich
Last Commit: b7a34f3
Last Changed Date: 2020-10-27 09:51:57 -0500
malbec1 Linux (Ubuntu 18.04.4 LTS) / x86_64  OK  OK  WARNINGS UNNEEDED, same version exists in internal repository
nebbiolo1 Linux (Ubuntu 20.04.1 LTS) / x86_64  OK  OK  WARNINGS 
Package 96/398HostnameOS / ArchINSTALLBUILDCHECK
DmelSGI 1.22.0
Bernd Fischer
Last Commit: bec64b2
Last Changed Date: 2020-10-27 10:11:37 -0500
malbec1 Linux (Ubuntu 18.04.4 LTS) / x86_64  OK  OK  OK UNNEEDED, same version exists in internal repository
nebbiolo1 Linux (Ubuntu 20.04.1 LTS) / x86_64  OK  OK  OK 
Package 97/398HostnameOS / ArchINSTALLBUILDCHECK
DMRcatedata 2.8.0
Tim Peters
Last Commit: 515236d
Last Changed Date: 2020-10-27 10:08:17 -0500
malbec1 Linux (Ubuntu 18.04.4 LTS) / x86_64  OK  OK  OK UNNEEDED, same version exists in internal repository
nebbiolo1 Linux (Ubuntu 20.04.1 LTS) / x86_64  OK  OK  OK 
Package 98/398HostnameOS / ArchINSTALLBUILDCHECK
DonaPLLP2013 1.28.0
Joseph D. Barry
Last Commit: da3f5ed
Last Changed Date: 2020-10-27 10:04:32 -0500
malbec1 Linux (Ubuntu 18.04.4 LTS) / x86_64  OK  OK  OK UNNEEDED, same version exists in internal repository
nebbiolo1 Linux (Ubuntu 20.04.1 LTS) / x86_64  OK  OK  OK 
Package 99/398HostnameOS / ArchINSTALLBUILDCHECK
dorothea 1.2.0
Christian H. Holland
Last Commit: 46f0c5a
Last Changed Date: 2020-10-27 10:31:26 -0500
malbec1 Linux (Ubuntu 18.04.4 LTS) / x86_64  OK  OK  OK UNNEEDED, same version exists in internal repository
nebbiolo1 Linux (Ubuntu 20.04.1 LTS) / x86_64  OK  OK  OK 
Package 100/398HostnameOS / ArchINSTALLBUILDCHECK
DREAM4 1.26.0
Paul Shannon
Last Commit: 6ae07c0
Last Changed Date: 2020-10-27 10:01:15 -0500
malbec1 Linux (Ubuntu 18.04.4 LTS) / x86_64  OK  OK  WARNINGS UNNEEDED, same version exists in internal repository
nebbiolo1 Linux (Ubuntu 20.04.1 LTS) / x86_64  OK  OK  WARNINGS 
Package 101/398HostnameOS / ArchINSTALLBUILDCHECK
dressCheck 0.28.0
Vincent Carey
Last Commit: 1551865
Last Changed Date: 2020-10-27 09:52:01 -0500
malbec1 Linux (Ubuntu 18.04.4 LTS) / x86_64  OK  OK  OK UNNEEDED, same version exists in internal repository
nebbiolo1 Linux (Ubuntu 20.04.1 LTS) / x86_64  OK  OK  OK 
Package 102/398HostnameOS / ArchINSTALLBUILDCHECK
DropletTestFiles 1.0.0
Aaron Lun
Last Commit: 47f2429
Last Changed Date: 2020-10-27 10:32:28 -0500
malbec1 Linux (Ubuntu 18.04.4 LTS) / x86_64  OK  OK  OK UNNEEDED, same version exists in internal repository
nebbiolo1 Linux (Ubuntu 20.04.1 LTS) / x86_64  OK  OK  OK 
Package 103/398HostnameOS / ArchINSTALLBUILDCHECK
DrugVsDiseasedata 1.26.0
J. Saez-Rodriguez
Last Commit: 343ffe5
Last Changed Date: 2020-10-27 10:01:18 -0500
malbec1 Linux (Ubuntu 18.04.4 LTS) / x86_64  OK  OK  OK UNNEEDED, same version exists in internal repository
nebbiolo1 Linux (Ubuntu 20.04.1 LTS) / x86_64  OK  OK  OK 
Package 104/398HostnameOS / ArchINSTALLBUILDCHECK
dsQTL 0.28.0
VJ Carey
Last Commit: 7026e53
Last Changed Date: 2020-10-27 09:54:56 -0500
malbec1 Linux (Ubuntu 18.04.4 LTS) / x86_64  OK  OK  WARNINGS UNNEEDED, same version exists in internal repository
nebbiolo1 Linux (Ubuntu 20.04.1 LTS) / x86_64  OK  OK  WARNINGS 
Package 105/398HostnameOS / ArchINSTALLBUILDCHECK
DuoClustering2018 1.8.0
Angelo Duò
Last Commit: 6cdb6ba
Last Changed Date: 2020-10-27 10:27:19 -0500
malbec1 Linux (Ubuntu 18.04.4 LTS) / x86_64  OK  OK  OK UNNEEDED, same version exists in internal repository
nebbiolo1 Linux (Ubuntu 20.04.1 LTS) / x86_64  OK  OK  OK 
Package 106/398HostnameOS / ArchINSTALLBUILDCHECK
DvDdata 1.26.0
J. Saez-Rodriguez
Last Commit: 11bae02
Last Changed Date: 2020-10-27 10:00:42 -0500
malbec1 Linux (Ubuntu 18.04.4 LTS) / x86_64  OK  OK  OK UNNEEDED, same version exists in internal repository
nebbiolo1 Linux (Ubuntu 20.04.1 LTS) / x86_64  OK  OK  OK 
Package 107/398HostnameOS / ArchINSTALLBUILDCHECK
dyebiasexamples 1.30.0
Philip Lijnzaad
Last Commit: bd3863c
Last Changed Date: 2020-10-27 09:51:10 -0500
malbec1 Linux (Ubuntu 18.04.4 LTS) / x86_64  OK  OK  WARNINGS UNNEEDED, same version exists in internal repository
nebbiolo1 Linux (Ubuntu 20.04.1 LTS) / x86_64  OK  OK  WARNINGS 
E
ABCDEFGHIJKLMNOPQRSTUVWXYZ
Package 108/398HostnameOS / ArchINSTALLBUILDCHECK
EatonEtAlChIPseq 0.28.0
Patrick Aboyoun
Last Commit: 2fdb80c
Last Changed Date: 2020-10-27 09:51:54 -0500
malbec1 Linux (Ubuntu 18.04.4 LTS) / x86_64  OK  OK  WARNINGS UNNEEDED, same version exists in internal repository
nebbiolo1 Linux (Ubuntu 20.04.1 LTS) / x86_64  OK  OK  WARNINGS 
Package 109/398HostnameOS / ArchINSTALLBUILDCHECK
ecoliLeucine 1.30.0
Laurent Gautier
Last Commit: 17c3f26
Last Changed Date: 2020-10-27 09:45:20 -0500
malbec1 Linux (Ubuntu 18.04.4 LTS) / x86_64  OK  OK  WARNINGS UNNEEDED, same version exists in internal repository
nebbiolo1 Linux (Ubuntu 20.04.1 LTS) / x86_64  OK  OK  WARNINGS 
Package 110/398HostnameOS / ArchINSTALLBUILDCHECK
EGSEAdata 1.18.0
Monther Alhamdoosh
Last Commit: dee7183
Last Changed Date: 2020-10-27 10:19:15 -0500
malbec1 Linux (Ubuntu 18.04.4 LTS) / x86_64  OK  OK  OK UNNEEDED, same version exists in internal repository
nebbiolo1 Linux (Ubuntu 20.04.1 LTS) / x86_64  OK  OK  OK 
Package 111/398HostnameOS / ArchINSTALLBUILDCHECK
ELMER.data 2.14.0
Tiago Chedraoui Silva
Last Commit: f9d6121
Last Changed Date: 2020-10-27 10:13:21 -0500
malbec1 Linux (Ubuntu 18.04.4 LTS) / x86_64  OK  OK  OK UNNEEDED, same version exists in internal repository
nebbiolo1 Linux (Ubuntu 20.04.1 LTS) / x86_64  OK  OK  OK 
Package 112/398HostnameOS / ArchINSTALLBUILDCHECK
estrogen 1.36.0
Wolfgang Huber
Last Commit: bc62605
Last Changed Date: 2020-10-27 09:45:24 -0500
malbec1 Linux (Ubuntu 18.04.4 LTS) / x86_64  OK  OK  OK UNNEEDED, same version exists in internal repository
nebbiolo1 Linux (Ubuntu 20.04.1 LTS) / x86_64  OK  OK  OK 
Package 113/398HostnameOS / ArchINSTALLBUILDCHECK
etec16s 1.18.0
Joseph N. Paulson
Last Commit: 5c229f4
Last Changed Date: 2020-10-27 10:19:02 -0500
malbec1 Linux (Ubuntu 18.04.4 LTS) / x86_64  OK  OK  OK UNNEEDED, same version exists in internal repository
nebbiolo1 Linux (Ubuntu 20.04.1 LTS) / x86_64  OK  OK  OK 
F
ABCDEFGHIJKLMNOPQRSTUVWXYZ
Package 114/398HostnameOS / ArchINSTALLBUILDCHECK
faahKO 1.30.0
Steffen Neumann
Last Commit: 08e8a3d
Last Changed Date: 2020-10-27 09:45:37 -0500
malbec1 Linux (Ubuntu 18.04.4 LTS) / x86_64  OK  OK  OK UNNEEDED, same version exists in internal repository
nebbiolo1 Linux (Ubuntu 20.04.1 LTS) / x86_64  OK  OK  OK 
Package 115/398HostnameOS / ArchINSTALLBUILDCHECK
fabiaData 1.28.0
Sepp Hochreiter
Last Commit: 303b9fa
Last Changed Date: 2020-10-27 09:59:59 -0500
malbec1 Linux (Ubuntu 18.04.4 LTS) / x86_64  OK  OK  OK UNNEEDED, same version exists in internal repository
nebbiolo1 Linux (Ubuntu 20.04.1 LTS) / x86_64  OK  OK  OK 
Package 116/398HostnameOS / ArchINSTALLBUILDCHECK
facsDorit 1.32.0
Florian Hahne
Last Commit: b2236cc
Last Changed Date: 2020-10-27 09:45:41 -0500
malbec1 Linux (Ubuntu 18.04.4 LTS) / x86_64  OK  OK  WARNINGS UNNEEDED, same version exists in internal repository
nebbiolo1 Linux (Ubuntu 20.04.1 LTS) / x86_64  OK  OK  WARNINGS 
Package 117/398HostnameOS / ArchINSTALLBUILDCHECK
FANTOM3and4CAGE 1.26.0
Vanja Haberle
Last Commit: 5d4f3b9
Last Changed Date: 2020-10-27 10:00:55 -0500
malbec1 Linux (Ubuntu 18.04.4 LTS) / x86_64  OK  OK  OK UNNEEDED, same version exists in internal repository
nebbiolo1 Linux (Ubuntu 20.04.1 LTS) / x86_64  OK  OK  OK 
Package 118/398HostnameOS / ArchINSTALLBUILDCHECK
ffpeExampleData 1.28.0
Levi Waldron
Last Commit: 6c21a7b
Last Changed Date: 2020-10-27 09:55:21 -0500
malbec1 Linux (Ubuntu 18.04.4 LTS) / x86_64  OK  OK  OK UNNEEDED, same version exists in internal repository
nebbiolo1 Linux (Ubuntu 20.04.1 LTS) / x86_64  OK  OK  OK 
Package 119/398HostnameOS / ArchINSTALLBUILDCHECK
fibroEset 1.32.0
Sylvia Merk
Last Commit: 63d4a9b
Last Changed Date: 2020-10-27 09:45:46 -0500
malbec1 Linux (Ubuntu 18.04.4 LTS) / x86_64  OK  OK  WARNINGS UNNEEDED, same version exists in internal repository
nebbiolo1 Linux (Ubuntu 20.04.1 LTS) / x86_64  OK  OK  WARNINGS 
Package 120/398HostnameOS / ArchINSTALLBUILDCHECK
FieldEffectCrc 1.0.0
Christopher Dampier
Last Commit: 5d85803
Last Changed Date: 2020-10-27 10:32:06 -0500
malbec1 Linux (Ubuntu 18.04.4 LTS) / x86_64  OK  OK  OK UNNEEDED, same version exists in internal repository
nebbiolo1 Linux (Ubuntu 20.04.1 LTS) / x86_64  OK  OK  OK 
Package 121/398HostnameOS / ArchINSTALLBUILDCHECK
FIs 1.18.0
Herbert Braselmann , Martin Selmansberger
Last Commit: 3ec7700
Last Changed Date: 2020-10-27 10:15:32 -0500
malbec1 Linux (Ubuntu 18.04.4 LTS) / x86_64  OK  OK  OK UNNEEDED, same version exists in internal repository
nebbiolo1 Linux (Ubuntu 20.04.1 LTS) / x86_64  OK  OK  OK 
Package 122/398HostnameOS / ArchINSTALLBUILDCHECK
fission 1.10.0
Michael Love
Last Commit: ce9c694
Last Changed Date: 2020-10-27 10:09:36 -0500
malbec1 Linux (Ubuntu 18.04.4 LTS) / x86_64  OK  OK  OK UNNEEDED, same version exists in internal repository
nebbiolo1 Linux (Ubuntu 20.04.1 LTS) / x86_64  OK  OK  OK 
Package 123/398HostnameOS / ArchINSTALLBUILDCHECK
Fletcher2013a 1.26.0
Mauro Castro
Last Commit: dfcc5cf
Last Changed Date: 2020-10-27 10:04:57 -0500
malbec1 Linux (Ubuntu 18.04.4 LTS) / x86_64  OK  OK  OK UNNEEDED, same version exists in internal repository
nebbiolo1 Linux (Ubuntu 20.04.1 LTS) / x86_64  OK  OK  OK 
Package 124/398HostnameOS / ArchINSTALLBUILDCHECK
Fletcher2013b 1.26.0
Mauro Castro
Last Commit: 99bb143
Last Changed Date: 2020-10-27 10:05:02 -0500
malbec1 Linux (Ubuntu 18.04.4 LTS) / x86_64  OK  OK  OK UNNEEDED, same version exists in internal repository
nebbiolo1 Linux (Ubuntu 20.04.1 LTS) / x86_64  OK  OK  OK 
Package 125/398HostnameOS / ArchINSTALLBUILDCHECK
flowFitExampleData 1.26.0
Davide Rambaldi
Last Commit: dd51ba5
Last Changed Date: 2020-10-27 10:02:22 -0500
malbec1 Linux (Ubuntu 18.04.4 LTS) / x86_64  OK  OK  WARNINGS UNNEEDED, same version exists in internal repository
nebbiolo1 Linux (Ubuntu 20.04.1 LTS) / x86_64  OK  OK  WARNINGS 
Package 126/398HostnameOS / ArchINSTALLBUILDCHECK
flowPloidyData 1.16.0
Tyler Smith
Last Commit: f1cc4d8
Last Changed Date: 2020-10-27 10:21:48 -0500
malbec1 Linux (Ubuntu 18.04.4 LTS) / x86_64  OK  OK  OK UNNEEDED, same version exists in internal repository
nebbiolo1 Linux (Ubuntu 20.04.1 LTS) / x86_64  OK  OK  OK 
Package 127/398HostnameOS / ArchINSTALLBUILDCHECK
FlowSorted.Blood.450k 1.28.0
Andrew E Jaffe
Last Commit: e784ed9
Last Changed Date: 2020-10-27 10:05:36 -0500
malbec1 Linux (Ubuntu 18.04.4 LTS) / x86_64  OK  OK  OK UNNEEDED, same version exists in internal repository
nebbiolo1 Linux (Ubuntu 20.04.1 LTS) / x86_64  OK  OK  OK 
Package 128/398HostnameOS / ArchINSTALLBUILDCHECK
FlowSorted.Blood.EPIC 1.8.0
Lucas A. Salas
Last Commit: ffc8bf0
Last Changed Date: 2020-10-27 10:26:55 -0500
malbec1 Linux (Ubuntu 18.04.4 LTS) / x86_64  OK  OK  OK UNNEEDED, same version exists in internal repository
nebbiolo1 Linux (Ubuntu 20.04.1 LTS) / x86_64  OK  OK  OK 
Package 129/398HostnameOS / ArchINSTALLBUILDCHECK
FlowSorted.CordBlood.450k 1.18.0
Shan V. Andrews
Last Commit: edd3525
Last Changed Date: 2020-10-27 10:17:56 -0500
malbec1 Linux (Ubuntu 18.04.4 LTS) / x86_64  OK  OK  OK UNNEEDED, same version exists in internal repository
nebbiolo1 Linux (Ubuntu 20.04.1 LTS) / x86_64  OK  OK  OK 
Package 130/398HostnameOS / ArchINSTALLBUILDCHECK
FlowSorted.CordBloodCombined.450k 1.6.0
Lucas A. Salas
Last Commit: 6b7dc43
Last Changed Date: 2020-10-27 10:29:27 -0500
malbec1 Linux (Ubuntu 18.04.4 LTS) / x86_64  OK  OK  OK UNNEEDED, same version exists in internal repository
nebbiolo1 Linux (Ubuntu 20.04.1 LTS) / x86_64  OK  OK  OK 
Package 131/398HostnameOS / ArchINSTALLBUILDCHECK
FlowSorted.CordBloodNorway.450k 1.16.0
kristina gervin
Last Commit: 00dc1f1
Last Changed Date: 2020-10-27 10:22:16 -0500
malbec1 Linux (Ubuntu 18.04.4 LTS) / x86_64  OK  OK  OK UNNEEDED, same version exists in internal repository
nebbiolo1 Linux (Ubuntu 20.04.1 LTS) / x86_64  OK  OK  OK 
Package 132/398HostnameOS / ArchINSTALLBUILDCHECK
FlowSorted.DLPFC.450k 1.26.0
Andrew E Jaffe
Last Commit: 7cdd758
Last Changed Date: 2020-10-27 10:08:55 -0500
malbec1 Linux (Ubuntu 18.04.4 LTS) / x86_64  OK  OK  OK UNNEEDED, same version exists in internal repository
nebbiolo1 Linux (Ubuntu 20.04.1 LTS) / x86_64  OK  OK  OK 
Package 133/398HostnameOS / ArchINSTALLBUILDCHECK
flowWorkspaceData 3.2.0
Mike Jiang
Last Commit: 1722110
Last Changed Date: 2020-10-27 09:53:07 -0500
malbec1 Linux (Ubuntu 18.04.4 LTS) / x86_64  OK  OK  OK UNNEEDED, same version exists in internal repository
nebbiolo1 Linux (Ubuntu 20.04.1 LTS) / x86_64  OK  OK  OK 
Package 134/398HostnameOS / ArchINSTALLBUILDCHECK
frmaExampleData 1.26.0
Matthew N. McCall
Last Commit: 319cc8b
Last Changed Date: 2020-10-27 09:51:30 -0500
malbec1 Linux (Ubuntu 18.04.4 LTS) / x86_64  OK  OK  WARNINGS UNNEEDED, same version exists in internal repository
nebbiolo1 Linux (Ubuntu 20.04.1 LTS) / x86_64  OK  OK  WARNINGS 
Package 135/398HostnameOS / ArchINSTALLBUILDCHECK
FunciSNP.data 1.26.0
Simon G. Coetzee
Last Commit: 54e9370
Last Changed Date: 2020-10-27 09:55:39 -0500
malbec1 Linux (Ubuntu 18.04.4 LTS) / x86_64  OK  OK  ERROR 
nebbiolo1 Linux (Ubuntu 20.04.1 LTS) / x86_64  OK  OK  ERROR 
Package 136/398HostnameOS / ArchINSTALLBUILDCHECK
furrowSeg 1.18.0
Joseph Barry
Last Commit: 772b9de
Last Changed Date: 2020-10-27 10:15:35 -0500
malbec1 Linux (Ubuntu 18.04.4 LTS) / x86_64  OK  OK  WARNINGS UNNEEDED, same version exists in internal repository
nebbiolo1 Linux (Ubuntu 20.04.1 LTS) / x86_64  OK  OK  WARNINGS 
G
ABCDEFGHIJKLMNOPQRSTUVWXYZ
Package 137/398HostnameOS / ArchINSTALLBUILDCHECK
gageData 2.28.0
Weijun Luo
Last Commit: 364cde7
Last Changed Date: 2020-10-27 09:52:12 -0500
malbec1 Linux (Ubuntu 18.04.4 LTS) / x86_64  OK  OK  OK UNNEEDED, same version exists in internal repository
nebbiolo1 Linux (Ubuntu 20.04.1 LTS) / x86_64  OK  OK  OK 
Package 138/398HostnameOS / ArchINSTALLBUILDCHECK
gaschYHS 1.28.0
Vince Carey
Last Commit: ee18d6a
Last Changed Date: 2020-10-27 09:45:49 -0500
malbec1 Linux (Ubuntu 18.04.4 LTS) / x86_64  OK  OK  OK UNNEEDED, same version exists in internal repository
nebbiolo1 Linux (Ubuntu 20.04.1 LTS) / x86_64  OK  OK  OK 
Package 139/398HostnameOS / ArchINSTALLBUILDCHECK
gatingMLData 2.30.0
J. Spidlen
Last Commit: 6f9614e
Last Changed Date: 2020-10-27 09:45:52 -0500
malbec1 Linux (Ubuntu 18.04.4 LTS) / x86_64  OK  OK  OK UNNEEDED, same version exists in internal repository
nebbiolo1 Linux (Ubuntu 20.04.1 LTS) / x86_64  OK  OK  OK 
Package 140/398HostnameOS / ArchINSTALLBUILDCHECK
gcspikelite 1.28.0
Mark Robinson
Last Commit: 8ac5bc6
Last Changed Date: 2020-10-27 09:51:04 -0500
malbec1 Linux (Ubuntu 18.04.4 LTS) / x86_64  OK  OK  WARNINGS UNNEEDED, same version exists in internal repository
nebbiolo1 Linux (Ubuntu 20.04.1 LTS) / x86_64  OK  OK  WARNINGS 
Package 141/398HostnameOS / ArchINSTALLBUILDCHECK
geneLenDataBase 1.26.0
Matthew Young , Nadia Davidson
Last Commit: 2724715
Last Changed Date: 2020-10-27 09:51:48 -0500
malbec1 Linux (Ubuntu 18.04.4 LTS) / x86_64  OK  OK  WARNINGS UNNEEDED, same version exists in internal repository
nebbiolo1 Linux (Ubuntu 20.04.1 LTS) / x86_64  OK  OK  WARNINGS 
Package 142/398HostnameOS / ArchINSTALLBUILDCHECK
genomationData 1.22.0
Vedran Franke
Last Commit: e1d4810
Last Changed Date: 2020-10-27 10:10:52 -0500
malbec1 Linux (Ubuntu 18.04.4 LTS) / x86_64  OK  OK  OK UNNEEDED, same version exists in internal repository
nebbiolo1 Linux (Ubuntu 20.04.1 LTS) / x86_64  OK  OK  OK 
Package 143/398HostnameOS / ArchINSTALLBUILDCHECK
GeuvadisTranscriptExpr 1.18.0
Malgorzata Nowicka
Last Commit: 21a70c6
Last Changed Date: 2020-10-27 10:18:49 -0500
malbec1 Linux (Ubuntu 18.04.4 LTS) / x86_64  OK  OK  OK UNNEEDED, same version exists in internal repository
nebbiolo1 Linux (Ubuntu 20.04.1 LTS) / x86_64  OK  OK  OK 
Package 144/398HostnameOS / ArchINSTALLBUILDCHECK
geuvPack 1.22.0
VJ Carey
Last Commit: c24735f
Last Changed Date: 2020-10-27 10:10:57 -0500
malbec1 Linux (Ubuntu 18.04.4 LTS) / x86_64  OK  OK  WARNINGS UNNEEDED, same version exists in internal repository
nebbiolo1 Linux (Ubuntu 20.04.1 LTS) / x86_64  OK  OK  WARNINGS 
Package 145/398HostnameOS / ArchINSTALLBUILDCHECK
geuvStore2 1.20.0
VJ Carey
Last Commit: 12dd483
Last Changed Date: 2020-10-27 10:15:49 -0500
malbec1 Linux (Ubuntu 18.04.4 LTS) / x86_64  ERROR  ERROR  skipped 
nebbiolo1 Linux (Ubuntu 20.04.1 LTS) / x86_64  ERROR  ERROR  skipped 
Package 146/398HostnameOS / ArchINSTALLBUILDCHECK
GGdata 1.28.0
VJ Carey
Last Commit: c3d63d9
Last Changed Date: 2020-10-27 09:46:17 -0500
malbec1 Linux (Ubuntu 18.04.4 LTS) / x86_64  OK  OK  WARNINGS UNNEEDED, same version exists in internal repository
nebbiolo1 Linux (Ubuntu 20.04.1 LTS) / x86_64  OK  OK  WARNINGS 
Package 147/398HostnameOS / ArchINSTALLBUILDCHECK
GIGSEAdata 1.8.0
Shijia Zhu
Last Commit: ca487c4
Last Changed Date: 2020-10-27 10:27:09 -0500
malbec1 Linux (Ubuntu 18.04.4 LTS) / x86_64  OK  OK  OK UNNEEDED, same version exists in internal repository
nebbiolo1 Linux (Ubuntu 20.04.1 LTS) / x86_64  OK  OK  OK 
Package 148/398HostnameOS / ArchINSTALLBUILDCHECK
golubEsets 1.32.0
Vince Carey
Last Commit: 1745916
Last Changed Date: 2020-10-27 09:46:21 -0500
malbec1 Linux (Ubuntu 18.04.4 LTS) / x86_64  OK  OK  OK UNNEEDED, same version exists in internal repository
nebbiolo1 Linux (Ubuntu 20.04.1 LTS) / x86_64  OK  OK  OK 
Package 149/398HostnameOS / ArchINSTALLBUILDCHECK
gpaExample 1.2.0
Dongjun Chung
Last Commit: 96a535e
Last Changed Date: 2020-10-27 10:31:31 -0500
malbec1 Linux (Ubuntu 18.04.4 LTS) / x86_64  OK  OK  OK UNNEEDED, same version exists in internal repository
nebbiolo1 Linux (Ubuntu 20.04.1 LTS) / x86_64  OK  OK  OK 
Package 150/398HostnameOS / ArchINSTALLBUILDCHECK
grndata 1.22.0
Pau Bellot
Last Commit: 29acc96
Last Changed Date: 2020-10-27 10:11:46 -0500
malbec1 Linux (Ubuntu 18.04.4 LTS) / x86_64  OK  OK  OK UNNEEDED, same version exists in internal repository
nebbiolo1 Linux (Ubuntu 20.04.1 LTS) / x86_64  OK  OK  OK 
Package 151/398HostnameOS / ArchINSTALLBUILDCHECK
GSBenchMark 1.10.0
Bahman Afsari
Last Commit: c532dc3
Last Changed Date: 2020-10-27 10:09:32 -0500
malbec1 Linux (Ubuntu 18.04.4 LTS) / x86_64  OK  OK  OK UNNEEDED, same version exists in internal repository
nebbiolo1 Linux (Ubuntu 20.04.1 LTS) / x86_64  OK  OK  OK 
Package 152/398HostnameOS / ArchINSTALLBUILDCHECK
GSE62944 1.18.0
Bioconductor Package Maintainer
Last Commit: 9d577f4
Last Changed Date: 2020-10-27 10:18:04 -0500
malbec1 Linux (Ubuntu 18.04.4 LTS) / x86_64  OK  OK  OK UNNEEDED, same version exists in internal repository
nebbiolo1 Linux (Ubuntu 20.04.1 LTS) / x86_64  OK  OK  OK 
Package 153/398HostnameOS / ArchINSTALLBUILDCHECK
gskb 1.22.0
Valerie Bares
Last Commit: b9c0097
Last Changed Date: 2020-10-27 10:12:51 -0500
malbec1 Linux (Ubuntu 18.04.4 LTS) / x86_64  OK  OK  OK UNNEEDED, same version exists in internal repository
nebbiolo1 Linux (Ubuntu 20.04.1 LTS) / x86_64  OK  OK  OK 
Package 154/398HostnameOS / ArchINSTALLBUILDCHECK
GSVAdata 1.26.0
Robert Castelo
Last Commit: 189f22e
Last Changed Date: 2020-10-27 09:53:04 -0500
malbec1 Linux (Ubuntu 18.04.4 LTS) / x86_64  OK  OK  OK UNNEEDED, same version exists in internal repository
nebbiolo1 Linux (Ubuntu 20.04.1 LTS) / x86_64  OK  OK  OK 
Package 155/398HostnameOS / ArchINSTALLBUILDCHECK
GWASdata 1.28.0
Stephanie Gogarten , Adrienne Stilp
Last Commit: 3989318
Last Changed Date: 2020-10-27 09:53:53 -0500
malbec1 Linux (Ubuntu 18.04.4 LTS) / x86_64  OK  OK  OK UNNEEDED, same version exists in internal repository
nebbiolo1 Linux (Ubuntu 20.04.1 LTS) / x86_64  OK  OK  OK 
H
ABCDEFGHIJKLMNOPQRSTUVWXYZ
Package 156/398HostnameOS / ArchINSTALLBUILDCHECK
h5vcData 2.10.0
Paul Theodor Pyl
Last Commit: d6eb85a
Last Changed Date: 2020-10-27 10:06:41 -0500
malbec1 Linux (Ubuntu 18.04.4 LTS) / x86_64  OK  OK  OK UNNEEDED, same version exists in internal repository
nebbiolo1 Linux (Ubuntu 20.04.1 LTS) / x86_64  OK  OK  OK 
Package 157/398HostnameOS / ArchINSTALLBUILDCHECK
hapmap100khind 1.32.0
Benilton Carvalho
Last Commit: dc1968d
Last Changed Date: 2020-10-27 09:48:03 -0500
malbec1 Linux (Ubuntu 18.04.4 LTS) / x86_64  OK  OK  OK UNNEEDED, same version exists in internal repository
nebbiolo1 Linux (Ubuntu 20.04.1 LTS) / x86_64  OK  OK  OK 
Package 158/398HostnameOS / ArchINSTALLBUILDCHECK
hapmap100kxba 1.32.0
Benilton Carvalho
Last Commit: 12e7208
Last Changed Date: 2020-10-27 09:47:25 -0500
malbec1 Linux (Ubuntu 18.04.4 LTS) / x86_64  OK  OK  OK UNNEEDED, same version exists in internal repository
nebbiolo1 Linux (Ubuntu 20.04.1 LTS) / x86_64  OK  OK  OK 
Package 159/398HostnameOS / ArchINSTALLBUILDCHECK
hapmap500knsp 1.32.0
Benilton Carvalho
Last Commit: 4d99b4c
Last Changed Date: 2020-10-27 09:48:08 -0500
malbec1 Linux (Ubuntu 18.04.4 LTS) / x86_64  OK  OK  OK UNNEEDED, same version exists in internal repository
nebbiolo1 Linux (Ubuntu 20.04.1 LTS) / x86_64  OK  OK  OK 
Package 160/398HostnameOS / ArchINSTALLBUILDCHECK
hapmap500ksty 1.32.0
Benilton Carvalho
Last Commit: 5d2f1ff
Last Changed Date: 2020-10-27 09:48:18 -0500
malbec1 Linux (Ubuntu 18.04.4 LTS) / x86_64  OK  OK  OK UNNEEDED, same version exists in internal repository
nebbiolo1 Linux (Ubuntu 20.04.1 LTS) / x86_64  OK  OK  OK 
Package 161/398HostnameOS / ArchINSTALLBUILDCHECK
hapmapsnp5 1.32.0
Benilton Carvalho
Last Commit: e9007d4
Last Changed Date: 2020-10-27 09:49:14 -0500
malbec1 Linux (Ubuntu 18.04.4 LTS) / x86_64  OK  OK  OK UNNEEDED, same version exists in internal repository
nebbiolo1 Linux (Ubuntu 20.04.1 LTS) / x86_64  OK  OK  OK 
Package 162/398HostnameOS / ArchINSTALLBUILDCHECK
hapmapsnp6 1.32.0
Benilton Carvalho
Last Commit: 4d80cd5
Last Changed Date: 2020-10-27 09:49:22 -0500
malbec1 Linux (Ubuntu 18.04.4 LTS) / x86_64  OK  OK  OK UNNEEDED, same version exists in internal repository
nebbiolo1 Linux (Ubuntu 20.04.1 LTS) / x86_64  OK  OK  OK 
Package 163/398HostnameOS / ArchINSTALLBUILDCHECK
harbChIP 1.28.0
VJ Carey
Last Commit: 413ca21
Last Changed Date: 2020-10-27 09:46:24 -0500
malbec1 Linux (Ubuntu 18.04.4 LTS) / x86_64  OK  OK  OK UNNEEDED, same version exists in internal repository
nebbiolo1 Linux (Ubuntu 20.04.1 LTS) / x86_64  OK  OK  OK 
Package 164/398HostnameOS / ArchINSTALLBUILDCHECK
HarmanData 1.18.0
Jason Ross
Last Commit: 1f1b6bd
Last Changed Date: 2020-10-27 10:19:05 -0500
malbec1 Linux (Ubuntu 18.04.4 LTS) / x86_64  OK  OK  OK UNNEEDED, same version exists in internal repository
nebbiolo1 Linux (Ubuntu 20.04.1 LTS) / x86_64  OK  OK  OK 
Package 165/398HostnameOS / ArchINSTALLBUILDCHECK
HarmonizedTCGAData 1.12.0
Tianle Ma
Last Commit: 88f70a3
Last Changed Date: 2020-10-27 10:24:16 -0500
malbec1 Linux (Ubuntu 18.04.4 LTS) / x86_64  OK  OK  OK UNNEEDED, same version exists in internal repository
nebbiolo1 Linux (Ubuntu 20.04.1 LTS) / x86_64  OK  OK  OK 
Package 166/398HostnameOS / ArchINSTALLBUILDCHECK
HCAData 1.6.0
Federico Marini
Last Commit: 37094ca
Last Changed Date: 2020-10-27 10:28:49 -0500
malbec1 Linux (Ubuntu 18.04.4 LTS) / x86_64  OK  OK  OK UNNEEDED, same version exists in internal repository
nebbiolo1 Linux (Ubuntu 20.04.1 LTS) / x86_64  OK  OK  OK 
Package 167/398HostnameOS / ArchINSTALLBUILDCHECK
HD2013SGI 1.30.0
Bernd Fischer
Last Commit: 119ea3a
Last Changed Date: 2020-10-27 10:01:22 -0500
malbec1 Linux (Ubuntu 18.04.4 LTS) / x86_64  OK  OK  OK UNNEEDED, same version exists in internal repository
nebbiolo1 Linux (Ubuntu 20.04.1 LTS) / x86_64  OK  OK  OK 
Package 168/398HostnameOS / ArchINSTALLBUILDCHECK
HDCytoData 1.10.0
Lukas M. Weber
Last Commit: bc12c72
Last Changed Date: 2020-10-27 10:26:33 -0500
malbec1 Linux (Ubuntu 18.04.4 LTS) / x86_64  OK  OK  OK UNNEEDED, same version exists in internal repository
nebbiolo1 Linux (Ubuntu 20.04.1 LTS) / x86_64  OK  OK  OK 
Package 169/398HostnameOS / ArchINSTALLBUILDCHECK
healthyFlowData 1.28.0
Ariful Azad
Last Commit: 6fbfb52
Last Changed Date: 2020-10-27 10:07:33 -0500
malbec1 Linux (Ubuntu 18.04.4 LTS) / x86_64  OK  OK  OK UNNEEDED, same version exists in internal repository
nebbiolo1 Linux (Ubuntu 20.04.1 LTS) / x86_64  OK  OK  OK 
Package 170/398HostnameOS / ArchINSTALLBUILDCHECK
HEEBOdata 1.28.0
Agnes Paquet
Last Commit: 8c7fa51
Last Changed Date: 2020-10-27 09:46:27 -0500
malbec1 Linux (Ubuntu 18.04.4 LTS) / x86_64  OK  OK  WARNINGS UNNEEDED, same version exists in internal repository
nebbiolo1 Linux (Ubuntu 20.04.1 LTS) / x86_64  OK  OK  WARNINGS 
Package 171/398HostnameOS / ArchINSTALLBUILDCHECK
HelloRangesData 1.16.0
Michael Lawrence
Last Commit: 56bb56b
Last Changed Date: 2020-10-27 10:21:52 -0500
malbec1 Linux (Ubuntu 18.04.4 LTS) / x86_64  OK  OK  OK UNNEEDED, same version exists in internal repository
nebbiolo1 Linux (Ubuntu 20.04.1 LTS) / x86_64  OK  OK  OK 
Package 172/398HostnameOS / ArchINSTALLBUILDCHECK
hgu133abarcodevecs 1.28.0
Matthew N. McCall
Last Commit: 9bbca38
Last Changed Date: 2020-10-27 09:51:42 -0500
malbec1 Linux (Ubuntu 18.04.4 LTS) / x86_64  OK  OK  OK UNNEEDED, same version exists in internal repository
nebbiolo1 Linux (Ubuntu 20.04.1 LTS) / x86_64  OK  OK  OK 
Package 173/398HostnameOS / ArchINSTALLBUILDCHECK
hgu133plus2barcodevecs 1.28.0
Matthew N. McCall
Last Commit: 1cdf74e
Last Changed Date: 2020-10-27 09:51:38 -0500
malbec1 Linux (Ubuntu 18.04.4 LTS) / x86_64  OK  OK  OK UNNEEDED, same version exists in internal repository
nebbiolo1 Linux (Ubuntu 20.04.1 LTS) / x86_64  OK  OK  OK 
Package 174/398HostnameOS / ArchINSTALLBUILDCHECK
hgu133plus2CellScore 1.10.0
Nancy Mah
Last Commit: 8d8ce81
Last Changed Date: 2020-10-27 10:26:08 -0500
malbec1 Linux (Ubuntu 18.04.4 LTS) / x86_64  OK  OK  OK UNNEEDED, same version exists in internal repository
nebbiolo1 Linux (Ubuntu 20.04.1 LTS) / x86_64  OK  OK  OK 
Package 175/398HostnameOS / ArchINSTALLBUILDCHECK
hgu2beta7 1.30.0
Bioconductor Package Maintainer
Last Commit: 72cec45
Last Changed Date: 2020-10-27 09:46:31 -0500
malbec1 Linux (Ubuntu 18.04.4 LTS) / x86_64  OK  OK  WARNINGS UNNEEDED, same version exists in internal repository
nebbiolo1 Linux (Ubuntu 20.04.1 LTS) / x86_64  OK  OK  WARNINGS 
Package 176/398HostnameOS / ArchINSTALLBUILDCHECK
HiCDataHumanIMR90 1.10.0
Nicolas Servant
Last Commit: c14938a
Last Changed Date: 2020-10-27 10:09:47 -0500
malbec1 Linux (Ubuntu 18.04.4 LTS) / x86_64  OK  OK  OK UNNEEDED, same version exists in internal repository
nebbiolo1 Linux (Ubuntu 20.04.1 LTS) / x86_64  OK  OK  OK 
Package 177/398HostnameOS / ArchINSTALLBUILDCHECK
HiCDataLymphoblast 1.26.0
Borbala Mifsud
Last Commit: b52f792
Last Changed Date: 2020-10-27 10:07:01 -0500
malbec1 Linux (Ubuntu 18.04.4 LTS) / x86_64  OK  OK  OK UNNEEDED, same version exists in internal repository
nebbiolo1 Linux (Ubuntu 20.04.1 LTS) / x86_64  OK  OK  OK 
Package 178/398HostnameOS / ArchINSTALLBUILDCHECK
HighlyReplicatedRNASeq 1.2.0
Constantin Ahlmann-Eltze
Last Commit: 8de508b
Last Changed Date: 2020-10-27 10:31:22 -0500
malbec1 Linux (Ubuntu 18.04.4 LTS) / x86_64  OK  OK  OK UNNEEDED, same version exists in internal repository
nebbiolo1 Linux (Ubuntu 20.04.1 LTS) / x86_64  OK  OK  OK 
Package 179/398HostnameOS / ArchINSTALLBUILDCHECK
Hiiragi2013 1.26.0
Andrzej Oles
Last Commit: a962879
Last Changed Date: 2020-10-27 10:01:36 -0500
malbec1 Linux (Ubuntu 18.04.4 LTS) / x86_64  OK  OK  OK UNNEEDED, same version exists in internal repository
nebbiolo1 Linux (Ubuntu 20.04.1 LTS) / x86_64  OK  OK  OK 
Package 180/398HostnameOS / ArchINSTALLBUILDCHECK
HIVcDNAvantWout03 1.30.0
Chris Fraley
Last Commit: a5ec5d8
Last Changed Date: 2020-10-27 09:46:34 -0500
malbec1 Linux (Ubuntu 18.04.4 LTS) / x86_64  OK  OK  WARNINGS UNNEEDED, same version exists in internal repository
nebbiolo1 Linux (Ubuntu 20.04.1 LTS) / x86_64  OK  OK  WARNINGS 
Package 181/398HostnameOS / ArchINSTALLBUILDCHECK
HMP16SData 1.10.0
Lucas Schiffer
Last Commit: c37993e
Last Changed Date: 2020-10-27 10:24:33 -0500
malbec1 Linux (Ubuntu 18.04.4 LTS) / x86_64  OK  OK  OK UNNEEDED, same version exists in internal repository
nebbiolo1 Linux (Ubuntu 20.04.1 LTS) / x86_64  OK  OK  OK 
Package 182/398HostnameOS / ArchINSTALLBUILDCHECK
HMP2Data 1.4.0
John Stansfield , Ekaterina Smirnova
Last Commit: b9ed5eb
Last Changed Date: 2020-10-27 10:30:12 -0500
malbec1 Linux (Ubuntu 18.04.4 LTS) / x86_64  OK  OK  OK UNNEEDED, same version exists in internal repository
nebbiolo1 Linux (Ubuntu 20.04.1 LTS) / x86_64  OK  OK  OK 
Package 183/398HostnameOS / ArchINSTALLBUILDCHECK
hmyriB36 1.26.0
Vincent Carey
Last Commit: 6a9b11e
Last Changed Date: 2020-10-27 09:50:57 -0500
malbec1 Linux (Ubuntu 18.04.4 LTS) / x86_64  OK  OK  WARNINGS UNNEEDED, same version exists in internal repository
nebbiolo1 Linux (Ubuntu 20.04.1 LTS) / x86_64  OK  OK  WARNINGS 
Package 184/398HostnameOS / ArchINSTALLBUILDCHECK
HSMMSingleCell 1.10.0
Cole Trapnell
Last Commit: e872b6b
Last Changed Date: 2020-10-27 10:09:00 -0500
malbec1 Linux (Ubuntu 18.04.4 LTS) / x86_64  OK  OK  WARNINGS UNNEEDED, same version exists in internal repository
nebbiolo1 Linux (Ubuntu 20.04.1 LTS) / x86_64  OK  OK  WARNINGS 
Package 185/398HostnameOS / ArchINSTALLBUILDCHECK
HumanAffyData 1.16.0
Brad Nelms
Last Commit: 93e2c3c
Last Changed Date: 2020-10-27 10:21:38 -0500
malbec1 Linux (Ubuntu 18.04.4 LTS) / x86_64  OK  OK  OK UNNEEDED, same version exists in internal repository
nebbiolo1 Linux (Ubuntu 20.04.1 LTS) / x86_64  OK  OK  OK 
Package 186/398HostnameOS / ArchINSTALLBUILDCHECK
humanStemCell 0.30.0
R. Gentleman
Last Commit: 29e0718
Last Changed Date: 2020-10-27 09:50:51 -0500
malbec1 Linux (Ubuntu 18.04.4 LTS) / x86_64  OK  OK  WARNINGS UNNEEDED, same version exists in internal repository
nebbiolo1 Linux (Ubuntu 20.04.1 LTS) / x86_64  OK  OK  WARNINGS 
I
ABCDEFGHIJKLMNOPQRSTUVWXYZ
Package 187/398HostnameOS / ArchINSTALLBUILDCHECK
IHWpaper 1.18.0
Nikos Ignatiadis
Last Commit: 8bdf566
Last Changed Date: 2020-10-27 10:19:19 -0500
malbec1 Linux (Ubuntu 18.04.4 LTS) / x86_64  OK  OK  OK UNNEEDED, same version exists in internal repository
nebbiolo1 Linux (Ubuntu 20.04.1 LTS) / x86_64  OK  OK  OK 
Package 188/398HostnameOS / ArchINSTALLBUILDCHECK
Illumina450ProbeVariants.db 1.26.0
Tiffany Morris
Last Commit: fffe603
Last Changed Date: 2020-10-27 10:06:38 -0500
malbec1 Linux (Ubuntu 18.04.4 LTS) / x86_64  OK  OK  OK UNNEEDED, same version exists in internal repository
nebbiolo1 Linux (Ubuntu 20.04.1 LTS) / x86_64  OK  OK  OK 
Package 189/398HostnameOS / ArchINSTALLBUILDCHECK
IlluminaDataTestFiles 1.28.0
Kasper Daniel Hansen
Last Commit: 55e39d8
Last Changed Date: 2020-10-27 10:04:40 -0500
malbec1 Linux (Ubuntu 18.04.4 LTS) / x86_64  OK  OK  OK UNNEEDED, same version exists in internal repository
nebbiolo1 Linux (Ubuntu 20.04.1 LTS) / x86_64  OK  OK  OK 
Package 190/398HostnameOS / ArchINSTALLBUILDCHECK
ITALICSData 2.28.0
Guillem Rigaill
Last Commit: 9ec1919
Last Changed Date: 2020-10-27 09:50:31 -0500
malbec1 Linux (Ubuntu 18.04.4 LTS) / x86_64  OK  OK  WARNINGS UNNEEDED, same version exists in internal repository
nebbiolo1 Linux (Ubuntu 20.04.1 LTS) / x86_64  OK  OK  WARNINGS 
Package 191/398HostnameOS / ArchINSTALLBUILDCHECK
Iyer517 1.32.0
Vince Carey
Last Commit: cdc6191
Last Changed Date: 2020-10-27 09:46:37 -0500
malbec1 Linux (Ubuntu 18.04.4 LTS) / x86_64  OK  OK  OK UNNEEDED, same version exists in internal repository
nebbiolo1 Linux (Ubuntu 20.04.1 LTS) / x86_64  OK  OK  OK 
J
ABCDEFGHIJKLMNOPQRSTUVWXYZ
Package 192/398HostnameOS / ArchINSTALLBUILDCHECK
JASPAR2014 1.26.0
Ge Tan
Last Commit: 90d06a2
Last Changed Date: 2020-10-27 10:05:53 -0500
malbec1 Linux (Ubuntu 18.04.4 LTS) / x86_64  OK  OK  OK UNNEEDED, same version exists in internal repository
nebbiolo1 Linux (Ubuntu 20.04.1 LTS) / x86_64  OK  OK  OK 
Package 193/398HostnameOS / ArchINSTALLBUILDCHECK
JASPAR2016 1.18.0
Ge Tan
Last Commit: 5334d72
Last Changed Date: 2020-10-27 10:15:45 -0500
malbec1 Linux (Ubuntu 18.04.4 LTS) / x86_64  OK  OK  OK UNNEEDED, same version exists in internal repository
nebbiolo1 Linux (Ubuntu 20.04.1 LTS) / x86_64  OK  OK  OK 
Package 194/398HostnameOS / ArchINSTALLBUILDCHECK
JctSeqData 1.20.0
Stephen Hartley
Last Commit: b5ac061
Last Changed Date: 2020-10-27 10:16:03 -0500
malbec1 Linux (Ubuntu 18.04.4 LTS) / x86_64  OK  OK  OK UNNEEDED, same version exists in internal repository
nebbiolo1 Linux (Ubuntu 20.04.1 LTS) / x86_64  OK  OK  OK 
K
ABCDEFGHIJKLMNOPQRSTUVWXYZ
Package 195/398HostnameOS / ArchINSTALLBUILDCHECK
KEGGandMetacoreDzPathwaysGEO 1.10.0
Gaurav Bhatti
Last Commit: af35edc
Last Changed Date: 2020-10-27 10:09:09 -0500
malbec1 Linux (Ubuntu 18.04.4 LTS) / x86_64  OK  OK  OK UNNEEDED, same version exists in internal repository
nebbiolo1 Linux (Ubuntu 20.04.1 LTS) / x86_64  OK  OK  OK 
Package 196/398HostnameOS / ArchINSTALLBUILDCHECK
KEGGdzPathwaysGEO 1.28.0
Gaurav Bhatti
Last Commit: 28546ca
Last Changed Date: 2020-10-27 09:56:50 -0500
malbec1 Linux (Ubuntu 18.04.4 LTS) / x86_64  OK  OK  OK UNNEEDED, same version exists in internal repository
nebbiolo1 Linux (Ubuntu 20.04.1 LTS) / x86_64  OK  OK  OK 
Package 197/398HostnameOS / ArchINSTALLBUILDCHECK
kidpack 1.32.0
Wolfgang Huber
Last Commit: d6074d5
Last Changed Date: 2020-10-27 09:46:40 -0500
malbec1 Linux (Ubuntu 18.04.4 LTS) / x86_64  OK  OK  WARNINGS UNNEEDED, same version exists in internal repository
nebbiolo1 Linux (Ubuntu 20.04.1 LTS) / x86_64  OK  OK  WARNINGS 
Package 198/398HostnameOS / ArchINSTALLBUILDCHECK
KOdata 1.16.0
Shana White
Last Commit: dbf7a3d
Last Changed Date: 2020-10-27 10:21:44 -0500
malbec1 Linux (Ubuntu 18.04.4 LTS) / x86_64  OK  OK  OK UNNEEDED, same version exists in internal repository
nebbiolo1 Linux (Ubuntu 20.04.1 LTS) / x86_64  OK  OK  OK 
L
ABCDEFGHIJKLMNOPQRSTUVWXYZ
Package 199/398HostnameOS / ArchINSTALLBUILDCHECK
leeBamViews 1.26.0
VJ Carey
Last Commit: e8f0e19
Last Changed Date: 2020-10-27 09:51:45 -0500
malbec1 Linux (Ubuntu 18.04.4 LTS) / x86_64  OK  OK  OK UNNEEDED, same version exists in internal repository
nebbiolo1 Linux (Ubuntu 20.04.1 LTS) / x86_64  OK  OK  OK 
Package 200/398HostnameOS / ArchINSTALLBUILDCHECK
leukemiasEset 1.26.0
Sara Aibar
Last Commit: 2f260f7
Last Changed Date: 2020-10-27 10:01:45 -0500
malbec1 Linux (Ubuntu 18.04.4 LTS) / x86_64  OK  OK  OK UNNEEDED, same version exists in internal repository
nebbiolo1 Linux (Ubuntu 20.04.1 LTS) / x86_64  OK  OK  OK 
Package 201/398HostnameOS / ArchINSTALLBUILDCHECK
LiebermanAidenHiC2009 0.28.0
Felix Klein
Last Commit: 78285a4
Last Changed Date: 2020-10-27 09:53:33 -0500
malbec1 Linux (Ubuntu 18.04.4 LTS) / x86_64  OK  OK  WARNINGS UNNEEDED, same version exists in internal repository
nebbiolo1 Linux (Ubuntu 20.04.1 LTS) / x86_64  OK  OK  WARNINGS 
Package 202/398HostnameOS / ArchINSTALLBUILDCHECK
ListerEtAlBSseq 1.22.0
Kamal Kishore
Last Commit: 91cb664
Last Changed Date: 2020-10-27 10:10:02 -0500
malbec1 Linux (Ubuntu 18.04.4 LTS) / x86_64  OK  OK  WARNINGS UNNEEDED, same version exists in internal repository
nebbiolo1 Linux (Ubuntu 20.04.1 LTS) / x86_64  OK  OK  WARNINGS 
Package 203/398HostnameOS / ArchINSTALLBUILDCHECK
lumiBarnes 1.30.0
Pan Du
Last Commit: d2d3571
Last Changed Date: 2020-10-27 09:47:21 -0500
malbec1 Linux (Ubuntu 18.04.4 LTS) / x86_64  OK  OK  WARNINGS UNNEEDED, same version exists in internal repository
nebbiolo1 Linux (Ubuntu 20.04.1 LTS) / x86_64  OK  OK  WARNINGS 
Package 204/398HostnameOS / ArchINSTALLBUILDCHECK
LungCancerACvsSCCGEO 1.26.0
Adi Laurentiu Tarca
Last Commit: 0bfc3ac
Last Changed Date: 2020-10-27 10:04:23 -0500
malbec1 Linux (Ubuntu 18.04.4 LTS) / x86_64  OK  OK  OK UNNEEDED, same version exists in internal repository
nebbiolo1 Linux (Ubuntu 20.04.1 LTS) / x86_64  OK  OK  OK 
Package 205/398HostnameOS / ArchINSTALLBUILDCHECK
LungCancerLines 0.28.0
Cory Barr
Last Commit: cd224d9
Last Changed Date: 2020-10-27 10:00:08 -0500
malbec1 Linux (Ubuntu 18.04.4 LTS) / x86_64  OK  OK  OK UNNEEDED, same version exists in internal repository
nebbiolo1 Linux (Ubuntu 20.04.1 LTS) / x86_64  OK  OK  OK 
Package 206/398HostnameOS / ArchINSTALLBUILDCHECK
lungExpression 0.28.0
Robert Scharpf
Last Commit: 3c5334d
Last Changed Date: 2020-10-27 09:47:18 -0500
malbec1 Linux (Ubuntu 18.04.4 LTS) / x86_64  OK  OK  OK UNNEEDED, same version exists in internal repository
nebbiolo1 Linux (Ubuntu 20.04.1 LTS) / x86_64  OK  OK  OK 
Package 207/398HostnameOS / ArchINSTALLBUILDCHECK
lydata 1.16.0
Alex Pickering
Last Commit: 1a232ae
Last Changed Date: 2020-10-27 10:20:11 -0500
malbec1 Linux (Ubuntu 18.04.4 LTS) / x86_64  OK  OK  OK UNNEEDED, same version exists in internal repository
nebbiolo1 Linux (Ubuntu 20.04.1 LTS) / x86_64  OK  OK  OK 
M
ABCDEFGHIJKLMNOPQRSTUVWXYZ
Package 208/398HostnameOS / ArchINSTALLBUILDCHECK
M3DExampleData 1.16.0
Tallulah Andrews
Last Commit: 6f0dcd8
Last Changed Date: 2020-10-27 10:21:41 -0500
malbec1 Linux (Ubuntu 18.04.4 LTS) / x86_64  OK  OK  WARNINGS UNNEEDED, same version exists in internal repository
nebbiolo1 Linux (Ubuntu 20.04.1 LTS) / x86_64  OK  OK  WARNINGS 
Package 209/398HostnameOS / ArchINSTALLBUILDCHECK
macrophage 1.6.0
Michael Love
Last Commit: 770b471
Last Changed Date: 2020-10-27 10:29:13 -0500
malbec1 Linux (Ubuntu 18.04.4 LTS) / x86_64  OK  OK  OK UNNEEDED, same version exists in internal repository
nebbiolo1 Linux (Ubuntu 20.04.1 LTS) / x86_64  OK  OK  OK 
Package 210/398HostnameOS / ArchINSTALLBUILDCHECK
mammaPrintData 1.26.0
Luigi Marchionni
Last Commit: 835ea9d
Last Changed Date: 2020-10-27 10:02:43 -0500
malbec1 Linux (Ubuntu 18.04.4 LTS) / x86_64  OK  OK  OK UNNEEDED, same version exists in internal repository
nebbiolo1 Linux (Ubuntu 20.04.1 LTS) / x86_64  OK  OK  OK 
Package 211/398HostnameOS / ArchINSTALLBUILDCHECK
mAPKLData 1.22.0
Argiris Sakellariou
Last Commit: d71db97
Last Changed Date: 2020-10-27 10:11:15 -0500
malbec1 Linux (Ubuntu 18.04.4 LTS) / x86_64  OK  OK  WARNINGS UNNEEDED, same version exists in internal repository
nebbiolo1 Linux (Ubuntu 20.04.1 LTS) / x86_64  OK  OK  WARNINGS 
Package 212/398HostnameOS / ArchINSTALLBUILDCHECK
maqcExpression4plex 1.34.0
Benilton Carvalho
Last Commit: 8be1875
Last Changed Date: 2020-10-27 09:47:58 -0500
malbec1 Linux (Ubuntu 18.04.4 LTS) / x86_64  OK  OK  OK UNNEEDED, same version exists in internal repository
nebbiolo1 Linux (Ubuntu 20.04.1 LTS) / x86_64  OK  OK  OK 
Package 213/398HostnameOS / ArchINSTALLBUILDCHECK
MAQCsubset 1.28.0
VJ Carey
Last Commit: 87827b5
Last Changed Date: 2020-10-27 09:46:43 -0500
malbec1 Linux (Ubuntu 18.04.4 LTS) / x86_64  OK  OK  OK UNNEEDED, same version exists in internal repository
nebbiolo1 Linux (Ubuntu 20.04.1 LTS) / x86_64  OK  OK  OK 
Package 214/398HostnameOS / ArchINSTALLBUILDCHECK
MAQCsubsetAFX 1.28.0
Laurent Gatto
Last Commit: fee1a3d
Last Changed Date: 2020-10-27 09:48:37 -0500
malbec1 Linux (Ubuntu 18.04.4 LTS) / x86_64  OK  OK  OK UNNEEDED, same version exists in internal repository
nebbiolo1 Linux (Ubuntu 20.04.1 LTS) / x86_64  OK  OK  OK 
Package 215/398HostnameOS / ArchINSTALLBUILDCHECK
MAQCsubsetILM 1.28.0
Laurent Gatto
Last Commit: fb4a3d8
Last Changed Date: 2020-10-27 09:49:35 -0500
malbec1 Linux (Ubuntu 18.04.4 LTS) / x86_64  OK  OK  OK UNNEEDED, same version exists in internal repository
nebbiolo1 Linux (Ubuntu 20.04.1 LTS) / x86_64  OK  OK  OK 
Package 216/398HostnameOS / ArchINSTALLBUILDCHECK
mCSEAdata 1.10.0
Jordi Martorell Marugán
Last Commit: 2e91efd
Last Changed Date: 2020-10-27 10:25:52 -0500
malbec1 Linux (Ubuntu 18.04.4 LTS) / x86_64  OK  ERROR  skipped 
nebbiolo1 Linux (Ubuntu 20.04.1 LTS) / x86_64  OK  ERROR  skipped 
Package 217/398HostnameOS / ArchINSTALLBUILDCHECK
mcsurvdata 1.8.0
Adria Caballe Mestres
Last Commit: a143a94
Last Changed Date: 2020-10-27 10:27:31 -0500
malbec1 Linux (Ubuntu 18.04.4 LTS) / x86_64  OK  OK  OK UNNEEDED, same version exists in internal repository
nebbiolo1 Linux (Ubuntu 20.04.1 LTS) / x86_64  OK  OK  OK 
Package 218/398HostnameOS / ArchINSTALLBUILDCHECK
MEDIPSData 1.26.0
Lukas Chavez
Last Commit: 11ae33d
Last Changed Date: 2020-10-27 09:56:26 -0500
malbec1 Linux (Ubuntu 18.04.4 LTS) / x86_64  OK  OK  WARNINGS UNNEEDED, same version exists in internal repository
nebbiolo1 Linux (Ubuntu 20.04.1 LTS) / x86_64  OK  OK  WARNINGS 
Package 219/398HostnameOS / ArchINSTALLBUILDCHECK
MEEBOdata 1.28.0
Agnes Paquet
Last Commit: a0bca3b
Last Changed Date: 2020-10-27 09:46:47 -0500
malbec1 Linux (Ubuntu 18.04.4 LTS) / x86_64  OK  OK  WARNINGS UNNEEDED, same version exists in internal repository
nebbiolo1 Linux (Ubuntu 20.04.1 LTS) / x86_64  OK  OK  WARNINGS 
Package 220/398HostnameOS / ArchINSTALLBUILDCHECK
MetaGxBreast 1.10.0
Michael Zon
Last Commit: d3c948e
Last Changed Date: 2020-10-27 10:26:22 -0500
malbec1 Linux (Ubuntu 18.04.4 LTS) / x86_64  OK  OK  OK UNNEEDED, same version exists in internal repository
nebbiolo1 Linux (Ubuntu 20.04.1 LTS) / x86_64  OK  OK  OK 
Package 221/398HostnameOS / ArchINSTALLBUILDCHECK
MetaGxOvarian 1.10.0
Michael Zon
Last Commit: f7fa049
Last Changed Date: 2020-10-27 10:26:19 -0500
malbec1 Linux (Ubuntu 18.04.4 LTS) / x86_64  OK  OK  WARNINGS UNNEEDED, same version exists in internal repository
nebbiolo1 Linux (Ubuntu 20.04.1 LTS) / x86_64  OK  OK  WARNINGS 
Package 222/398HostnameOS / ArchINSTALLBUILDCHECK
MetaGxPancreas 1.10.0
Michael Zon
Last Commit: 6525a6c
Last Changed Date: 2020-10-27 10:26:36 -0500
malbec1 Linux (Ubuntu 18.04.4 LTS) / x86_64  OK  OK  OK UNNEEDED, same version exists in internal repository
nebbiolo1 Linux (Ubuntu 20.04.1 LTS) / x86_64  OK  OK  OK 
Package 223/398HostnameOS / ArchINSTALLBUILDCHECK
metaMSdata 1.26.0
Yann Guitton
Last Commit: 69e6aa1
Last Changed Date: 2020-10-27 10:08:44 -0500
malbec1 Linux (Ubuntu 18.04.4 LTS) / x86_64  OK  OK  OK UNNEEDED, same version exists in internal repository
nebbiolo1 Linux (Ubuntu 20.04.1 LTS) / x86_64  OK  OK  OK 
Package 224/398HostnameOS / ArchINSTALLBUILDCHECK
MethylAidData 1.22.0
M. van Iterson
Last Commit: d71d35f
Last Changed Date: 2020-10-27 10:12:16 -0500
malbec1 Linux (Ubuntu 18.04.4 LTS) / x86_64  OK  OK  OK UNNEEDED, same version exists in internal repository
nebbiolo1 Linux (Ubuntu 20.04.1 LTS) / x86_64  OK  OK  OK 
Package 225/398HostnameOS / ArchINSTALLBUILDCHECK
MethylSeqData 1.0.0
Peter Hickey
Last Commit: f8abcd3
Last Changed Date: 2020-10-27 10:32:36 -0500
malbec1 Linux (Ubuntu 18.04.4 LTS) / x86_64  OK  OK  OK UNNEEDED, same version exists in internal repository
nebbiolo1 Linux (Ubuntu 20.04.1 LTS) / x86_64  OK  OK  OK 
Package 226/398HostnameOS / ArchINSTALLBUILDCHECK
methyvimData 1.12.0
Nima Hejazi
Last Commit: 58262df
Last Changed Date: 2020-10-27 10:23:23 -0500
malbec1 Linux (Ubuntu 18.04.4 LTS) / x86_64  OK  OK  WARNINGS UNNEEDED, same version exists in internal repository
nebbiolo1 Linux (Ubuntu 20.04.1 LTS) / x86_64  OK  OK  WARNINGS 
Package 227/398HostnameOS / ArchINSTALLBUILDCHECK
microRNAome 1.12.0
Matthew N. McCall
Last Commit: d63146a
Last Changed Date: 2020-10-27 10:23:03 -0500
malbec1 Linux (Ubuntu 18.04.4 LTS) / x86_64  OK  OK  OK UNNEEDED, same version exists in internal repository
nebbiolo1 Linux (Ubuntu 20.04.1 LTS) / x86_64  OK  OK  OK 
Package 228/398HostnameOS / ArchINSTALLBUILDCHECK
MIGSAdata 1.14.0
Juan C. Rodriguez
Last Commit: 77a1c75
Last Changed Date: 2020-10-27 10:22:40 -0500
malbec1 Linux (Ubuntu 18.04.4 LTS) / x86_64  OK  OK  OK UNNEEDED, same version exists in internal repository
nebbiolo1 Linux (Ubuntu 20.04.1 LTS) / x86_64  OK  OK  OK 
Package 229/398HostnameOS / ArchINSTALLBUILDCHECK
minfiData 0.36.0
Kasper Daniel Hansen
Last Commit: fa2879d
Last Changed Date: 2020-10-27 09:53:44 -0500
malbec1 Linux (Ubuntu 18.04.4 LTS) / x86_64  OK  OK  OK UNNEEDED, same version exists in internal repository
nebbiolo1 Linux (Ubuntu 20.04.1 LTS) / x86_64  OK  OK  OK 
Package 230/398HostnameOS / ArchINSTALLBUILDCHECK
minfiDataEPIC 1.16.0
Kasper Daniel Hansen
Last Commit: 30645f1
Last Changed Date: 2020-10-27 10:20:06 -0500
malbec1 Linux (Ubuntu 18.04.4 LTS) / x86_64  OK  OK  OK UNNEEDED, same version exists in internal repository
nebbiolo1 Linux (Ubuntu 20.04.1 LTS) / x86_64  OK  OK  OK 
Package 231/398HostnameOS / ArchINSTALLBUILDCHECK
minionSummaryData 1.20.0
Mike Smith
Last Commit: 6053d53
Last Changed Date: 2020-10-27 10:13:32 -0500
malbec1 Linux (Ubuntu 18.04.4 LTS) / x86_64  OK  OK  OK UNNEEDED, same version exists in internal repository
nebbiolo1 Linux (Ubuntu 20.04.1 LTS) / x86_64  OK  OK  OK 
Package 232/398HostnameOS / ArchINSTALLBUILDCHECK
miRcompData 1.20.0
Matthew N. McCall
Last Commit: 949ec31
Last Changed Date: 2020-10-27 10:14:55 -0500
malbec1 Linux (Ubuntu 18.04.4 LTS) / x86_64  OK  OK  OK UNNEEDED, same version exists in internal repository
nebbiolo1 Linux (Ubuntu 20.04.1 LTS) / x86_64  OK  OK  OK 
Package 233/398HostnameOS / ArchINSTALLBUILDCHECK
miRNATarget 1.28.0
Y-h. Taguchi
Last Commit: b7ba873
Last Changed Date: 2020-10-27 09:55:35 -0500
malbec1 Linux (Ubuntu 18.04.4 LTS) / x86_64  OK  OK  OK UNNEEDED, same version exists in internal repository
nebbiolo1 Linux (Ubuntu 20.04.1 LTS) / x86_64  OK  OK  OK 
Package 234/398HostnameOS / ArchINSTALLBUILDCHECK
mitoODEdata 1.26.0
Gregoire Pau
Last Commit: cb91b09
Last Changed Date: 2020-10-27 10:04:18 -0500
malbec1 Linux (Ubuntu 18.04.4 LTS) / x86_64  OK  OK  WARNINGS UNNEEDED, same version exists in internal repository
nebbiolo1 Linux (Ubuntu 20.04.1 LTS) / x86_64  OK  OK  WARNINGS 
Package 235/398HostnameOS / ArchINSTALLBUILDCHECK
MMAPPR2data 1.4.0
Jonathon Hill
Last Commit: f0ff55d
Last Changed Date: 2020-10-27 10:30:27 -0500
malbec1 Linux (Ubuntu 18.04.4 LTS) / x86_64  OK  OK  OK UNNEEDED, same version exists in internal repository
nebbiolo1 Linux (Ubuntu 20.04.1 LTS) / x86_64  OK  OK  OK 
Package 236/398HostnameOS / ArchINSTALLBUILDCHECK
MMDiffBamSubset 1.26.0
Gabriele Schweikert
Last Commit: 20f772f
Last Changed Date: 2020-10-27 10:01:49 -0500
malbec1 Linux (Ubuntu 18.04.4 LTS) / x86_64  OK  OK  OK UNNEEDED, same version exists in internal repository
nebbiolo1 Linux (Ubuntu 20.04.1 LTS) / x86_64  OK  OK  OK 
Package 237/398HostnameOS / ArchINSTALLBUILDCHECK
MOFAdata 1.6.0
Britta Velten
Last Commit: 1bcd0ae
Last Changed Date: 2020-10-27 10:29:48 -0500
malbec1 Linux (Ubuntu 18.04.4 LTS) / x86_64  OK  OK  OK UNNEEDED, same version exists in internal repository
nebbiolo1 Linux (Ubuntu 20.04.1 LTS) / x86_64  OK  OK  OK 
Package 238/398HostnameOS / ArchINSTALLBUILDCHECK
mosaicsExample 1.28.0
Dongjun Chung
Last Commit: 0c24f1d
Last Changed Date: 2020-10-27 09:52:15 -0500
malbec1 Linux (Ubuntu 18.04.4 LTS) / x86_64  OK  OK  OK UNNEEDED, same version exists in internal repository
nebbiolo1 Linux (Ubuntu 20.04.1 LTS) / x86_64  OK  OK  OK 
Package 239/398HostnameOS / ArchINSTALLBUILDCHECK
mouse4302barcodevecs 1.28.0
Matthew N. McCall
Last Commit: e939425
Last Changed Date: 2020-10-27 09:51:35 -0500
malbec1 Linux (Ubuntu 18.04.4 LTS) / x86_64  OK  OK  OK UNNEEDED, same version exists in internal repository
nebbiolo1 Linux (Ubuntu 20.04.1 LTS) / x86_64  OK  OK  OK 
Package 240/398HostnameOS / ArchINSTALLBUILDCHECK
MouseGastrulationData 1.4.0
Jonathan Griffiths
Last Commit: 0440a1c
Last Changed Date: 2020-10-27 10:30:35 -0500
malbec1 Linux (Ubuntu 18.04.4 LTS) / x86_64  OK  OK  OK UNNEEDED, same version exists in internal repository
nebbiolo1 Linux (Ubuntu 20.04.1 LTS) / x86_64  OK  OK  OK 
Package 241/398HostnameOS / ArchINSTALLBUILDCHECK
msd16s 1.10.0
Joseph N. Paulson
Last Commit: 270ed4c
Last Changed Date: 2020-10-27 10:09:17 -0500
malbec1 Linux (Ubuntu 18.04.4 LTS) / x86_64  OK  OK  OK UNNEEDED, same version exists in internal repository
nebbiolo1 Linux (Ubuntu 20.04.1 LTS) / x86_64  OK  OK  OK 
Package 242/398HostnameOS / ArchINSTALLBUILDCHECK
msdata 0.30.0
Steffen Neumann , Laurent Gatto
Last Commit: 821821a
Last Changed Date: 2020-10-27 09:48:51 -0500
malbec1 Linux (Ubuntu 18.04.4 LTS) / x86_64  OK  OK  OK UNNEEDED, same version exists in internal repository
nebbiolo1 Linux (Ubuntu 20.04.1 LTS) / x86_64  OK  OK  OK 
Package 243/398HostnameOS / ArchINSTALLBUILDCHECK
MSMB 1.8.0
Wolfgang Huber
Last Commit: 5ce6b52
Last Changed Date: 2020-10-27 10:26:58 -0500
malbec1 Linux (Ubuntu 18.04.4 LTS) / x86_64  OK  OK  WARNINGS UNNEEDED, same version exists in internal repository
nebbiolo1 Linux (Ubuntu 20.04.1 LTS) / x86_64  OK  OK  WARNINGS 
Package 244/398HostnameOS / ArchINSTALLBUILDCHECK
msPurityData 1.18.0
Thomas N. Lawson
Last Commit: d886117
Last Changed Date: 2020-10-27 10:19:23 -0500
malbec1 Linux (Ubuntu 18.04.4 LTS) / x86_64  OK  OK  OK UNNEEDED, same version exists in internal repository
nebbiolo1 Linux (Ubuntu 20.04.1 LTS) / x86_64  OK  OK  OK 
Package 245/398HostnameOS / ArchINSTALLBUILDCHECK
msqc1 1.18.0
Christian Panse
Last Commit: be38dc3
Last Changed Date: 2020-10-27 10:18:07 -0500
malbec1 Linux (Ubuntu 18.04.4 LTS) / x86_64  OK  OK  OK UNNEEDED, same version exists in internal repository
nebbiolo1 Linux (Ubuntu 20.04.1 LTS) / x86_64  OK  OK  OK 
Package 246/398HostnameOS / ArchINSTALLBUILDCHECK
MSstatsBioData 1.12.0
Meena Choi
Last Commit: e2631a8
Last Changed Date: 2020-10-27 10:23:13 -0500
malbec1 Linux (Ubuntu 18.04.4 LTS) / x86_64  OK  OK  WARNINGS UNNEEDED, same version exists in internal repository
nebbiolo1 Linux (Ubuntu 20.04.1 LTS) / x86_64  OK  OK  WARNINGS 
Package 247/398HostnameOS / ArchINSTALLBUILDCHECK
mtbls2 1.20.1
Steffen Neumann
Last Commit: 01210c4
Last Changed Date: 2020-11-28 15:21:25 -0500
malbec1 Linux (Ubuntu 18.04.4 LTS) / x86_64  OK  OK  OK YES, new version is higher than in internal repository
nebbiolo1 Linux (Ubuntu 20.04.1 LTS) / x86_64  OK  OK  OK 
Package 248/398HostnameOS / ArchINSTALLBUILDCHECK
MUGAExampleData 1.10.0
Daniel Gatti
Last Commit: 418b1ed
Last Changed Date: 2020-10-27 10:09:20 -0500
malbec1 Linux (Ubuntu 18.04.4 LTS) / x86_64  OK  OK  OK UNNEEDED, same version exists in internal repository
nebbiolo1 Linux (Ubuntu 20.04.1 LTS) / x86_64  OK  OK  OK 
Package 249/398HostnameOS / ArchINSTALLBUILDCHECK
Mulder2012 0.30.0
Xin Wang
Last Commit: a8cbaca
Last Changed Date: 2020-10-27 09:55:46 -0500
malbec1 Linux (Ubuntu 18.04.4 LTS) / x86_64  ERROR  ERROR  skipped 
nebbiolo1 Linux (Ubuntu 20.04.1 LTS) / x86_64  ERROR  ERROR  skipped 
Package 250/398HostnameOS / ArchINSTALLBUILDCHECK
muscData 1.4.0
Helena L. Crowell
Last Commit: 3a3a116
Last Changed Date: 2020-10-27 10:30:24 -0500
malbec1 Linux (Ubuntu 18.04.4 LTS) / x86_64  OK  OK  WARNINGS UNNEEDED, same version exists in internal repository
nebbiolo1 Linux (Ubuntu 20.04.1 LTS) / x86_64  OK  OK  WARNINGS 
Package 251/398HostnameOS / ArchINSTALLBUILDCHECK
mvoutData 1.26.0
VJ Carey
Last Commit: e29ed31
Last Changed Date: 2020-10-27 09:51:01 -0500
malbec1 Linux (Ubuntu 18.04.4 LTS) / x86_64  OK  OK  OK UNNEEDED, same version exists in internal repository
nebbiolo1 Linux (Ubuntu 20.04.1 LTS) / x86_64  OK  OK  OK 
N
ABCDEFGHIJKLMNOPQRSTUVWXYZ
Package 252/398HostnameOS / ArchINSTALLBUILDCHECK
NanoporeRNASeq 1.0.0
Ying Chen Developer
Last Commit: f06482d
Last Changed Date: 2020-10-27 10:32:40 -0500
malbec1 Linux (Ubuntu 18.04.4 LTS) / x86_64  OK  OK  OK UNNEEDED, same version exists in internal repository
nebbiolo1 Linux (Ubuntu 20.04.1 LTS) / x86_64  OK  OK  OK 
Package 253/398HostnameOS / ArchINSTALLBUILDCHECK
nanotubes 1.6.0
Malte Thodberg
Last Commit: 70746bd
Last Changed Date: 2020-10-27 10:29:55 -0500
malbec1 Linux (Ubuntu 18.04.4 LTS) / x86_64  OK  OK  OK UNNEEDED, same version exists in internal repository
nebbiolo1 Linux (Ubuntu 20.04.1 LTS) / x86_64  OK  OK  OK 
Package 254/398HostnameOS / ArchINSTALLBUILDCHECK
NCIgraphData 1.26.0
Laurent Jacob
Last Commit: 2dc6fca
Last Changed Date: 2020-10-27 09:53:01 -0500
malbec1 Linux (Ubuntu 18.04.4 LTS) / x86_64  OK  OK  WARNINGS UNNEEDED, same version exists in internal repository
nebbiolo1 Linux (Ubuntu 20.04.1 LTS) / x86_64  OK  OK  WARNINGS 
Package 255/398HostnameOS / ArchINSTALLBUILDCHECK
NestLink 1.6.0
Lennart Opitz
Last Commit: 02d40a4
Last Changed Date: 2020-10-27 10:29:06 -0500
malbec1 Linux (Ubuntu 18.04.4 LTS) / x86_64  OK  OK  OK UNNEEDED, same version exists in internal repository
nebbiolo1 Linux (Ubuntu 20.04.1 LTS) / x86_64  OK  OK  OK 
Package 256/398HostnameOS / ArchINSTALLBUILDCHECK
Neve2006 0.28.0
VJ Carey
Last Commit: 1fa3869
Last Changed Date: 2020-10-27 09:47:52 -0500
malbec1 Linux (Ubuntu 18.04.4 LTS) / x86_64  OK  OK  OK UNNEEDED, same version exists in internal repository
nebbiolo1 Linux (Ubuntu 20.04.1 LTS) / x86_64  OK  OK  OK 
Package 257/398HostnameOS / ArchINSTALLBUILDCHECK
NGScopyData 1.10.0
Xiaobei Zhao
Last Commit: 1be2f08
Last Changed Date: 2020-10-27 10:10:21 -0500
malbec1 Linux (Ubuntu 18.04.4 LTS) / x86_64  OK  OK  OK UNNEEDED, same version exists in internal repository
nebbiolo1 Linux (Ubuntu 20.04.1 LTS) / x86_64  OK  OK  OK 
O
ABCDEFGHIJKLMNOPQRSTUVWXYZ
Package 258/398HostnameOS / ArchINSTALLBUILDCHECK
oct4 1.6.0
Michael Love
Last Commit: 875d1fa
Last Changed Date: 2020-10-27 10:29:31 -0500
malbec1 Linux (Ubuntu 18.04.4 LTS) / x86_64  OK  OK  OK UNNEEDED, same version exists in internal repository
nebbiolo1 Linux (Ubuntu 20.04.1 LTS) / x86_64  OK  OK  OK 
Package 259/398HostnameOS / ArchINSTALLBUILDCHECK
OMICsPCAdata 1.8.0
Subhadeep Das
Last Commit: f114162
Last Changed Date: 2020-10-27 10:27:55 -0500
malbec1 Linux (Ubuntu 18.04.4 LTS) / x86_64  OK  OK  OK UNNEEDED, same version exists in internal repository
nebbiolo1 Linux (Ubuntu 20.04.1 LTS) / x86_64  OK  OK  OK 
Package 260/398HostnameOS / ArchINSTALLBUILDCHECK
OnassisJavaLibs 1.12.0
Eugenia Galeota
Last Commit: e053621
Last Changed Date: 2020-10-27 10:23:07 -0500
malbec1 Linux (Ubuntu 18.04.4 LTS) / x86_64  OK  OK  OK UNNEEDED, same version exists in internal repository
nebbiolo1 Linux (Ubuntu 20.04.1 LTS) / x86_64  OK  OK  OK 
Package 261/398HostnameOS / ArchINSTALLBUILDCHECK
optimalFlowData 1.2.0
Hristo Inouzhe
Last Commit: 930e8b9
Last Changed Date: 2020-10-27 10:31:47 -0500
malbec1 Linux (Ubuntu 18.04.4 LTS) / x86_64  OK  OK  OK UNNEEDED, same version exists in internal repository
nebbiolo1 Linux (Ubuntu 20.04.1 LTS) / x86_64  OK  OK  OK 
P
ABCDEFGHIJKLMNOPQRSTUVWXYZ
Package 262/398HostnameOS / ArchINSTALLBUILDCHECK
parathyroidSE 1.28.0
Michael Love
Last Commit: 3608789
Last Changed Date: 2020-10-27 10:00:51 -0500
malbec1 Linux (Ubuntu 18.04.4 LTS) / x86_64  OK  OK  OK UNNEEDED, same version exists in internal repository
nebbiolo1 Linux (Ubuntu 20.04.1 LTS) / x86_64  OK  OK  OK 
Package 263/398HostnameOS / ArchINSTALLBUILDCHECK
pasilla 1.18.0
Alejandro Reyes
Last Commit: ae82aea
Last Changed Date: 2020-10-27 09:53:30 -0500
malbec1 Linux (Ubuntu 18.04.4 LTS) / x86_64  OK  OK  OK UNNEEDED, same version exists in internal repository
nebbiolo1 Linux (Ubuntu 20.04.1 LTS) / x86_64  OK  OK  OK 
Package 264/398HostnameOS / ArchINSTALLBUILDCHECK
pasillaBamSubset 0.28.0
Hervé Pagès
Last Commit: 6e5cec4
Last Changed Date: 2020-10-27 09:55:24 -0500
malbec1 Linux (Ubuntu 18.04.4 LTS) / x86_64  OK  OK  OK UNNEEDED, same version exists in internal repository
nebbiolo1 Linux (Ubuntu 20.04.1 LTS) / x86_64  OK  OK  OK 
Package 265/398HostnameOS / ArchINSTALLBUILDCHECK
PasillaTranscriptExpr 1.18.0
Malgorzata Nowicka
Last Commit: 03d7bd7
Last Changed Date: 2020-10-27 10:18:56 -0500
malbec1 Linux (Ubuntu 18.04.4 LTS) / x86_64  OK  OK  OK UNNEEDED, same version exists in internal repository
nebbiolo1 Linux (Ubuntu 20.04.1 LTS) / x86_64  OK  OK  OK 
Package 266/398HostnameOS / ArchINSTALLBUILDCHECK
PathNetData 1.26.0
Ludwig Geistlinger
Last Commit: b8cddbb
Last Changed Date: 2020-10-27 10:00:38 -0500
malbec1 Linux (Ubuntu 18.04.4 LTS) / x86_64  OK  OK  OK UNNEEDED, same version exists in internal repository
nebbiolo1 Linux (Ubuntu 20.04.1 LTS) / x86_64  OK  OK  OK 
Package 267/398HostnameOS / ArchINSTALLBUILDCHECK
pathprintGEOData 1.20.0
Sokratis Kariotis
Last Commit: 545e7c7
Last Changed Date: 2020-10-27 10:22:44 -0500
malbec1 Linux (Ubuntu 18.04.4 LTS) / x86_64  OK  OK  WARNINGS UNNEEDED, same version exists in internal repository
nebbiolo1 Linux (Ubuntu 20.04.1 LTS) / x86_64  OK  OK  WARNINGS 
Package 268/398HostnameOS / ArchINSTALLBUILDCHECK
pcaGoPromoter.Hs.hg19 1.26.0
Morten Hansen
Last Commit: c1f37ef
Last Changed Date: 2020-10-27 09:54:32 -0500
malbec1 Linux (Ubuntu 18.04.4 LTS) / x86_64  OK  OK  WARNINGS UNNEEDED, same version exists in internal repository
nebbiolo1 Linux (Ubuntu 20.04.1 LTS) / x86_64  OK  OK  WARNINGS 
Package 269/398HostnameOS / ArchINSTALLBUILDCHECK
pcaGoPromoter.Mm.mm9 1.26.0
Morten Hansen
Last Commit: fdfcb4f
Last Changed Date: 2020-10-27 09:54:37 -0500
malbec1 Linux (Ubuntu 18.04.4 LTS) / x86_64  OK  OK  WARNINGS UNNEEDED, same version exists in internal repository
nebbiolo1 Linux (Ubuntu 20.04.1 LTS) / x86_64  OK  OK  WARNINGS 
Package 270/398HostnameOS / ArchINSTALLBUILDCHECK
pcaGoPromoter.Rn.rn4 1.26.0
Morten Hansen,
Last Commit: 5262b47
Last Changed Date: 2020-10-27 09:54:41 -0500
malbec1 Linux (Ubuntu 18.04.4 LTS) / x86_64  OK  OK  WARNINGS UNNEEDED, same version exists in internal repository
nebbiolo1 Linux (Ubuntu 20.04.1 LTS) / x86_64  OK  OK  WARNINGS 
Package 271/398HostnameOS / ArchINSTALLBUILDCHECK
PCHiCdata 1.18.0
Paula Freire-Pritchett
Last Commit: 3d342b9
Last Changed Date: 2020-10-27 10:14:58 -0500
malbec1 Linux (Ubuntu 18.04.4 LTS) / x86_64  OK  OK  OK UNNEEDED, same version exists in internal repository
nebbiolo1 Linux (Ubuntu 20.04.1 LTS) / x86_64  OK  OK  OK 
Package 272/398HostnameOS / ArchINSTALLBUILDCHECK
pcxnData 2.12.0
Sokratis Kariotis
Last Commit: bb367e2
Last Changed Date: 2020-10-27 10:24:20 -0500
malbec1 Linux (Ubuntu 18.04.4 LTS) / x86_64  OK  OK  WARNINGS UNNEEDED, same version exists in internal repository
nebbiolo1 Linux (Ubuntu 20.04.1 LTS) / x86_64  OK  OK  WARNINGS 
Package 273/398HostnameOS / ArchINSTALLBUILDCHECK
pd.atdschip.tiling 0.28.0
Kristof De Beuf
Last Commit: 0eff76b
Last Changed Date: 2020-10-27 09:56:59 -0500
malbec1 Linux (Ubuntu 18.04.4 LTS) / x86_64  OK  OK  WARNINGS UNNEEDED, same version exists in internal repository
nebbiolo1 Linux (Ubuntu 20.04.1 LTS) / x86_64  OK  OK  WARNINGS 
Package 274/398HostnameOS / ArchINSTALLBUILDCHECK
pepDat 1.10.0
Renan Sauteraud
Last Commit: 6dd4be5
Last Changed Date: 2020-10-27 10:09:25 -0500
malbec1 Linux (Ubuntu 18.04.4 LTS) / x86_64  OK  OK  OK UNNEEDED, same version exists in internal repository
nebbiolo1 Linux (Ubuntu 20.04.1 LTS) / x86_64  OK  OK  OK 
Package 275/398HostnameOS / ArchINSTALLBUILDCHECK
PepsNMRData 1.8.0
Manon Martin
Last Commit: 557d701
Last Changed Date: 2020-10-27 10:28:45 -0500
malbec1 Linux (Ubuntu 18.04.4 LTS) / x86_64  OK  OK  OK UNNEEDED, same version exists in internal repository
nebbiolo1 Linux (Ubuntu 20.04.1 LTS) / x86_64  OK  OK  OK 
Package 276/398HostnameOS / ArchINSTALLBUILDCHECK
PhyloProfileData 1.4.0
Vinh Tran
Last Commit: f963b1b
Last Changed Date: 2020-10-27 10:30:39 -0500
malbec1 Linux (Ubuntu 18.04.4 LTS) / x86_64  OK  OK  OK UNNEEDED, same version exists in internal repository
nebbiolo1 Linux (Ubuntu 20.04.1 LTS) / x86_64  OK  OK  OK 
Package 277/398HostnameOS / ArchINSTALLBUILDCHECK
plasFIA 1.18.0
Alexis Delabriere
Last Commit: 9fc459b
Last Changed Date: 2020-10-27 10:22:10 -0500
malbec1 Linux (Ubuntu 18.04.4 LTS) / x86_64  OK  OK  OK UNNEEDED, same version exists in internal repository
nebbiolo1 Linux (Ubuntu 20.04.1 LTS) / x86_64  OK  OK  OK 
Package 278/398HostnameOS / ArchINSTALLBUILDCHECK
ppiData 0.28.0
Bioconductor Package Maintainer
Last Commit: 86de2bb
Last Changed Date: 2020-10-27 09:46:51 -0500
malbec1 Linux (Ubuntu 18.04.4 LTS) / x86_64  OK  OK  WARNINGS UNNEEDED, same version exists in internal repository
nebbiolo1 Linux (Ubuntu 20.04.1 LTS) / x86_64  OK  OK  WARNINGS 
Package 279/398HostnameOS / ArchINSTALLBUILDCHECK
prebsdata 1.26.0
Karolis Uziela
Last Commit: 827eed6
Last Changed Date: 2020-10-27 10:02:06 -0500
malbec1 Linux (Ubuntu 18.04.4 LTS) / x86_64  OK  OK  OK UNNEEDED, same version exists in internal repository
nebbiolo1 Linux (Ubuntu 20.04.1 LTS) / x86_64  OK  OK  OK 
Package 280/398HostnameOS / ArchINSTALLBUILDCHECK
PREDAsampledata 0.30.0
Francesco Ferrari
Last Commit: 7fe7bf2
Last Changed Date: 2020-10-27 09:53:39 -0500
malbec1 Linux (Ubuntu 18.04.4 LTS) / x86_64  OK  OK  OK UNNEEDED, same version exists in internal repository
nebbiolo1 Linux (Ubuntu 20.04.1 LTS) / x86_64  OK  OK  OK 
Package 281/398HostnameOS / ArchINSTALLBUILDCHECK
ProData 1.28.0
Xiaochun Li
Last Commit: 39a00e5
Last Changed Date: 2020-10-27 09:46:54 -0500
malbec1 Linux (Ubuntu 18.04.4 LTS) / x86_64  OK  OK  OK UNNEEDED, same version exists in internal repository
nebbiolo1 Linux (Ubuntu 20.04.1 LTS) / x86_64  OK  OK  OK 
Package 282/398HostnameOS / ArchINSTALLBUILDCHECK
pRolocdata 1.28.0
Laurent Gatto
Last Commit: 1764dcb
Last Changed Date: 2020-10-27 10:00:16 -0500
malbec1 Linux (Ubuntu 18.04.4 LTS) / x86_64  OK  OK  OK UNNEEDED, same version exists in internal repository
nebbiolo1 Linux (Ubuntu 20.04.1 LTS) / x86_64  OK  OK  OK 
Package 283/398HostnameOS / ArchINSTALLBUILDCHECK
prostateCancerCamcap 1.18.0
Mark Dunning
Last Commit: 65f5bfc
Last Changed Date: 2020-10-27 10:18:10 -0500
malbec1 Linux (Ubuntu 18.04.4 LTS) / x86_64  OK  OK  OK UNNEEDED, same version exists in internal repository
nebbiolo1 Linux (Ubuntu 20.04.1 LTS) / x86_64  OK  OK  OK 
Package 284/398HostnameOS / ArchINSTALLBUILDCHECK
prostateCancerGrasso 1.18.0
Mark Dunning
Last Commit: cd66d64
Last Changed Date: 2020-10-27 10:18:19 -0500
malbec1 Linux (Ubuntu 18.04.4 LTS) / x86_64  OK  OK  OK UNNEEDED, same version exists in internal repository
nebbiolo1 Linux (Ubuntu 20.04.1 LTS) / x86_64  OK  OK  OK 
Package 285/398HostnameOS / ArchINSTALLBUILDCHECK
prostateCancerStockholm 1.18.0
Mark Dunning
Last Commit: 0b0c3e1
Last Changed Date: 2020-10-27 10:18:16 -0500
malbec1 Linux (Ubuntu 18.04.4 LTS) / x86_64  OK  OK  OK UNNEEDED, same version exists in internal repository
nebbiolo1 Linux (Ubuntu 20.04.1 LTS) / x86_64  OK  OK  OK 
Package 286/398HostnameOS / ArchINSTALLBUILDCHECK
prostateCancerTaylor 1.18.0
Mark Dunning
Last Commit: 4f5143f
Last Changed Date: 2020-10-27 10:18:13 -0500
malbec1 Linux (Ubuntu 18.04.4 LTS) / x86_64  OK  OK  OK UNNEEDED, same version exists in internal repository
nebbiolo1 Linux (Ubuntu 20.04.1 LTS) / x86_64  OK  OK  OK 
Package 287/398HostnameOS / ArchINSTALLBUILDCHECK
prostateCancerVarambally 1.18.0
Mark Dunning
Last Commit: 8f71824
Last Changed Date: 2020-10-27 10:18:22 -0500
malbec1 Linux (Ubuntu 18.04.4 LTS) / x86_64  OK  OK  OK UNNEEDED, same version exists in internal repository
nebbiolo1 Linux (Ubuntu 20.04.1 LTS) / x86_64  OK  OK  OK 
Package 288/398HostnameOS / ArchINSTALLBUILDCHECK
PtH2O2lipids 1.16.0
James Collins
Last Commit: 906a1b5
Last Changed Date: 2020-10-27 10:21:27 -0500
malbec1 Linux (Ubuntu 18.04.4 LTS) / x86_64  OK  OK  WARNINGS UNNEEDED, same version exists in internal repository
nebbiolo1 Linux (Ubuntu 20.04.1 LTS) / x86_64  OK  OK  WARNINGS 
Package 289/398HostnameOS / ArchINSTALLBUILDCHECK
pumadata 2.26.0
Xuejun liu
Last Commit: 0a89e6f
Last Changed Date: 2020-10-27 09:47:30 -0500
malbec1 Linux (Ubuntu 18.04.4 LTS) / x86_64  OK  OK  OK UNNEEDED, same version exists in internal repository
nebbiolo1 Linux (Ubuntu 20.04.1 LTS) / x86_64  OK  OK  OK 
Package 290/398HostnameOS / ArchINSTALLBUILDCHECK
PWMEnrich.Dmelanogaster.background 4.24.0
Diego Diez
Last Commit: 91f16e6
Last Changed Date: 2020-10-27 09:55:42 -0500
malbec1 Linux (Ubuntu 18.04.4 LTS) / x86_64  OK  OK  WARNINGS UNNEEDED, same version exists in internal repository
nebbiolo1 Linux (Ubuntu 20.04.1 LTS) / x86_64  OK  OK  WARNINGS 
Package 291/398HostnameOS / ArchINSTALLBUILDCHECK
PWMEnrich.Hsapiens.background 4.24.0
Diego Diez
Last Commit: 9cf6a9a
Last Changed Date: 2020-10-27 10:05:45 -0500
malbec1 Linux (Ubuntu 18.04.4 LTS) / x86_64  OK  OK  WARNINGS UNNEEDED, same version exists in internal repository
nebbiolo1 Linux (Ubuntu 20.04.1 LTS) / x86_64  OK  OK  WARNINGS 
Package 292/398HostnameOS / ArchINSTALLBUILDCHECK
PWMEnrich.Mmusculus.background 4.24.0
Diego Diez
Last Commit: 4c7cff2
Last Changed Date: 2020-10-27 10:05:50 -0500
malbec1 Linux (Ubuntu 18.04.4 LTS) / x86_64  OK  OK  OK UNNEEDED, same version exists in internal repository
nebbiolo1 Linux (Ubuntu 20.04.1 LTS) / x86_64  OK  OK  OK 
Package 293/398HostnameOS / ArchINSTALLBUILDCHECK
pwrEWAS.data 1.4.0
Stefan Graw
Last Commit: be93ea2
Last Changed Date: 2020-10-27 10:30:50 -0500
malbec1 Linux (Ubuntu 18.04.4 LTS) / x86_64  OK  OK  OK UNNEEDED, same version exists in internal repository
nebbiolo1 Linux (Ubuntu 20.04.1 LTS) / x86_64  OK  OK  OK 
Q
ABCDEFGHIJKLMNOPQRSTUVWXYZ
Package 294/398HostnameOS / ArchINSTALLBUILDCHECK
QDNAseq.hg19 1.20.0
Daoud Sie
Last Commit: dec68e5
Last Changed Date: 2020-10-27 10:14:40 -0500
malbec1 Linux (Ubuntu 18.04.4 LTS) / x86_64  OK  OK  OK UNNEEDED, same version exists in internal repository
nebbiolo1 Linux (Ubuntu 20.04.1 LTS) / x86_64  OK  OK  OK 
Package 295/398HostnameOS / ArchINSTALLBUILDCHECK
QDNAseq.mm10 1.20.0
Daoud Sie
Last Commit: a71709e
Last Changed Date: 2020-10-27 10:14:43 -0500
malbec1 Linux (Ubuntu 18.04.4 LTS) / x86_64  OK  OK  OK UNNEEDED, same version exists in internal repository
nebbiolo1 Linux (Ubuntu 20.04.1 LTS) / x86_64  OK  OK  OK 
Package 296/398HostnameOS / ArchINSTALLBUILDCHECK
qPLEXdata 1.8.0
Kamal Kishore Developer
Last Commit: 869fe2a
Last Changed Date: 2020-10-27 10:27:05 -0500
malbec1 Linux (Ubuntu 18.04.4 LTS) / x86_64  OK  OK  WARNINGS UNNEEDED, same version exists in internal repository
nebbiolo1 Linux (Ubuntu 20.04.1 LTS) / x86_64  OK  OK  WARNINGS 
Package 297/398HostnameOS / ArchINSTALLBUILDCHECK
QUBICdata 1.18.0
Yu Zhang
Last Commit: cea4c13
Last Changed Date: 2020-10-27 10:18:59 -0500
malbec1 Linux (Ubuntu 18.04.4 LTS) / x86_64  OK  OK  OK UNNEEDED, same version exists in internal repository
nebbiolo1 Linux (Ubuntu 20.04.1 LTS) / x86_64  OK  OK  OK 
R
ABCDEFGHIJKLMNOPQRSTUVWXYZ
Package 298/398HostnameOS / ArchINSTALLBUILDCHECK
rcellminerData 2.12.0
Augustin Luna , Vinodh Rajapakse
Last Commit: a135de0
Last Changed Date: 2020-10-27 10:11:59 -0500
malbec1 Linux (Ubuntu 18.04.4 LTS) / x86_64  OK  OK  WARNINGS UNNEEDED, same version exists in internal repository
nebbiolo1 Linux (Ubuntu 20.04.1 LTS) / x86_64  OK  OK  WARNINGS 
Package 299/398HostnameOS / ArchINSTALLBUILDCHECK
RcisTarget.hg19.motifDBs.cisbpOnly.500bp 1.10.0
Sara Aibar
Last Commit: 5491126
Last Changed Date: 2020-10-27 10:25:56 -0500
malbec1 Linux (Ubuntu 18.04.4 LTS) / x86_64  OK  OK  OK UNNEEDED, same version exists in internal repository
nebbiolo1 Linux (Ubuntu 20.04.1 LTS) / x86_64  OK  OK  OK 
Package 300/398HostnameOS / ArchINSTALLBUILDCHECK
ReactomeGSA.data 1.4.0
Johannes Griss
Last Commit: 34d0432
Last Changed Date: 2020-10-27 10:30:46 -0500
malbec1 Linux (Ubuntu 18.04.4 LTS) / x86_64  OK  OK  OK UNNEEDED, same version exists in internal repository
nebbiolo1 Linux (Ubuntu 20.04.1 LTS) / x86_64  OK  OK  OK 
Package 301/398HostnameOS / ArchINSTALLBUILDCHECK
RegParallel 1.8.0
Kevin Blighe
Last Commit: 1526474
Last Changed Date: 2020-10-27 10:27:59 -0500
malbec1 Linux (Ubuntu 18.04.4 LTS) / x86_64  OK  OK  OK UNNEEDED, same version exists in internal repository
nebbiolo1 Linux (Ubuntu 20.04.1 LTS) / x86_64  OK  OK  OK 
Package 302/398HostnameOS / ArchINSTALLBUILDCHECK
restfulSEData 1.12.0
Bioconductor Package Maintainer
Last Commit: a0966bb
Last Changed Date: 2020-10-27 10:23:17 -0500
malbec1 Linux (Ubuntu 18.04.4 LTS) / x86_64  OK  OK  OK UNNEEDED, same version exists in internal repository
nebbiolo1 Linux (Ubuntu 20.04.1 LTS) / x86_64  OK  OK  OK 
Package 303/398HostnameOS / ArchINSTALLBUILDCHECK
RforProteomics 1.28.0
Laurent Gatto
Last Commit: 2c332a7
Last Changed Date: 2020-10-27 10:00:23 -0500
malbec1 Linux (Ubuntu 18.04.4 LTS) / x86_64  OK  ERROR  skipped 
nebbiolo1 Linux (Ubuntu 20.04.1 LTS) / x86_64  OK  ERROR  skipped 
Package 304/398HostnameOS / ArchINSTALLBUILDCHECK
RGMQLlib 1.10.0
Simone Pallotta
Last Commit: 8f25360
Last Changed Date: 2020-10-27 10:24:41 -0500
malbec1 Linux (Ubuntu 18.04.4 LTS) / x86_64  OK  OK  OK UNNEEDED, same version exists in internal repository
nebbiolo1 Linux (Ubuntu 20.04.1 LTS) / x86_64  OK  OK  OK 
Package 305/398HostnameOS / ArchINSTALLBUILDCHECK
rheumaticConditionWOLLBOLD 1.28.0
Alejandro Quiroz-Zarate
Last Commit: 48b344b
Last Changed Date: 2020-10-27 09:54:44 -0500
malbec1 Linux (Ubuntu 18.04.4 LTS) / x86_64  OK  OK  OK UNNEEDED, same version exists in internal repository
nebbiolo1 Linux (Ubuntu 20.04.1 LTS) / x86_64  OK  OK  OK 
Package 306/398HostnameOS / ArchINSTALLBUILDCHECK
RITANdata 1.14.0
Michael Zimmermann
Last Commit: e9a2293
Last Changed Date: 2020-10-27 10:23:00 -0500
malbec1 Linux (Ubuntu 18.04.4 LTS) / x86_64  OK  OK  OK UNNEEDED, same version exists in internal repository
nebbiolo1 Linux (Ubuntu 20.04.1 LTS) / x86_64  OK  OK  OK 
Package 307/398HostnameOS / ArchINSTALLBUILDCHECK
RMassBankData 1.28.0
Michael Stravs, Emma Schymanski
Last Commit: 0fe2270
Last Changed Date: 2020-10-27 09:56:34 -0500
malbec1 Linux (Ubuntu 18.04.4 LTS) / x86_64  OK  OK  OK UNNEEDED, same version exists in internal repository
nebbiolo1 Linux (Ubuntu 20.04.1 LTS) / x86_64  OK  OK  OK 
Package 308/398HostnameOS / ArchINSTALLBUILDCHECK
RNAinteractMAPK 1.28.0
Bernd Fischer
Last Commit: 9897c5a
Last Changed Date: 2020-10-27 09:52:30 -0500
malbec1 Linux (Ubuntu 18.04.4 LTS) / x86_64  OK  ERROR  skipped 
nebbiolo1 Linux (Ubuntu 20.04.1 LTS) / x86_64  OK  ERROR  skipped 
Package 309/398HostnameOS / ArchINSTALLBUILDCHECK
RNAmodR.Data 1.4.0
Felix G.M. Ernst
Last Commit: 8fe16f1
Last Changed Date: 2020-10-27 10:30:16 -0500
malbec1 Linux (Ubuntu 18.04.4 LTS) / x86_64  OK  OK  OK UNNEEDED, same version exists in internal repository
nebbiolo1 Linux (Ubuntu 20.04.1 LTS) / x86_64  OK  OK  OK 
Package 310/398HostnameOS / ArchINSTALLBUILDCHECK
RNAseqData.HNRNPC.bam.chr14 0.28.0
Hervé Pagès
Last Commit: 8a9881d
Last Changed Date: 2020-10-27 10:02:25 -0500
malbec1 Linux (Ubuntu 18.04.4 LTS) / x86_64  OK  OK  OK UNNEEDED, same version exists in internal repository
nebbiolo1 Linux (Ubuntu 20.04.1 LTS) / x86_64  OK  OK  OK 
Package 311/398HostnameOS / ArchINSTALLBUILDCHECK
RNASeqRData 1.8.0
Kuan-Hao Chao
Last Commit: 095ea4b
Last Changed Date: 2020-10-27 10:28:03 -0500
malbec1 Linux (Ubuntu 18.04.4 LTS) / x86_64  OK  OK  OK UNNEEDED, same version exists in internal repository
nebbiolo1 Linux (Ubuntu 20.04.1 LTS) / x86_64  OK  OK  OK 
Package 312/398HostnameOS / ArchINSTALLBUILDCHECK
RnaSeqSampleSizeData 1.22.0
Shilin Zhao
Last Commit: 0e389c8
Last Changed Date: 2020-10-27 10:11:01 -0500
malbec1 Linux (Ubuntu 18.04.4 LTS) / x86_64  OK  OK  OK UNNEEDED, same version exists in internal repository
nebbiolo1 Linux (Ubuntu 20.04.1 LTS) / x86_64  OK  OK  OK 
Package 313/398HostnameOS / ArchINSTALLBUILDCHECK
RnBeads.hg19 1.22.0
RnBeadsAnnotationCreator
Last Commit: c27ee43
Last Changed Date: 2020-10-27 10:12:54 -0500
malbec1 Linux (Ubuntu 18.04.4 LTS) / x86_64  OK  OK  WARNINGS UNNEEDED, same version exists in internal repository
nebbiolo1 Linux (Ubuntu 20.04.1 LTS) / x86_64  OK  OK  WARNINGS 
Package 314/398HostnameOS / ArchINSTALLBUILDCHECK
RnBeads.hg38 1.22.0
RnBeadsAnnotationCreator
Last Commit: 1e100ef
Last Changed Date: 2020-10-27 10:13:38 -0500
malbec1 Linux (Ubuntu 18.04.4 LTS) / x86_64  OK  OK  OK UNNEEDED, same version exists in internal repository
nebbiolo1 Linux (Ubuntu 20.04.1 LTS) / x86_64  OK  OK  OK 
Package 315/398HostnameOS / ArchINSTALLBUILDCHECK
RnBeads.mm10 1.22.0
RnBeadsAnnotationCreator
Last Commit: a5c65a5
Last Changed Date: 2020-10-27 10:13:07 -0500
malbec1 Linux (Ubuntu 18.04.4 LTS) / x86_64  OK  OK  OK UNNEEDED, same version exists in internal repository
nebbiolo1 Linux (Ubuntu 20.04.1 LTS) / x86_64  OK  OK  OK 
Package 316/398HostnameOS / ArchINSTALLBUILDCHECK
RnBeads.mm9 1.22.0
RnBeadsAnnotationCreator
Last Commit: 8f7475c
Last Changed Date: 2020-10-27 10:13:12 -0500
malbec1 Linux (Ubuntu 18.04.4 LTS) / x86_64  OK  OK  WARNINGS UNNEEDED, same version exists in internal repository
nebbiolo1 Linux (Ubuntu 20.04.1 LTS) / x86_64  OK  OK  WARNINGS 
Package 317/398HostnameOS / ArchINSTALLBUILDCHECK
RnBeads.rn5 1.22.0
RnBeadsAnnotationCreator
Last Commit: d1dc5ff
Last Changed Date: 2020-10-27 10:13:16 -0500
malbec1 Linux (Ubuntu 18.04.4 LTS) / x86_64  OK  OK  OK UNNEEDED, same version exists in internal repository
nebbiolo1 Linux (Ubuntu 20.04.1 LTS) / x86_64  OK  OK  OK 
Package 318/398HostnameOS / ArchINSTALLBUILDCHECK
RRBSdata 1.10.0
Katja Hebestreit
Last Commit: b573878
Last Changed Date: 2020-10-27 10:10:42 -0500
malbec1 Linux (Ubuntu 18.04.4 LTS) / x86_64  OK  OK  OK UNNEEDED, same version exists in internal repository
nebbiolo1 Linux (Ubuntu 20.04.1 LTS) / x86_64  OK  OK  OK 
Package 319/398HostnameOS / ArchINSTALLBUILDCHECK
rRDPData 1.10.0
Michael Hahsler
Last Commit: 5d9752b
Last Changed Date: 2020-10-27 10:10:24 -0500
malbec1 Linux (Ubuntu 18.04.4 LTS) / x86_64  OK  OK  OK UNNEEDED, same version exists in internal repository
nebbiolo1 Linux (Ubuntu 20.04.1 LTS) / x86_64  OK  OK  OK 
Package 320/398HostnameOS / ArchINSTALLBUILDCHECK
RTCGA.clinical 20151101.20.0
Marcin Kosinski
Last Commit: 098f383
Last Changed Date: 2020-10-27 10:13:45 -0500
malbec1 Linux (Ubuntu 18.04.4 LTS) / x86_64  OK  OK  OK UNNEEDED, same version exists in internal repository
nebbiolo1 Linux (Ubuntu 20.04.1 LTS) / x86_64  OK  OK  OK 
Package 321/398HostnameOS / ArchINSTALLBUILDCHECK
RTCGA.CNV 1.18.0
Marcin Kosinski
Last Commit: de50b10
Last Changed Date: 2020-10-27 10:17:07 -0500
malbec1 Linux (Ubuntu 18.04.4 LTS) / x86_64  OK  OK  OK UNNEEDED, same version exists in internal repository
nebbiolo1 Linux (Ubuntu 20.04.1 LTS) / x86_64  OK  OK  OK 
Package 322/398HostnameOS / ArchINSTALLBUILDCHECK
RTCGA.methylation 1.18.0
Marcin Kosinski
Last Commit: 6f0d63b
Last Changed Date: 2020-10-27 10:16:32 -0500
malbec1 Linux (Ubuntu 18.04.4 LTS) / x86_64  OK  OK  OK UNNEEDED, same version exists in internal repository
nebbiolo1 Linux (Ubuntu 20.04.1 LTS) / x86_64  OK  OK  OK 
Package 323/398HostnameOS / ArchINSTALLBUILDCHECK
RTCGA.miRNASeq 1.18.0
Marcin Kosinski
Last Commit: a3170df
Last Changed Date: 2020-10-27 10:16:49 -0500
malbec1 Linux (Ubuntu 18.04.4 LTS) / x86_64  OK  OK  OK UNNEEDED, same version exists in internal repository
nebbiolo1 Linux (Ubuntu 20.04.1 LTS) / x86_64  OK  OK  OK 
Package 324/398HostnameOS / ArchINSTALLBUILDCHECK
RTCGA.mRNA 1.18.0
Marcin Kosinski
Last Commit: 4e20464
Last Changed Date: 2020-10-27 10:16:52 -0500
malbec1 Linux (Ubuntu 18.04.4 LTS) / x86_64  OK  OK  OK UNNEEDED, same version exists in internal repository
nebbiolo1 Linux (Ubuntu 20.04.1 LTS) / x86_64  OK  OK  OK 
Package 325/398HostnameOS / ArchINSTALLBUILDCHECK
RTCGA.mutations 20151101.20.0
Marcin Kosinski
Last Commit: 25d0255
Last Changed Date: 2020-10-27 10:13:48 -0500
malbec1 Linux (Ubuntu 18.04.4 LTS) / x86_64  OK  OK  OK UNNEEDED, same version exists in internal repository
nebbiolo1 Linux (Ubuntu 20.04.1 LTS) / x86_64  OK  OK  OK 
Package 326/398HostnameOS / ArchINSTALLBUILDCHECK
RTCGA.PANCAN12 1.18.0
Marcin Kosinski
Last Commit: 6486bf5
Last Changed Date: 2020-10-27 10:16:56 -0500
malbec1 Linux (Ubuntu 18.04.4 LTS) / x86_64  OK  OK  OK UNNEEDED, same version exists in internal repository
nebbiolo1 Linux (Ubuntu 20.04.1 LTS) / x86_64  OK  OK  OK 
Package 327/398HostnameOS / ArchINSTALLBUILDCHECK
RTCGA.rnaseq 20151101.20.0
Marcin Kosinski
Last Commit: 09009ff
Last Changed Date: 2020-10-27 10:13:53 -0500
malbec1 Linux (Ubuntu 18.04.4 LTS) / x86_64  OK  OK  OK UNNEEDED, same version exists in internal repository
nebbiolo1 Linux (Ubuntu 20.04.1 LTS) / x86_64  OK  OK  OK 
Package 328/398HostnameOS / ArchINSTALLBUILDCHECK
RTCGA.RPPA 1.18.0
Marcin Kosinski
Last Commit: 982cbf4
Last Changed Date: 2020-10-27 10:17:03 -0500
malbec1 Linux (Ubuntu 18.04.4 LTS) / x86_64  OK  OK  OK UNNEEDED, same version exists in internal repository
nebbiolo1 Linux (Ubuntu 20.04.1 LTS) / x86_64  OK  OK  OK 
Package 329/398HostnameOS / ArchINSTALLBUILDCHECK
RUVnormalizeData 1.10.0
Laurent Jacob
Last Commit: 781ff5e
Last Changed Date: 2020-10-27 10:09:52 -0500
malbec1 Linux (Ubuntu 18.04.4 LTS) / x86_64  OK  OK  OK UNNEEDED, same version exists in internal repository
nebbiolo1 Linux (Ubuntu 20.04.1 LTS) / x86_64  OK  OK  OK 
S
ABCDEFGHIJKLMNOPQRSTUVWXYZ
Package 330/398HostnameOS / ArchINSTALLBUILDCHECK
sampleClassifierData 1.14.0
Khadija El Amrani
Last Commit: 26a5049
Last Changed Date: 2020-10-27 10:22:35 -0500
malbec1 Linux (Ubuntu 18.04.4 LTS) / x86_64  OK  OK  WARNINGS UNNEEDED, same version exists in internal repository
nebbiolo1 Linux (Ubuntu 20.04.1 LTS) / x86_64  OK  OK  WARNINGS 
Package 331/398HostnameOS / ArchINSTALLBUILDCHECK
SBGNview.data 1.4.0
Xiaoxi Dong
Last Commit: ecb0efa
Last Changed Date: 2020-10-27 10:30:31 -0500
malbec1 Linux (Ubuntu 18.04.4 LTS) / x86_64  OK  OK  OK UNNEEDED, same version exists in internal repository
nebbiolo1 Linux (Ubuntu 20.04.1 LTS) / x86_64  OK  OK  OK 
Package 332/398HostnameOS / ArchINSTALLBUILDCHECK
SCATEData 1.0.0
Wenpin Hou
Last Commit: 4c42627
Last Changed Date: 2020-10-27 10:32:09 -0500
malbec1 Linux (Ubuntu 18.04.4 LTS) / x86_64  OK  OK  OK UNNEEDED, same version exists in internal repository
nebbiolo1 Linux (Ubuntu 20.04.1 LTS) / x86_64  OK  OK  OK 
Package 333/398HostnameOS / ArchINSTALLBUILDCHECK
SCLCBam 1.22.0
Oscar Krijgsman
Last Commit: 207d811
Last Changed Date: 2020-10-27 10:12:47 -0500
malbec1 Linux (Ubuntu 18.04.4 LTS) / x86_64  OK  OK  OK UNNEEDED, same version exists in internal repository
nebbiolo1 Linux (Ubuntu 20.04.1 LTS) / x86_64  OK  OK  OK 
Package 334/398HostnameOS / ArchINSTALLBUILDCHECK
scRNAseq 2.4.0
Aaron Lun
Last Commit: 61f2c38
Last Changed Date: 2020-10-27 10:21:24 -0500
malbec1 Linux (Ubuntu 18.04.4 LTS) / x86_64  OK  OK  OK UNNEEDED, same version exists in internal repository
nebbiolo1 Linux (Ubuntu 20.04.1 LTS) / x86_64  OK  OK  OK 
Package 335/398HostnameOS / ArchINSTALLBUILDCHECK
scTHI.data 1.2.0
Michele Ceccarelli
Last Commit: b6a8c5a
Last Changed Date: 2020-10-27 10:31:18 -0500
malbec1 Linux (Ubuntu 18.04.4 LTS) / x86_64  OK  OK  OK UNNEEDED, same version exists in internal repository
nebbiolo1 Linux (Ubuntu 20.04.1 LTS) / x86_64  OK  OK  OK 
Package 336/398HostnameOS / ArchINSTALLBUILDCHECK
seq2pathway.data 1.22.0
Xinan Holly Yang
Last Commit: 5ba32cf
Last Changed Date: 2020-10-27 10:11:18 -0500
malbec1 Linux (Ubuntu 18.04.4 LTS) / x86_64  OK  OK  WARNINGS UNNEEDED, same version exists in internal repository
nebbiolo1 Linux (Ubuntu 20.04.1 LTS) / x86_64  OK  OK  WARNINGS 
Package 337/398HostnameOS / ArchINSTALLBUILDCHECK
seqc 1.24.0
Yang Liao and Wei Shi
Last Commit: 64b0931
Last Changed Date: 2020-10-27 10:10:46 -0500
malbec1 Linux (Ubuntu 18.04.4 LTS) / x86_64  OK  OK  OK UNNEEDED, same version exists in internal repository
nebbiolo1 Linux (Ubuntu 20.04.1 LTS) / x86_64  OK  OK  OK 
Package 338/398HostnameOS / ArchINSTALLBUILDCHECK
seqCNA.annot 1.26.0
David Mosen-Ansorena
Last Commit: 1e2cfa6
Last Changed Date: 2020-10-27 10:04:53 -0500
malbec1 Linux (Ubuntu 18.04.4 LTS) / x86_64  OK  OK  OK UNNEEDED, same version exists in internal repository
nebbiolo1 Linux (Ubuntu 20.04.1 LTS) / x86_64  OK  OK  OK 
Package 339/398HostnameOS / ArchINSTALLBUILDCHECK
serumStimulation 1.26.0
Morten Hansen,
Last Commit: 9162b24
Last Changed Date: 2020-10-27 09:54:29 -0500
malbec1 Linux (Ubuntu 18.04.4 LTS) / x86_64  OK  OK  OK UNNEEDED, same version exists in internal repository
nebbiolo1 Linux (Ubuntu 20.04.1 LTS) / x86_64  OK  OK  OK 
Package 340/398HostnameOS / ArchINSTALLBUILDCHECK
sesameData 1.8.0
Wanding Zhou
Last Commit: e6f7172
Last Changed Date: 2020-10-27 10:27:01 -0500
malbec1 Linux (Ubuntu 18.04.4 LTS) / x86_64  OK  OK  OK UNNEEDED, same version exists in internal repository
nebbiolo1 Linux (Ubuntu 20.04.1 LTS) / x86_64  OK  OK  OK 
Package 341/398HostnameOS / ArchINSTALLBUILDCHECK
seventyGeneData 1.26.0
Luigi Marchionni
Last Commit: 6f93804
Last Changed Date: 2020-10-27 10:04:12 -0500
malbec1 Linux (Ubuntu 18.04.4 LTS) / x86_64  OK  OK  OK UNNEEDED, same version exists in internal repository
nebbiolo1 Linux (Ubuntu 20.04.1 LTS) / x86_64  OK  OK  OK 
Package 342/398HostnameOS / ArchINSTALLBUILDCHECK
shinyMethylData 1.10.0
Jean-Philippe Fortin
Last Commit: 47df22d
Last Changed Date: 2020-10-27 10:09:29 -0500
malbec1 Linux (Ubuntu 18.04.4 LTS) / x86_64  OK  OK  OK UNNEEDED, same version exists in internal repository
nebbiolo1 Linux (Ubuntu 20.04.1 LTS) / x86_64  OK  OK  OK 
Package 343/398HostnameOS / ArchINSTALLBUILDCHECK
signatureSearchData 1.4.0
Yuzhu Duan
Last Commit: 6e452bf
Last Changed Date: 2020-10-27 10:31:00 -0500
malbec1 Linux (Ubuntu 18.04.4 LTS) / x86_64  OK  OK  OK UNNEEDED, same version exists in internal repository
nebbiolo1 Linux (Ubuntu 20.04.1 LTS) / x86_64  OK  OK  OK 
Package 344/398HostnameOS / ArchINSTALLBUILDCHECK
simpIntLists 1.26.0
Kircicegi Korkmaz
Last Commit: 11e24c3
Last Changed Date: 2020-10-27 09:52:37 -0500
malbec1 Linux (Ubuntu 18.04.4 LTS) / x86_64  OK  OK  WARNINGS UNNEEDED, same version exists in internal repository
nebbiolo1 Linux (Ubuntu 20.04.1 LTS) / x86_64  OK  OK  WARNINGS 
Package 345/398HostnameOS / ArchINSTALLBUILDCHECK
Single.mTEC.Transcriptomes 1.18.0
Alejandro Reyes
Last Commit: f6ad28b
Last Changed Date: 2020-10-27 10:16:10 -0500
malbec1 Linux (Ubuntu 18.04.4 LTS) / x86_64  OK  OK  OK UNNEEDED, same version exists in internal repository
nebbiolo1 Linux (Ubuntu 20.04.1 LTS) / x86_64  OK  OK  OK 
Package 346/398HostnameOS / ArchINSTALLBUILDCHECK
SingleCellMultiModal 1.2.2
Marcel Ramos
Last Commit: 234f1c8
Last Changed Date: 2020-11-05 14:23:46 -0500
malbec1 Linux (Ubuntu 18.04.4 LTS) / x86_64  OK  OK  OK UNNEEDED, same version exists in internal repository
nebbiolo1 Linux (Ubuntu 20.04.1 LTS) / x86_64  OK  OK  OK 
Package 347/398HostnameOS / ArchINSTALLBUILDCHECK
SNAData 1.36.0
Denise Scholtens
Last Commit: fc0ef6a
Last Changed Date: 2020-10-27 09:46:57 -0500
malbec1 Linux (Ubuntu 18.04.4 LTS) / x86_64  OK  OK  OK UNNEEDED, same version exists in internal repository
nebbiolo1 Linux (Ubuntu 20.04.1 LTS) / x86_64  OK  OK  OK 
Package 348/398HostnameOS / ArchINSTALLBUILDCHECK
SNAGEEdata 1.26.0
David Venet
Last Commit: e4e0b31
Last Changed Date: 2020-10-27 10:00:12 -0500
malbec1 Linux (Ubuntu 18.04.4 LTS) / x86_64  OK  OK  OK UNNEEDED, same version exists in internal repository
nebbiolo1 Linux (Ubuntu 20.04.1 LTS) / x86_64  OK  OK  OK 
Package 349/398HostnameOS / ArchINSTALLBUILDCHECK
SNPhoodData 1.20.0
Christian Arnold
Last Commit: 233b829
Last Changed Date: 2020-10-27 10:14:47 -0500
malbec1 Linux (Ubuntu 18.04.4 LTS) / x86_64  OK  OK  OK UNNEEDED, same version exists in internal repository
nebbiolo1 Linux (Ubuntu 20.04.1 LTS) / x86_64  OK  OK  OK 
Package 350/398HostnameOS / ArchINSTALLBUILDCHECK
SomatiCAData 1.28.0
Mengjie Chen
Last Commit: 1aba49c
Last Changed Date: 2020-10-27 10:00:47 -0500
malbec1 Linux (Ubuntu 18.04.4 LTS) / x86_64  OK  OK  WARNINGS UNNEEDED, same version exists in internal repository
nebbiolo1 Linux (Ubuntu 20.04.1 LTS) / x86_64  OK  OK  WARNINGS 
Package 351/398HostnameOS / ArchINSTALLBUILDCHECK
SomaticCancerAlterations 1.26.0
Julian Gehring
Last Commit: e6b9385
Last Changed Date: 2020-10-27 10:05:42 -0500
malbec1 Linux (Ubuntu 18.04.4 LTS) / x86_64  OK  OK  WARNINGS UNNEEDED, same version exists in internal repository
nebbiolo1 Linux (Ubuntu 20.04.1 LTS) / x86_64  OK  OK  WARNINGS 
Package 352/398HostnameOS / ArchINSTALLBUILDCHECK
spatialLIBD 1.2.0
Leonardo Collado-Torres
Last Commit: d74bf66
Last Changed Date: 2020-10-27 10:31:44 -0500
malbec1 Linux (Ubuntu 18.04.4 LTS) / x86_64  OK  OK  OK UNNEEDED, same version exists in internal repository
nebbiolo1 Linux (Ubuntu 20.04.1 LTS) / x86_64  OK  OK  OK 
Package 353/398HostnameOS / ArchINSTALLBUILDCHECK
SpikeIn 1.32.0
Rafael A. Irizarry
Last Commit: 07cde8e
Last Changed Date: 2020-10-27 09:47:01 -0500
malbec1 Linux (Ubuntu 18.04.4 LTS) / x86_64  OK  OK  WARNINGS UNNEEDED, same version exists in internal repository
nebbiolo1 Linux (Ubuntu 20.04.1 LTS) / x86_64  OK  OK  WARNINGS 
Package 354/398HostnameOS / ArchINSTALLBUILDCHECK
SpikeInSubset 1.30.0
Rafael A. Irizarry
Last Commit: 7628919
Last Changed Date: 2020-10-27 09:47:05 -0500
malbec1 Linux (Ubuntu 18.04.4 LTS) / x86_64  OK  OK  WARNINGS UNNEEDED, same version exists in internal repository
nebbiolo1 Linux (Ubuntu 20.04.1 LTS) / x86_64  OK  OK  WARNINGS 
Package 355/398HostnameOS / ArchINSTALLBUILDCHECK
spqnData 1.2.0
Yi Wang
Last Commit: 09e8a13
Last Changed Date: 2020-10-27 10:31:35 -0500
malbec1 Linux (Ubuntu 18.04.4 LTS) / x86_64  OK  OK  OK UNNEEDED, same version exists in internal repository
nebbiolo1 Linux (Ubuntu 20.04.1 LTS) / x86_64  OK  OK  OK 
Package 356/398HostnameOS / ArchINSTALLBUILDCHECK
stemHypoxia 1.26.0
Cristobal Fresno
Last Commit: 66be421
Last Changed Date: 2020-10-27 10:00:03 -0500
malbec1 Linux (Ubuntu 18.04.4 LTS) / x86_64  OK  OK  OK UNNEEDED, same version exists in internal repository
nebbiolo1 Linux (Ubuntu 20.04.1 LTS) / x86_64  OK  OK  OK 
Package 357/398HostnameOS / ArchINSTALLBUILDCHECK
stjudem 1.30.0
Joern Toedling
Last Commit: fefa5d7
Last Changed Date: 2020-10-27 09:47:08 -0500
malbec1 Linux (Ubuntu 18.04.4 LTS) / x86_64  OK  OK  OK UNNEEDED, same version exists in internal repository
nebbiolo1 Linux (Ubuntu 20.04.1 LTS) / x86_64  OK  OK  OK 
Package 358/398HostnameOS / ArchINSTALLBUILDCHECK
SVM2CRMdata 1.22.0
Guidantonio Malagoli Tagliazucchi
Last Commit: 0309604
Last Changed Date: 2020-10-27 10:12:19 -0500
malbec1 Linux (Ubuntu 18.04.4 LTS) / x86_64  OK  OK  WARNINGS UNNEEDED, same version exists in internal repository
nebbiolo1 Linux (Ubuntu 20.04.1 LTS) / x86_64  OK  OK  WARNINGS 
Package 359/398HostnameOS / ArchINSTALLBUILDCHECK
synapterdata 1.28.0
Laurent Gatto
Last Commit: 08f1c73
Last Changed Date: 2020-10-27 09:55:57 -0500
malbec1 Linux (Ubuntu 18.04.4 LTS) / x86_64  OK  OK  OK UNNEEDED, same version exists in internal repository
nebbiolo1 Linux (Ubuntu 20.04.1 LTS) / x86_64  OK  OK  OK 
Package 360/398HostnameOS / ArchINSTALLBUILDCHECK
systemPipeRdata 1.18.1
Thomas Girke
Last Commit: f280fb7
Last Changed Date: 2020-10-29 22:54:57 -0500
malbec1 Linux (Ubuntu 18.04.4 LTS) / x86_64  OK  OK  OK UNNEEDED, same version exists in internal repository
nebbiolo1 Linux (Ubuntu 20.04.1 LTS) / x86_64  OK  OK  OK 
T
ABCDEFGHIJKLMNOPQRSTUVWXYZ
Package 361/398HostnameOS / ArchINSTALLBUILDCHECK
TabulaMurisData 1.8.0
Charlotte Soneson
Last Commit: 03b050d
Last Changed Date: 2020-10-27 10:27:27 -0500
malbec1 Linux (Ubuntu 18.04.4 LTS) / x86_64  OK  OK  OK UNNEEDED, same version exists in internal repository
nebbiolo1 Linux (Ubuntu 20.04.1 LTS) / x86_64  OK  OK  OK 
Package 362/398HostnameOS / ArchINSTALLBUILDCHECK
TargetScoreData 1.26.0
Yue Li
Last Commit: db41481
Last Changed Date: 2020-10-27 10:04:44 -0500
malbec1 Linux (Ubuntu 18.04.4 LTS) / x86_64  OK  OK  OK UNNEEDED, same version exists in internal repository
nebbiolo1 Linux (Ubuntu 20.04.1 LTS) / x86_64  OK  OK  OK 
Package 363/398HostnameOS / ArchINSTALLBUILDCHECK
TargetSearchData 1.28.0
Alvaro Cuadros-Inostroza
Last Commit: 98d93e0
Last Changed Date: 2020-10-27 09:51:15 -0500
malbec1 Linux (Ubuntu 18.04.4 LTS) / x86_64  OK  OK  OK UNNEEDED, same version exists in internal repository
nebbiolo1 Linux (Ubuntu 20.04.1 LTS) / x86_64  OK  OK  OK 
Package 364/398HostnameOS / ArchINSTALLBUILDCHECK
tartare 1.4.0
Christian Panse
Last Commit: fafd789
Last Changed Date: 2020-10-27 10:30:57 -0500
malbec1 Linux (Ubuntu 18.04.4 LTS) / x86_64  OK  OK  OK UNNEEDED, same version exists in internal repository
nebbiolo1 Linux (Ubuntu 20.04.1 LTS) / x86_64  OK  OK  OK 
Package 365/398HostnameOS / ArchINSTALLBUILDCHECK
TBX20BamSubset 1.26.0
D. Bindreither
Last Commit: 4d093dd
Last Changed Date: 2020-10-27 09:56:21 -0500
malbec1 Linux (Ubuntu 18.04.4 LTS) / x86_64  OK  OK  OK UNNEEDED, same version exists in internal repository
nebbiolo1 Linux (Ubuntu 20.04.1 LTS) / x86_64  OK  OK  OK 
Package 366/398HostnameOS / ArchINSTALLBUILDCHECK
TCGAbiolinksGUI.data 1.10.0
Tiago Chedraoui Silva
Last Commit: c5c0e4c
Last Changed Date: 2020-10-27 10:24:37 -0500
malbec1 Linux (Ubuntu 18.04.4 LTS) / x86_64  OK  OK  OK UNNEEDED, same version exists in internal repository
nebbiolo1 Linux (Ubuntu 20.04.1 LTS) / x86_64  OK  OK  OK 
Package 367/398HostnameOS / ArchINSTALLBUILDCHECK
TCGAcrcmiRNA 1.10.0
Claudio Isella
Last Commit: ec8776b
Last Changed Date: 2020-10-27 10:09:55 -0500
malbec1 Linux (Ubuntu 18.04.4 LTS) / x86_64  OK  OK  OK UNNEEDED, same version exists in internal repository
nebbiolo1 Linux (Ubuntu 20.04.1 LTS) / x86_64  OK  OK  OK 
Package 368/398HostnameOS / ArchINSTALLBUILDCHECK
TCGAcrcmRNA 1.10.0
Claudio Isella
Last Commit: 9ad8507
Last Changed Date: 2020-10-27 10:09:59 -0500
malbec1 Linux (Ubuntu 18.04.4 LTS) / x86_64  OK  OK  OK UNNEEDED, same version exists in internal repository
nebbiolo1 Linux (Ubuntu 20.04.1 LTS) / x86_64  OK  OK  OK 
Package 369/398HostnameOS / ArchINSTALLBUILDCHECK
TCGAMethylation450k 1.26.0
Sean Davis
Last Commit: c182148
Last Changed Date: 2020-10-27 09:54:00 -0500
malbec1 Linux (Ubuntu 18.04.4 LTS) / x86_64  OK  OK  OK UNNEEDED, same version exists in internal repository
nebbiolo1 Linux (Ubuntu 20.04.1 LTS) / x86_64  OK  OK  OK 
Package 370/398HostnameOS / ArchINSTALLBUILDCHECK
tcgaWGBSData.hg19 1.8.0
Divy Kangeyan
Last Commit: 8a8967a
Last Changed Date: 2020-10-27 10:27:34 -0500
malbec1 Linux (Ubuntu 18.04.4 LTS) / x86_64  OK  OK  OK UNNEEDED, same version exists in internal repository
nebbiolo1 Linux (Ubuntu 20.04.1 LTS) / x86_64  OK  OK  OK 
Package 371/398HostnameOS / ArchINSTALLBUILDCHECK
TCGAWorkflowData 1.14.0
Tiago Chedraoui Silva
Last Commit: c2b1aa3
Last Changed Date: 2020-10-27 10:22:55 -0500
malbec1 Linux (Ubuntu 18.04.4 LTS) / x86_64  OK  OK  WARNINGS UNNEEDED, same version exists in internal repository
nebbiolo1 Linux (Ubuntu 20.04.1 LTS) / x86_64  OK  OK  WARNINGS 
Package 372/398HostnameOS / ArchINSTALLBUILDCHECK
TENxBrainData 1.10.0
Bioconductor Package Maintainer
Last Commit: b17ec93
Last Changed Date: 2020-10-27 10:25:48 -0500
malbec1 Linux (Ubuntu 18.04.4 LTS) / x86_64  OK  OK  OK UNNEEDED, same version exists in internal repository
nebbiolo1 Linux (Ubuntu 20.04.1 LTS) / x86_64  OK  OK  OK 
Package 373/398HostnameOS / ArchINSTALLBUILDCHECK
TENxBUSData 1.4.0
Lambda Moses
Last Commit: 6c30472
Last Changed Date: 2020-10-27 10:30:42 -0500
malbec1 Linux (Ubuntu 18.04.4 LTS) / x86_64  OK  OK  OK UNNEEDED, same version exists in internal repository
nebbiolo1 Linux (Ubuntu 20.04.1 LTS) / x86_64  OK  OK  OK 
Package 374/398HostnameOS / ArchINSTALLBUILDCHECK
TENxPBMCData 1.8.0
Stephanie Hicks
Last Commit: 5f34edd
Last Changed Date: 2020-10-27 10:27:24 -0500
malbec1 Linux (Ubuntu 18.04.4 LTS) / x86_64  OK  OK  OK UNNEEDED, same version exists in internal repository
nebbiolo1 Linux (Ubuntu 20.04.1 LTS) / x86_64  OK  OK  OK 
Package 375/398HostnameOS / ArchINSTALLBUILDCHECK
timecoursedata 1.0.0
Nelle Varoquaux
Last Commit: 337b3bd
Last Changed Date: 2020-10-27 10:32:23 -0500
malbec1 Linux (Ubuntu 18.04.4 LTS) / x86_64  OK  OK  OK UNNEEDED, same version exists in internal repository
nebbiolo1 Linux (Ubuntu 20.04.1 LTS) / x86_64  OK  OK  OK 
Package 376/398HostnameOS / ArchINSTALLBUILDCHECK
TimerQuant 1.20.0
Joseph Barry
Last Commit: 7757f9d
Last Changed Date: 2020-10-27 10:14:37 -0500
malbec1 Linux (Ubuntu 18.04.4 LTS) / x86_64  OK  OK  OK UNNEEDED, same version exists in internal repository
nebbiolo1 Linux (Ubuntu 20.04.1 LTS) / x86_64  OK  OK  OK 
Package 377/398HostnameOS / ArchINSTALLBUILDCHECK
tinesath1cdf 1.28.0
Tine Casneuf
Last Commit: 790d139
Last Changed Date: 2020-10-27 09:48:31 -0500
malbec1 Linux (Ubuntu 18.04.4 LTS) / x86_64  OK  OK  WARNINGS UNNEEDED, same version exists in internal repository
nebbiolo1 Linux (Ubuntu 20.04.1 LTS) / x86_64  OK  OK  WARNINGS 
Package 378/398HostnameOS / ArchINSTALLBUILDCHECK
tinesath1probe 1.28.0
Tine Casneuf
Last Commit: 71e5153
Last Changed Date: 2020-10-27 09:48:34 -0500
malbec1 Linux (Ubuntu 18.04.4 LTS) / x86_64  OK  OK  WARNINGS UNNEEDED, same version exists in internal repository
nebbiolo1 Linux (Ubuntu 20.04.1 LTS) / x86_64  OK  OK  WARNINGS 
Package 379/398HostnameOS / ArchINSTALLBUILDCHECK
tissueTreg 1.10.0
Charles Imbusch
Last Commit: d504da1
Last Changed Date: 2020-10-27 10:26:30 -0500
malbec1 Linux (Ubuntu 18.04.4 LTS) / x86_64  OK  OK  OK UNNEEDED, same version exists in internal repository
nebbiolo1 Linux (Ubuntu 20.04.1 LTS) / x86_64  OK  OK  OK 
Package 380/398HostnameOS / ArchINSTALLBUILDCHECK
TMExplorer 1.0.0
Erik Christensen
Last Commit: 465c659
Last Changed Date: 2020-10-27 10:32:31 -0500
malbec1 Linux (Ubuntu 18.04.4 LTS) / x86_64  OK  OK  ERROR 
nebbiolo1 Linux (Ubuntu 20.04.1 LTS) / x86_64  OK  OK  OK 
Package 381/398HostnameOS / ArchINSTALLBUILDCHECK
tofsimsData 1.18.0
Lorenz Gerber
Last Commit: 73360be
Last Changed Date: 2020-10-27 10:16:06 -0500
malbec1 Linux (Ubuntu 18.04.4 LTS) / x86_64  OK  OK  OK UNNEEDED, same version exists in internal repository
nebbiolo1 Linux (Ubuntu 20.04.1 LTS) / x86_64  OK  OK  OK 
Package 382/398HostnameOS / ArchINSTALLBUILDCHECK
topdownrdata 1.12.0
Sebastian Gibb
Last Commit: e045a19
Last Changed Date: 2020-10-27 10:24:28 -0500
malbec1 Linux (Ubuntu 18.04.4 LTS) / x86_64  OK  OK  OK UNNEEDED, same version exists in internal repository
nebbiolo1 Linux (Ubuntu 20.04.1 LTS) / x86_64  OK  OK  OK 
Package 383/398HostnameOS / ArchINSTALLBUILDCHECK
tweeDEseqCountData 1.28.0
Juan R Gonzalez
Last Commit: 197ce26
Last Changed Date: 2020-10-27 09:54:08 -0500
malbec1 Linux (Ubuntu 18.04.4 LTS) / x86_64  OK  OK  OK UNNEEDED, same version exists in internal repository
nebbiolo1 Linux (Ubuntu 20.04.1 LTS) / x86_64  OK  OK  OK 
Package 384/398HostnameOS / ArchINSTALLBUILDCHECK
tximportData 1.18.0
Michael Love
Last Commit: 24945f8
Last Changed Date: 2020-10-27 10:17:11 -0500
malbec1 Linux (Ubuntu 18.04.4 LTS) / x86_64  OK  OK  OK UNNEEDED, same version exists in internal repository
nebbiolo1 Linux (Ubuntu 20.04.1 LTS) / x86_64  OK  OK  OK 
V
ABCDEFGHIJKLMNOPQRSTUVWXYZ
Package 385/398HostnameOS / ArchINSTALLBUILDCHECK
VariantToolsData 1.14.0
Michael Lawrence
Last Commit: 882b063
Last Changed Date: 2020-10-27 10:22:22 -0500
malbec1 Linux (Ubuntu 18.04.4 LTS) / x86_64  OK  OK  WARNINGS UNNEEDED, same version exists in internal repository
nebbiolo1 Linux (Ubuntu 20.04.1 LTS) / x86_64  OK  OK  WARNINGS 
Package 386/398HostnameOS / ArchINSTALLBUILDCHECK
vulcandata 1.12.0
Federico M. Giorgi
Last Commit: 4e5dc2c
Last Changed Date: 2020-10-27 10:23:27 -0500
malbec1 Linux (Ubuntu 18.04.4 LTS) / x86_64  OK  OK  OK UNNEEDED, same version exists in internal repository
nebbiolo1 Linux (Ubuntu 20.04.1 LTS) / x86_64  OK  OK  OK 
W
ABCDEFGHIJKLMNOPQRSTUVWXYZ
Package 387/398HostnameOS / ArchINSTALLBUILDCHECK
waveTilingData 1.26.0
Kristof De Beuf
Last Commit: 4b0dba0
Last Changed Date: 2020-10-27 09:55:49 -0500
malbec1 Linux (Ubuntu 18.04.4 LTS) / x86_64  OK  OK  WARNINGS UNNEEDED, same version exists in internal repository
nebbiolo1 Linux (Ubuntu 20.04.1 LTS) / x86_64  OK  OK  WARNINGS 
Package 388/398HostnameOS / ArchINSTALLBUILDCHECK
WES.1KG.WUGSC 1.22.0
Yuchao Jiang
Last Commit: f341ebe
Last Changed Date: 2020-10-27 10:11:04 -0500
malbec1 Linux (Ubuntu 18.04.4 LTS) / x86_64  OK  OK  OK UNNEEDED, same version exists in internal repository
nebbiolo1 Linux (Ubuntu 20.04.1 LTS) / x86_64  OK  OK  OK 
Package 389/398HostnameOS / ArchINSTALLBUILDCHECK
WGSmapp 1.2.0
Rujin Wang
Last Commit: 51622c7
Last Changed Date: 2020-10-27 10:31:08 -0500
malbec1 Linux (Ubuntu 18.04.4 LTS) / x86_64  OK  OK  OK UNNEEDED, same version exists in internal repository
nebbiolo1 Linux (Ubuntu 20.04.1 LTS) / x86_64  OK  OK  OK 
X
ABCDEFGHIJKLMNOPQRSTUVWXYZ
Package 390/398HostnameOS / ArchINSTALLBUILDCHECK
XhybCasneuf 1.28.0
Tineke Casneuf
Last Commit: db88792
Last Changed Date: 2020-10-27 09:48:27 -0500
malbec1 Linux (Ubuntu 18.04.4 LTS) / x86_64  OK  OK  WARNINGS UNNEEDED, same version exists in internal repository
nebbiolo1 Linux (Ubuntu 20.04.1 LTS) / x86_64  OK  OK  WARNINGS 
Y
ABCDEFGHIJKLMNOPQRSTUVWXYZ
Package 391/398HostnameOS / ArchINSTALLBUILDCHECK
yeastCC 1.30.0
Sandrine Dudoit
Last Commit: a34138a
Last Changed Date: 2020-10-27 09:47:12 -0500
malbec1 Linux (Ubuntu 18.04.4 LTS) / x86_64  OK  OK  WARNINGS UNNEEDED, same version exists in internal repository
nebbiolo1 Linux (Ubuntu 20.04.1 LTS) / x86_64  OK  OK  WARNINGS 
Package 392/398HostnameOS / ArchINSTALLBUILDCHECK
yeastExpData 0.36.0
R. Gentleman
Last Commit: 76d3d55
Last Changed Date: 2020-10-27 09:47:15 -0500
malbec1 Linux (Ubuntu 18.04.4 LTS) / x86_64  OK  OK  WARNINGS UNNEEDED, same version exists in internal repository
nebbiolo1 Linux (Ubuntu 20.04.1 LTS) / x86_64  OK  OK  WARNINGS 
Package 393/398HostnameOS / ArchINSTALLBUILDCHECK
yeastGSData 0.28.0
R. Gentleman
Last Commit: aa208a7
Last Changed Date: 2020-10-27 09:48:41 -0500
malbec1 Linux (Ubuntu 18.04.4 LTS) / x86_64  OK  OK  WARNINGS UNNEEDED, same version exists in internal repository
nebbiolo1 Linux (Ubuntu 20.04.1 LTS) / x86_64  OK  OK  WARNINGS 
Package 394/398HostnameOS / ArchINSTALLBUILDCHECK
yeastNagalakshmi 1.26.0
Bioconductor Package Maintainer
Last Commit: 5f4bcd1
Last Changed Date: 2020-10-27 09:53:36 -0500
malbec1 Linux (Ubuntu 18.04.4 LTS) / x86_64  OK  OK  OK UNNEEDED, same version exists in internal repository
nebbiolo1 Linux (Ubuntu 20.04.1 LTS) / x86_64  OK  OK  OK 
Package 395/398HostnameOS / ArchINSTALLBUILDCHECK
yeastRNASeq 0.28.0
J. Bullard
Last Commit: 2a96d83
Last Changed Date: 2020-10-27 09:51:20 -0500
malbec1 Linux (Ubuntu 18.04.4 LTS) / x86_64  OK  OK  WARNINGS UNNEEDED, same version exists in internal repository
nebbiolo1 Linux (Ubuntu 20.04.1 LTS) / x86_64  OK  OK  WARNINGS 
Package 396/398HostnameOS / ArchINSTALLBUILDCHECK
yri1kgv 0.32.0
VJ Carey
Last Commit: 622195e
Last Changed Date: 2020-10-27 10:07:19 -0500
malbec1 Linux (Ubuntu 18.04.4 LTS) / x86_64  OK  OK  WARNINGS UNNEEDED, same version exists in internal repository
nebbiolo1 Linux (Ubuntu 20.04.1 LTS) / x86_64  OK  OK  WARNINGS 
Package 397/398HostnameOS / ArchINSTALLBUILDCHECK
yriMulti 0.20.0
VJ Carey
Last Commit: 47a6999
Last Changed Date: 2020-10-27 10:15:25 -0500
malbec1 Linux (Ubuntu 18.04.4 LTS) / x86_64  ERROR  ERROR  skipped 
nebbiolo1 Linux (Ubuntu 20.04.1 LTS) / x86_64  ERROR  ERROR  skipped 
Z
ABCDEFGHIJKLMNOPQRSTUVWXYZ
Package 398/398HostnameOS / ArchINSTALLBUILDCHECK
zebrafishRNASeq 1.10.0
Davide Risso
Last Commit: 5f95ce3
Last Changed Date: 2020-10-27 10:09:13 -0500
malbec1 Linux (Ubuntu 18.04.4 LTS) / x86_64  OK  OK  OK UNNEEDED, same version exists in internal repository
nebbiolo1 Linux (Ubuntu 20.04.1 LTS) / x86_64  OK  OK  OK