Back to Build/check report for BioC 3.12 experimental data |
|
This page was generated on 2021-05-06 14:10:05 -0400 (Thu, 06 May 2021).
To the developers/maintainers of the Affymoe4302Expr package: Please make sure to use the following settings in order to reproduce any error or warning you see on this page. |
Package 9/398 | Hostname | OS / Arch | INSTALL | BUILD | CHECK | ||||||||
Affymoe4302Expr 1.28.0 (landing page) Zhicheng Ji
| malbec1 | Linux (Ubuntu 18.04.5 LTS) / x86_64 | OK | OK | OK | ||||||||
Package: Affymoe4302Expr |
Version: 1.28.0 |
Command: /home/biocbuild/bbs-3.12-bioc/R/bin/R CMD build --keep-empty-dirs --no-resave-data Affymoe4302Expr |
StartedAt: 2021-05-06 10:19:21 -0400 (Thu, 06 May 2021) |
EndedAt: 2021-05-06 10:20:00 -0400 (Thu, 06 May 2021) |
EllapsedTime: 38.7 seconds |
RetCode: 0 |
Status: OK |
PackageFile: Affymoe4302Expr_1.28.0.tar.gz |
PackageFileSize: 417.6 MiB |
############################################################################## ############################################################################## ### ### Running command: ### ### /home/biocbuild/bbs-3.12-bioc/R/bin/R CMD build --keep-empty-dirs --no-resave-data Affymoe4302Expr ### ############################################################################## ############################################################################## * checking for file ‘Affymoe4302Expr/DESCRIPTION’ ... OK * preparing ‘Affymoe4302Expr’: * checking DESCRIPTION meta-information ... OK * checking for LF line-endings in source and make files and shell scripts * checking for empty or unneeded directories * looking to see if a ‘data/datalist’ file should be added * building ‘Affymoe4302Expr_1.28.0.tar.gz’