This page was generated on 2021-01-22 16:45:06 -0500 (Fri, 22 Jan 2021).
|
Hostname | OS | Arch (*) | Platform label (**) | R version | Installed pkgs |
---|---|---|---|---|---|
nebbiolo1 | Linux (Ubuntu 20.04.1 LTS) | x86_64 | x86_64-linux-gnu | 4.0.3 (2020-10-10) -- "Bunny-Wunnies Freak Out" | 4018 |
Click on any hostname to see more info about the system (e.g. compilers) (*) as reported by 'uname -p', except on Windows and Mac OS X (**) as reported by 'gcc -v' |
A |
SUMMARY | OS / Arch | INSTALL | BUILD | ||||||||
nebbiolo1 | Linux (Ubuntu 20.04.1 LTS) / x86_64 |
|
| ||||||||
Package | Maintainer | INSTALL | BUILD | ||||||||
1/2 | OSCA 1.0.6 | Aaron Lun | OK | OK | ![]() | ||||||
2/2 | SingleRBook 1.0.0 | Aaron Lun | OK | OK | ![]() |