Long Tests report for BioC 3.12

See here for how to subscribe to these builds.

This page was generated on 2020-11-28 17:30:04 -0500 (Sat, 28 Nov 2020).

Approx. Package Snapshot Date (git pull): 2020-11-28 09:00:03 -0500 (Sat, 28 Nov 2020)

HostnameOSArch (*)Platform label (**)R versionInstalled pkgs
malbec1Linux (Ubuntu 18.04.4 LTS)x86_64x86_64-linux-gnu4.0.3 (2020-10-10) -- "Bunny-Wunnies Freak Out" 4020
nebbiolo1Linux (Ubuntu 20.04.1 LTS)x86_64x86_64-linux-gnu4.0.3 (2020-10-10) -- "Bunny-Wunnies Freak Out" 4012
tokay1Windows Server 2012 R2 Standardx64mingw32 / x86_64-w64-mingw324.0.3 (2020-10-10) -- "Bunny-Wunnies Freak Out" 3797
merida1macOS 10.14.6 Mojavex86_64x86_64-apple-darwin18.7.04.0.3 (2020-10-10) -- "Bunny-Wunnies Freak Out" 3818
Click on any hostname to see more info about the system (e.g. compilers)      (*) as reported by 'uname -p', except on Windows and Mac OS X      (**) as reported by 'gcc -v'

Package status is indicated by one of the following glyphs
 TIMEOUT  CHECK of package took more than 360 minutes Use the check boxes to show only packages with the selected status types.
 ERROR  Bad DESCRIPTION file or CHECK of package produced errors
 WARNINGS  CHECK of package produced warnings
 OK  CHECK of package was OK
 NA  CHECK result is not available because of an anomaly in the Build System
Click on any glyph in the report below to access the detailed results.

SUMMARYOS / ArchCHECK
malbec1 Linux (Ubuntu 18.04.4 LTS) / x86_64 
0225
nebbiolo1 Linux (Ubuntu 20.04.1 LTS) / x86_64 
0225
tokay1 Windows Server 2012 R2 Standard / x64 
0423
merida1 macOS 10.14.6 Mojave / x86_64 
0023
Package 1/9HostnameOS / ArchCHECK
APAlyzer 1.4.0
Ruijia Wang
Last Commit: 4247a57
Last Changed Date: 2020-10-27 11:48:13 -0500
malbec1 Linux (Ubuntu 18.04.4 LTS) / x86_64  OK 
nebbiolo1 Linux (Ubuntu 20.04.1 LTS) / x86_64  OK 
tokay1 Windows Server 2012 R2 Standard / x64  OK 
merida1 macOS 10.14.6 Mojave / x86_64  OK 
Package 2/9HostnameOS / ArchCHECK
beachmat 2.6.2
Aaron Lun
Last Commit: 4954f9e
Last Changed Date: 2020-11-24 01:54:55 -0500
malbec1 Linux (Ubuntu 18.04.4 LTS) / x86_64  OK 
nebbiolo1 Linux (Ubuntu 20.04.1 LTS) / x86_64  OK 
tokay1 Windows Server 2012 R2 Standard / x64  OK 
merida1 macOS 10.14.6 Mojave / x86_64  NA 
Package 3/9HostnameOS / ArchCHECK
cBioPortalData 2.2.4
Marcel Ramos
Last Commit: 3cb3923
Last Changed Date: 2020-11-17 11:13:24 -0500
malbec1 Linux (Ubuntu 18.04.4 LTS) / x86_64  WARNINGS 
nebbiolo1 Linux (Ubuntu 20.04.1 LTS) / x86_64  WARNINGS 
tokay1 Windows Server 2012 R2 Standard / x64  WARNINGS 
merida1 macOS 10.14.6 Mojave / x86_64  WARNINGS 
Package 4/9HostnameOS / ArchCHECK
ChromSCape 1.0.0
Pacome Prompsy
Last Commit: c84df0d
Last Changed Date: 2020-10-27 12:02:02 -0500
malbec1 Linux (Ubuntu 18.04.4 LTS) / x86_64  ERROR 
nebbiolo1 Linux (Ubuntu 20.04.1 LTS) / x86_64  ERROR 
tokay1 Windows Server 2012 R2 Standard / x64  ERROR 
merida1 macOS 10.14.6 Mojave / x86_64  NA 
Package 5/9HostnameOS / ArchCHECK
DropletUtils 1.10.1
Aaron Lun
Last Commit: c75473e
Last Changed Date: 2020-11-20 12:40:39 -0500
malbec1 Linux (Ubuntu 18.04.4 LTS) / x86_64  OK 
nebbiolo1 Linux (Ubuntu 20.04.1 LTS) / x86_64  OK 
tokay1 Windows Server 2012 R2 Standard / x64  ERROR 
merida1 macOS 10.14.6 Mojave / x86_64  OK 
Package 6/9HostnameOS / ArchCHECK
GenomicFeatures 1.42.1
Bioconductor Package Maintainer
Last Commit: 2e82891
Last Changed Date: 2020-11-09 19:03:09 -0500
malbec1 Linux (Ubuntu 18.04.4 LTS) / x86_64  WARNINGS 
nebbiolo1 Linux (Ubuntu 20.04.1 LTS) / x86_64  WARNINGS 
tokay1 Windows Server 2012 R2 Standard / x64  WARNINGS 
merida1 macOS 10.14.6 Mojave / x86_64  WARNINGS 
Package 7/9HostnameOS / ArchCHECK
HDF5Array 1.18.0
Hervé Pagès
Last Commit: d5bd55d
Last Changed Date: 2020-10-27 11:11:49 -0500
malbec1 Linux (Ubuntu 18.04.4 LTS) / x86_64  ERROR 
nebbiolo1 Linux (Ubuntu 20.04.1 LTS) / x86_64  ERROR 
tokay1 Windows Server 2012 R2 Standard / x64  ERROR 
merida1 macOS 10.14.6 Mojave / x86_64  NA 
Package 8/9HostnameOS / ArchCHECK
rhdf5 2.34.0
Mike Smith
Last Commit: ec861b8
Last Changed Date: 2020-10-27 10:44:25 -0500
malbec1 Linux (Ubuntu 18.04.4 LTS) / x86_64  OK 
nebbiolo1 Linux (Ubuntu 20.04.1 LTS) / x86_64  OK 
tokay1 Windows Server 2012 R2 Standard / x64  ERROR 
merida1 macOS 10.14.6 Mojave / x86_64  OK 
Package 9/9HostnameOS / ArchCHECK
xcms 3.12.0
Steffen Neumann
Last Commit: 1518ef3
Last Changed Date: 2020-10-27 10:25:47 -0500
malbec1 Linux (Ubuntu 18.04.4 LTS) / x86_64  OK 
nebbiolo1 Linux (Ubuntu 20.04.1 LTS) / x86_64  OK 
tokay1 Windows Server 2012 R2 Standard / x64  OK 
merida1 macOS 10.14.6 Mojave / x86_64  NA