Back to Multiple platform build/check report for BioC 3.12

More about nebbiolo1

Hostname: nebbiolo1
OS: Linux (Ubuntu 20.04.1 LTS)
Arch: x86_64
Platform: x86_64-linux-gnu
R version: 4.0.2 (2020-06-22) -- "Taking Off Again"
R environment variables: Renviron.bioc

C compiler

R variable (VAR)Value ('R CMD config <VAR>' output)
CCgcc
CFLAGS-g -O2 -Wall
CPICFLAGS-fpic
CPP'config' variable 'CPP' is deprecated
Please refer to 'R CMD config -h' for the meaning of these variables

Compiler version ('gcc --version' output):

gcc (Ubuntu 9.3.0-10ubuntu2) 9.3.0
Copyright (C) 2019 Free Software Foundation, Inc.
This is free software; see the source for copying conditions.  There is NO
warranty; not even for MERCHANTABILITY or FITNESS FOR A PARTICULAR PURPOSE.


C++ compiler

R variable (VAR)Value ('R CMD config <VAR>' output)
CXXg++ -std=gnu++11
CXXFLAGS-g -O2 -Wall
CXXPICFLAGS-fpic
CXXCPP'config' variable 'CXXCPP' is deprecated
Please refer to 'R CMD config -h' for the meaning of these variables

Compiler version ('g++ -std=gnu++11 --version' output):

g++ (Ubuntu 9.3.0-10ubuntu2) 9.3.0
Copyright (C) 2019 Free Software Foundation, Inc.
This is free software; see the source for copying conditions.  There is NO
warranty; not even for MERCHANTABILITY or FITNESS FOR A PARTICULAR PURPOSE.


C++11 compiler

R variable (VAR)Value ('R CMD config <VAR>' output)
CXX11g++
CXX11FLAGS-g -O2 -Wall
CXX11PICFLAGS-fpic
CXX11STD-std=gnu++11
Please refer to 'R CMD config -h' for the meaning of these variables

Compiler version ('g++ --version' output):

g++ (Ubuntu 9.3.0-10ubuntu2) 9.3.0
Copyright (C) 2019 Free Software Foundation, Inc.
This is free software; see the source for copying conditions.  There is NO
warranty; not even for MERCHANTABILITY or FITNESS FOR A PARTICULAR PURPOSE.


C++14 compiler

R variable (VAR)Value ('R CMD config <VAR>' output)
CXX14g++
CXX14FLAGS-g -O2 -Wall
CXX14PICFLAGS-fpic
CXX14STD-std=gnu++14
Please refer to 'R CMD config -h' for the meaning of these variables

Compiler version ('g++ --version' output):

g++ (Ubuntu 9.3.0-10ubuntu2) 9.3.0
Copyright (C) 2019 Free Software Foundation, Inc.
This is free software; see the source for copying conditions.  There is NO
warranty; not even for MERCHANTABILITY or FITNESS FOR A PARTICULAR PURPOSE.


More information might be added in the future...