Back to Multiple platform build/check report for BioC 3.12
AB[C]DEFGHIJKLMNOPQRSTUVWXYZ

BUILD BIN report for categoryCompare on tokay1

This page was generated on 2020-09-27 10:16:41 -0400 (Sun, 27 Sep 2020).

TO THE DEVELOPERS/MAINTAINERS OF THE categoryCompare PACKAGE: Please make sure to use the following settings in order to reproduce any error or warning you see on this page.
Package 231/1923HostnameOS / ArchINSTALLBUILDCHECKBUILD BIN
categoryCompare 1.33.0
Robert M. Flight
Snapshot Date: 2020-09-26 14:42:06 -0400 (Sat, 26 Sep 2020)
URL: https://git.bioconductor.org/packages/categoryCompare
Branch: master
Last Commit: a7d8dcb
Last Changed Date: 2020-04-27 14:29:40 -0400 (Mon, 27 Apr 2020)
malbec1 Linux (Ubuntu 18.04.4 LTS) / x86_64  OK  OK  OK UNNEEDED, same version exists in internal repository
nebbiolo1 Linux (Ubuntu 20.04.1 LTS) / x86_64  OK  OK  OK 
tokay1 Windows Server 2012 R2 Standard / x64  OK  OK  OK [ OK ]UNNEEDED, same version exists in internal repository
riesling1 Windows Server 2019 Standard / x64  OK  OK  OK  OK 
merida1 macOS 10.14.6 Mojave / x86_64  OK  OK  OK  OK UNNEEDED, same version exists in internal repository

Summary

Package: categoryCompare
Version: 1.33.0
Command: rm -rf categoryCompare.buildbin-libdir && mkdir categoryCompare.buildbin-libdir && C:\Users\biocbuild\bbs-3.12-bioc\R\bin\R.exe CMD INSTALL --merge-multiarch --build --library=categoryCompare.buildbin-libdir categoryCompare_1.33.0.tar.gz
StartedAt: 2020-09-27 08:26:36 -0400 (Sun, 27 Sep 2020)
EndedAt: 2020-09-27 08:27:16 -0400 (Sun, 27 Sep 2020)
EllapsedTime: 40.6 seconds
RetCode: 0
Status:  OK  
PackageFile: categoryCompare_1.33.0.zip
PackageFileSize: 2.33 MiB

Command output

##############################################################################
##############################################################################
###
### Running command:
###
###   rm -rf categoryCompare.buildbin-libdir && mkdir categoryCompare.buildbin-libdir && C:\Users\biocbuild\bbs-3.12-bioc\R\bin\R.exe CMD INSTALL --merge-multiarch --build --library=categoryCompare.buildbin-libdir categoryCompare_1.33.0.tar.gz
###
##############################################################################
##############################################################################



install for i386

* installing *source* package 'categoryCompare' ...
** using staged installation
** R
** data
** inst
** byte-compile and prepare package for lazy loading
Note: ... may be used in an incorrect context 
** help
*** installing help indices
  converting help for package 'categoryCompare'
    finding HTML links ... done
    GENccEnrichResult-class                 html  
    finding level-2 HTML links ... done

    HyperGParamsCC-class                    html  
    HyperGResultCC-class                    html  
    breakEdges-methods                      html  
    categoryCompare-package                 html  
    ccCompare                               html  
    ccCompareCollection-class               html  
    ccCompareGeneric-methods                html  
    ccCompareResult-class                   html  
    ccData                                  html  
    ccEnrich                                html  
    ccEnrichCollection-class                html  
    ccEnrichResult-class                    html  
    ccGeneList-class                        html  
    ccOptions-class                         html  
    ccOutCyt-methods                        html  
    ccSigList-class                         html  
    cwReload-methods                        html  
    cytOutData-methods                      html  
    cytOutNodes-methods                     html  
    fdr                                     html  
    getGeneSymbol                           html  
    graphType-methods                       html  
    hyperGTestCC                            html  
    listNames                               html  
    mergeLists-methods                      html  
    mergedData-class                        html  
    minCount                                html  
    minNodes                                html  
    pvalueType                              html  
    resetColors-methods                     html  
    show-methods                            html  
** building package indices
** installing vignettes
** testing if installed package can be loaded from temporary location
** testing if installed package can be loaded from final location
** testing if installed package keeps a record of temporary installation path

install for x64

* installing *source* package 'categoryCompare' ...
** testing if installed package can be loaded
* MD5 sums
packaged installation of 'categoryCompare' as categoryCompare_1.33.0.zip
* DONE (categoryCompare)