Back to Multiple platform build/check report for BioC 3.12
A[B]CDEFGHIJKLMNOPQRSTUVWXYZ

BUILD report for blima on nebbiolo1

This page was generated on 2020-11-27 11:54:35 -0500 (Fri, 27 Nov 2020).

TO THE DEVELOPERS/MAINTAINERS OF THE blima PACKAGE: Please make sure to use the following settings in order to reproduce any error or warning you see on this page.
Package 196/1974HostnameOS / ArchINSTALLBUILDCHECKBUILD BIN
blima 1.24.0
Vojtěch Kulvait
Snapshot Date: 2020-11-26 14:42:42 -0500 (Thu, 26 Nov 2020)
URL: https://git.bioconductor.org/packages/blima
Branch: RELEASE_3_12
Last Commit: 9a0d605
Last Changed Date: 2020-10-27 10:56:49 -0500 (Tue, 27 Oct 2020)
malbec1 Linux (Ubuntu 18.04.4 LTS) / x86_64  OK  OK  WARNINGS UNNEEDED, same version exists in internal repository
nebbiolo1 Linux (Ubuntu 20.04.1 LTS) / x86_64  OK [ OK ] WARNINGS 
tokay1 Windows Server 2012 R2 Standard / x64  OK  OK  WARNINGS  OK UNNEEDED, same version exists in internal repository
merida1 macOS 10.14.6 Mojave / x86_64  OK  OK  WARNINGS  OK UNNEEDED, same version exists in internal repository

Summary

Package: blima
Version: 1.24.0
Command: /home/biocbuild/bbs-3.12-bioc/R/bin/R CMD build --keep-empty-dirs --no-resave-data blima
StartedAt: 2020-11-26 17:38:47 -0500 (Thu, 26 Nov 2020)
EndedAt: 2020-11-26 17:43:49 -0500 (Thu, 26 Nov 2020)
EllapsedTime: 302.0 seconds
RetCode: 0
Status:  OK 
PackageFile: blima_1.24.0.tar.gz
PackageFileSize: 249.5 KiB

Command output

##############################################################################
##############################################################################
###
### Running command:
###
###   /home/biocbuild/bbs-3.12-bioc/R/bin/R CMD build --keep-empty-dirs --no-resave-data blima
###
##############################################################################
##############################################################################


* checking for file ‘blima/DESCRIPTION’ ... OK
* preparing ‘blima’:
* checking DESCRIPTION meta-information ... OK
* cleaning src
* installing the package to process help pages
* saving partial Rd database
* creating vignettes ... OK
* cleaning src
* checking for LF line-endings in source and make files and shell scripts
* checking for empty or unneeded directories
* building ‘blima_1.24.0.tar.gz’