Back to Multiple platform build/check report for BioC 3.12
A[B]CDEFGHIJKLMNOPQRSTUVWXYZ

BUILD report for biovizBase on tokay1

This page was generated on 2020-11-27 11:56:34 -0500 (Fri, 27 Nov 2020).

TO THE DEVELOPERS/MAINTAINERS OF THE biovizBase PACKAGE: Please make sure to use the following settings in order to reproduce any error or warning you see on this page.
Package 190/1974HostnameOS / ArchINSTALLBUILDCHECKBUILD BIN
biovizBase 1.38.0
Michael Lawrence
Snapshot Date: 2020-11-26 14:42:42 -0500 (Thu, 26 Nov 2020)
URL: https://git.bioconductor.org/packages/biovizBase
Branch: RELEASE_3_12
Last Commit: d0f3362
Last Changed Date: 2020-10-27 10:43:03 -0500 (Tue, 27 Oct 2020)
malbec1 Linux (Ubuntu 18.04.4 LTS) / x86_64  OK  OK  WARNINGS UNNEEDED, same version exists in internal repository
nebbiolo1 Linux (Ubuntu 20.04.1 LTS) / x86_64  OK  OK  WARNINGS 
tokay1 Windows Server 2012 R2 Standard / x64  OK [ OK ] WARNINGS  OK UNNEEDED, same version exists in internal repository
merida1 macOS 10.14.6 Mojave / x86_64  OK  OK  WARNINGS  OK UNNEEDED, same version exists in internal repository

Summary

Package: biovizBase
Version: 1.38.0
Command: chmod a+r biovizBase -R && C:\Users\biocbuild\bbs-3.12-bioc\R\bin\R.exe CMD build --keep-empty-dirs --no-resave-data biovizBase
StartedAt: 2020-11-26 19:51:00 -0500 (Thu, 26 Nov 2020)
EndedAt: 2020-11-26 19:52:18 -0500 (Thu, 26 Nov 2020)
EllapsedTime: 78.1 seconds
RetCode: 0
Status:  OK  
PackageFile: biovizBase_1.38.0.tar.gz
PackageFileSize: 2.32 MiB

Command output

##############################################################################
##############################################################################
###
### Running command:
###
###   chmod a+r biovizBase -R && C:\Users\biocbuild\bbs-3.12-bioc\R\bin\R.exe CMD build --keep-empty-dirs --no-resave-data biovizBase
###
##############################################################################
##############################################################################


* checking for file 'biovizBase/DESCRIPTION' ... OK
* preparing 'biovizBase':
* checking DESCRIPTION meta-information ... OK
* cleaning src
* installing the package to build vignettes
* creating vignettes ... OK
* cleaning src
* checking for LF line-endings in source and make files and shell scripts
* checking for empty or unneeded directories
* building 'biovizBase_1.38.0.tar.gz'