Back to Multiple platform build/check report for BioC 3.12
A[B]CDEFGHIJKLMNOPQRSTUVWXYZ

INSTALL report for biosigner on tokay1

This page was generated on 2020-11-26 12:19:24 -0500 (Thu, 26 Nov 2020).

TO THE DEVELOPERS/MAINTAINERS OF THE biosigner PACKAGE: Please make sure to use the following settings in order to reproduce any error or warning you see on this page.
Package 186/1974HostnameOS / ArchINSTALLBUILDCHECKBUILD BIN
biosigner 1.18.2
Philippe Rinaudo , Etienne Thevenot
Snapshot Date: 2020-11-25 14:42:33 -0500 (Wed, 25 Nov 2020)
URL: https://git.bioconductor.org/packages/biosigner
Branch: RELEASE_3_12
Last Commit: 8a38d87
Last Changed Date: 2020-11-21 15:47:20 -0500 (Sat, 21 Nov 2020)
malbec1 Linux (Ubuntu 18.04.4 LTS) / x86_64  OK  OK  OK UNNEEDED, same version exists in internal repository
nebbiolo1 Linux (Ubuntu 20.04.1 LTS) / x86_64  OK  OK  OK 
tokay1 Windows Server 2012 R2 Standard / x64 [ OK ] OK  OK  OK UNNEEDED, same version exists in internal repository
merida1 macOS 10.14.6 Mojave / x86_64  OK  OK  OK  OK UNNEEDED, same version exists in internal repository

Summary

Package: biosigner
Version: 1.18.2
Command: C:\cygwin\bin\curl.exe -O https://malbec1.bioconductor.org/BBS/3.12/bioc/src/contrib/biosigner_1.18.2.tar.gz && rm -rf biosigner.buildbin-libdir && mkdir biosigner.buildbin-libdir && C:\Users\biocbuild\bbs-3.12-bioc\R\bin\R.exe CMD INSTALL --merge-multiarch --build --library=biosigner.buildbin-libdir biosigner_1.18.2.tar.gz && C:\Users\biocbuild\bbs-3.12-bioc\R\bin\R.exe CMD INSTALL biosigner_1.18.2.zip && rm biosigner_1.18.2.tar.gz biosigner_1.18.2.zip
StartedAt: 2020-11-25 18:35:59 -0500 (Wed, 25 Nov 2020)
EndedAt: 2020-11-25 18:36:39 -0500 (Wed, 25 Nov 2020)
EllapsedTime: 40.3 seconds
RetCode: 0
Status:  OK  

Command output

##############################################################################
##############################################################################
###
### Running command:
###
###   C:\cygwin\bin\curl.exe -O https://malbec1.bioconductor.org/BBS/3.12/bioc/src/contrib/biosigner_1.18.2.tar.gz && rm -rf biosigner.buildbin-libdir && mkdir biosigner.buildbin-libdir && C:\Users\biocbuild\bbs-3.12-bioc\R\bin\R.exe CMD INSTALL --merge-multiarch --build --library=biosigner.buildbin-libdir biosigner_1.18.2.tar.gz && C:\Users\biocbuild\bbs-3.12-bioc\R\bin\R.exe CMD INSTALL biosigner_1.18.2.zip && rm biosigner_1.18.2.tar.gz biosigner_1.18.2.zip
###
##############################################################################
##############################################################################


  % Total    % Received % Xferd  Average Speed   Time    Time     Time  Current
                                 Dload  Upload   Total   Spent    Left  Speed

  0     0    0     0    0     0      0      0 --:--:-- --:--:-- --:--:--     0
100 3110k  100 3110k    0     0  30.0M      0 --:--:-- --:--:-- --:--:-- 31.6M

install for i386

* installing *source* package 'biosigner' ...
** using staged installation
** R
** data
** inst
** byte-compile and prepare package for lazy loading
in method for 'biosign' with signature 'x="MultiDataSet"': no definition for class "MultiDataSet"
** help
*** installing help indices
  converting help for package 'biosigner'
    finding HTML links ... done
    biosign-class                           html  
    biosign                                 html  
    biosignMultiDataSet-class               html  
    biosigner-package                       html  
    diaplasma                               html  
    getAccuracyMN                           html  
    getEset                                 html  
    getMset                                 html  
    getSignatureLs                          html  
    plot                                    html  
    predict                                 html  
    show                                    html  
** building package indices
** installing vignettes
** testing if installed package can be loaded from temporary location
** testing if installed package can be loaded from final location
** testing if installed package keeps a record of temporary installation path

install for x64

* installing *source* package 'biosigner' ...
** testing if installed package can be loaded
* MD5 sums
packaged installation of 'biosigner' as biosigner_1.18.2.zip
* DONE (biosigner)
* installing to library 'C:/Users/biocbuild/bbs-3.12-bioc/R/library'
package 'biosigner' successfully unpacked and MD5 sums checked