Back to Multiple platform build/check report for BioC 3.12
A[B]CDEFGHIJKLMNOPQRSTUVWXYZ

BUILD report for biobtreeR on riesling1

This page was generated on 2020-10-28 13:28:00 -0400 (Wed, 28 Oct 2020).

TO THE DEVELOPERS/MAINTAINERS OF THE biobtreeR PACKAGE: Please make sure to use the following settings in order to reproduce any error or warning you see on this page.
Package 154/1974HostnameOS / ArchINSTALLBUILDCHECKBUILD BIN
biobtreeR 1.2.0
Tamer Gur
Snapshot Date: 2020-10-27 13:12:07 -0400 (Tue, 27 Oct 2020)
URL: https://git.bioconductor.org/packages/biobtreeR
Branch: RELEASE_3_12
Last Commit: e217ab5
Last Changed Date: 2020-10-27 11:52:17 -0400 (Tue, 27 Oct 2020)
malbec1 Linux (Ubuntu 18.04.4 LTS) / x86_64  OK  OK  OK YES, new version is higher than in internal repository
nebbiolo1 Linux (Ubuntu 20.04.1 LTS) / x86_64  OK  OK  OK 
tokay1 Windows Server 2012 R2 Standard / x64  OK  OK  OK  OK YES, new version is higher than in internal repository
riesling1 Windows Server 2019 Standard / x64  OK [ OK ] OK  OK 
merida1 macOS 10.14.6 Mojave / x86_64  OK  OK  OK  OK YES, new version is higher than in internal repository

Summary

Package: biobtreeR
Version: 1.2.0
Command: chmod a+r biobtreeR -R && D:\biocbuild\bbs-3.12-bioc\R\bin\R.exe CMD build --keep-empty-dirs --no-resave-data biobtreeR
StartedAt: 2020-10-27 17:56:46 -0400 (Tue, 27 Oct 2020)
EndedAt: 2020-10-27 17:59:25 -0400 (Tue, 27 Oct 2020)
EllapsedTime: 159.2 seconds
RetCode: 0
Status:  OK  
PackageFile: biobtreeR_1.2.0.tar.gz
PackageFileSize: 928.2 KiB

Command output

##############################################################################
##############################################################################
###
### Running command:
###
###   chmod a+r biobtreeR -R && D:\biocbuild\bbs-3.12-bioc\R\bin\R.exe CMD build --keep-empty-dirs --no-resave-data biobtreeR
###
##############################################################################
##############################################################################


* checking for file 'biobtreeR/DESCRIPTION' ... OK
* preparing 'biobtreeR':
* checking DESCRIPTION meta-information ... OK
* installing the package to build vignettes
* creating vignettes ... OK
* checking for LF line-endings in source and make files and shell scripts
* checking for empty or unneeded directories
* building 'biobtreeR_1.2.0.tar.gz'