Back to Multiple platform build/check report for BioC 3.12
A[B]CDEFGHIJKLMNOPQRSTUVWXYZ

BUILD BIN report for biobtreeR on merida1

This page was generated on 2020-11-24 12:00:37 -0500 (Tue, 24 Nov 2020).

TO THE DEVELOPERS/MAINTAINERS OF THE biobtreeR PACKAGE: Please make sure to use the following settings in order to reproduce any error or warning you see on this page.
Package 154/1974HostnameOS / ArchINSTALLBUILDCHECKBUILD BIN
biobtreeR 1.2.0
Tamer Gur
Snapshot Date: 2020-11-23 14:42:42 -0500 (Mon, 23 Nov 2020)
URL: https://git.bioconductor.org/packages/biobtreeR
Branch: RELEASE_3_12
Last Commit: e217ab5
Last Changed Date: 2020-10-27 11:52:17 -0500 (Tue, 27 Oct 2020)
malbec1 Linux (Ubuntu 18.04.4 LTS) / x86_64  OK  OK  OK UNNEEDED, same version exists in internal repository
nebbiolo1 Linux (Ubuntu 20.04.1 LTS) / x86_64  OK  OK  OK 
tokay1 Windows Server 2012 R2 Standard / x64  OK  OK  OK  OK UNNEEDED, same version exists in internal repository
merida1 macOS 10.14.6 Mojave / x86_64  OK  OK  OK [ OK ]UNNEEDED, same version exists in internal repository

Summary

Package: biobtreeR
Version: 1.2.0
Command: rm -rf biobtreeR.buildbin-libdir && mkdir biobtreeR.buildbin-libdir && /Users/biocbuild/BBS/utils/build-universal.sh biobtreeR_1.2.0.tar.gz /Library/Frameworks/R.framework/Versions/Current/Resources/bin/R biobtreeR.buildbin-libdir
StartedAt: 2020-11-24 07:46:14 -0500 (Tue, 24 Nov 2020)
EndedAt: 2020-11-24 07:47:10 -0500 (Tue, 24 Nov 2020)
EllapsedTime: 56.0 seconds
RetCode: 0
Status:  OK 
PackageFile: biobtreeR_1.2.0.tgz
PackageFileSize: 966.2 KiB

Command output

##############################################################################
##############################################################################
###
### Running command:
###
###   rm -rf biobtreeR.buildbin-libdir && mkdir biobtreeR.buildbin-libdir && /Users/biocbuild/BBS/utils/build-universal.sh biobtreeR_1.2.0.tar.gz /Library/Frameworks/R.framework/Versions/Current/Resources/bin/R biobtreeR.buildbin-libdir
###
##############################################################################
##############################################################################


>>>>>>> 
>>>>>>> INSTALLATION WITH 'R CMD INSTALL --preclean --no-multiarch --library=biobtreeR.buildbin-libdir biobtreeR_1.2.0.tar.gz'
>>>>>>> 

* installing *source* package ‘biobtreeR’ ...
** using staged installation
** R
** inst
** byte-compile and prepare package for lazy loading
** help
*** installing help indices
** building package indices
** installing vignettes
** testing if installed package can be loaded from temporary location
** testing if installed package can be loaded from final location
** testing if installed package keeps a record of temporary installation path
* DONE (biobtreeR)