Back to Multiple platform build/check report for BioC 3.12
A[B]CDEFGHIJKLMNOPQRSTUVWXYZ

BUILD BIN report for bioassayR on tokay1

This page was generated on 2020-10-21 12:10:28 -0400 (Wed, 21 Oct 2020).

TO THE DEVELOPERS/MAINTAINERS OF THE bioassayR PACKAGE: Please make sure to use the following settings in order to reproduce any error or warning you see on this page.
Package 146/1939HostnameOS / ArchINSTALLBUILDCHECKBUILD BIN
bioassayR 1.27.0
Tyler Backman
Snapshot Date: 2020-10-20 14:40:34 -0400 (Tue, 20 Oct 2020)
URL: https://git.bioconductor.org/packages/bioassayR
Branch: master
Last Commit: 288a60a
Last Changed Date: 2020-04-27 14:36:43 -0400 (Mon, 27 Apr 2020)
malbec1 Linux (Ubuntu 18.04.4 LTS) / x86_64  OK  OK  OK UNNEEDED, same version exists in internal repository
nebbiolo1 Linux (Ubuntu 20.04.1 LTS) / x86_64  OK  OK  OK 
tokay1 Windows Server 2012 R2 Standard / x64  OK  OK  OK [ OK ]UNNEEDED, same version exists in internal repository
riesling1 Windows Server 2019 Standard / x64  OK  OK  OK  OK 
merida1 macOS 10.14.6 Mojave / x86_64  OK  OK  OK  OK UNNEEDED, same version exists in internal repository

Summary

Package: bioassayR
Version: 1.27.0
Command: rm -rf bioassayR.buildbin-libdir && mkdir bioassayR.buildbin-libdir && C:\Users\biocbuild\bbs-3.12-bioc\R\bin\R.exe CMD INSTALL --merge-multiarch --build --library=bioassayR.buildbin-libdir bioassayR_1.27.0.tar.gz
StartedAt: 2020-10-21 08:43:08 -0400 (Wed, 21 Oct 2020)
EndedAt: 2020-10-21 08:44:33 -0400 (Wed, 21 Oct 2020)
EllapsedTime: 85.3 seconds
RetCode: 0
Status:  OK  
PackageFile: bioassayR_1.27.0.zip
PackageFileSize: 954.6 KiB

Command output

##############################################################################
##############################################################################
###
### Running command:
###
###   rm -rf bioassayR.buildbin-libdir && mkdir bioassayR.buildbin-libdir && C:\Users\biocbuild\bbs-3.12-bioc\R\bin\R.exe CMD INSTALL --merge-multiarch --build --library=bioassayR.buildbin-libdir bioassayR_1.27.0.tar.gz
###
##############################################################################
##############################################################################



install for i386

* installing *source* package 'bioassayR' ...
** using staged installation
** R
** data
** inst
** byte-compile and prepare package for lazy loading
Creating a new generic function for 'organism' in package 'bioassayR'
Creating a new generic function for 'organism<-' in package 'bioassayR'
** help
*** installing help indices
  converting help for package 'bioassayR'
    finding HTML links ... done
    BioAssayDB-class                        html  
    activeAgainst                           html  
    activeTargets                           html  
    addBioassayIndex                        html  
    addDataSource                           html  
    allCids                                 html  
    allTargets                              html  
    assaySetTargets                         html  
    bioactivityFingerprint                  html  
    bioassay-class                          html  
    bioassaySet-class                       html  
    connectBioassayDB                       html  
    crossReactivityProbability              html  
    disconnectBioassayDB                    html  
    dropBioassay                            html  
    dropBioassayIndex                       html  
    getAssay                                html  
    getAssays                               html  
    getBioassaySetByCids                    html  
    inactiveTargets                         html  
    loadBioassay                            html  
    loadIdMapping                           html  
    newBioassayDB                           html  
    parsePubChemBioassay                    html  
    perTargetMatrix                         html  
    queryBioassayDB                         html  
    samplebioassay                          html  
    scaleBioassaySet                        html  
    screenedAtLeast                         html  
    selectiveAgainst                        html  
    targetSelectivity                       html  
    translateTargetId                       html  
    trinarySimilarity                       html  
** building package indices
** installing vignettes
** testing if installed package can be loaded from temporary location
** testing if installed package can be loaded from final location
** testing if installed package keeps a record of temporary installation path

install for x64

* installing *source* package 'bioassayR' ...
** testing if installed package can be loaded
* MD5 sums
packaged installation of 'bioassayR' as bioassayR_1.27.0.zip
* DONE (bioassayR)