Back to Multiple platform build/check report for BioC 3.12
A[B]CDEFGHIJKLMNOPQRSTUVWXYZ

BUILD report for bioassayR on nebbiolo1

This page was generated on 2020-10-21 12:08:06 -0400 (Wed, 21 Oct 2020).

TO THE DEVELOPERS/MAINTAINERS OF THE bioassayR PACKAGE: Please make sure to use the following settings in order to reproduce any error or warning you see on this page.
Package 146/1939HostnameOS / ArchINSTALLBUILDCHECKBUILD BIN
bioassayR 1.27.0
Tyler Backman
Snapshot Date: 2020-10-20 14:40:34 -0400 (Tue, 20 Oct 2020)
URL: https://git.bioconductor.org/packages/bioassayR
Branch: master
Last Commit: 288a60a
Last Changed Date: 2020-04-27 14:36:43 -0400 (Mon, 27 Apr 2020)
malbec1 Linux (Ubuntu 18.04.4 LTS) / x86_64  OK  OK  OK UNNEEDED, same version exists in internal repository
nebbiolo1 Linux (Ubuntu 20.04.1 LTS) / x86_64  OK [ OK ] OK 
tokay1 Windows Server 2012 R2 Standard / x64  OK  OK  OK  OK UNNEEDED, same version exists in internal repository
riesling1 Windows Server 2019 Standard / x64  OK  OK  OK  OK 
merida1 macOS 10.14.6 Mojave / x86_64  OK  OK  OK  OK UNNEEDED, same version exists in internal repository

Summary

Package: bioassayR
Version: 1.27.0
Command: /home/biocbuild/bbs-3.12-bioc/R/bin/R CMD build --keep-empty-dirs --no-resave-data bioassayR
StartedAt: 2020-10-20 17:39:08 -0400 (Tue, 20 Oct 2020)
EndedAt: 2020-10-20 17:40:54 -0400 (Tue, 20 Oct 2020)
EllapsedTime: 105.9 seconds
RetCode: 0
Status:  OK 
PackageFile: bioassayR_1.27.0.tar.gz
PackageFileSize: 4.42 MiB

Command output

##############################################################################
##############################################################################
###
### Running command:
###
###   /home/biocbuild/bbs-3.12-bioc/R/bin/R CMD build --keep-empty-dirs --no-resave-data bioassayR
###
##############################################################################
##############################################################################


* checking for file ‘bioassayR/DESCRIPTION’ ... OK
* preparing ‘bioassayR’:
* checking DESCRIPTION meta-information ... OK
* installing the package to build vignettes
* creating vignettes ... OK
* checking for LF line-endings in source and make files and shell scripts
* checking for empty or unneeded directories
* looking to see if a ‘data/datalist’ file should be added
  NB: this package now depends on R (>= 3.5.0)
  WARNING: Added dependency on R >= 3.5.0 because serialized objects in  serialize/load version 3 cannot be read in older versions of R.  File(s) containing such objects:  ‘bioassayR/vignettes/bioassayR_cache/html/sessionInfo_273e4c2448b7370f4cf8f5dcf4db6ca3.RData’  WARNING: Added dependency on R >= 3.5.0 because serialized objects in  serialize/load version 3 cannot be read in older versions of R.  File(s) containing such objects:  ‘bioassayR/vignettes/bioassayR_cache/html/sessionInfo_273e4c2448b7370f4cf8f5dcf4db6ca3.rdx’  WARNING: Added dependency on R >= 3.5.0 because serialized objects in  serialize/load version 3 cannot be read in older versions of R.  File(s) containing such objects:  ‘bioassayR/vignettes/bioassayR_cache/html/setup_f0cedd29bbace9dc8a95e4e42f1abcbe.RData’  WARNING: Added dependency on R >= 3.5.0 because serialized objects in  serialize/load version 3 cannot be read in older versions of R.  File(s) containing such objects:  ‘bioassayR/vignettes/bioassayR_cache/html/setup_f0cedd29bbace9dc8a95e4e42f1abcbe.rdx’  WARNING: Added dependency on R >= 3.5.0 because serialized objects in  serialize/load version 3 cannot be read in older versions of R.  File(s) containing such objects:  ‘bioassayR/vignettes/bioassayR_cache/html/unnamed-chunk-10_22d5f7f06deef090457654ea6070d200.RData’  WARNING: Added dependency on R >= 3.5.0 because serialized objects in  serialize/load version 3 cannot be read in older versions of R.  File(s) containing such objects:  ‘bioassayR/vignettes/bioassayR_cache/html/unnamed-chunk-10_22d5f7f06deef090457654ea6070d200.rdx’  WARNING: Added dependency on R >= 3.5.0 because serialized objects in  serialize/load version 3 cannot be read in older versions of R.  File(s) containing such objects:  ‘bioassayR/vignettes/bioassayR_cache/html/unnamed-chunk-11_f3e14389a9208dcfe8862224968a4902.RData’  WARNING: Added dependency on R >= 3.5.0 because serialized objects in  serialize/load version 3 cannot be read in older versions of R.  File(s) containing such objects:  ‘bioassayR/vignettes/bioassayR_cache/html/unnamed-chunk-11_f3e14389a9208dcfe8862224968a4902.rdx’  WARNING: Added dependency on R >= 3.5.0 because serialized objects in  serialize/load version 3 cannot be read in older versions of R.  File(s) containing such objects:  ‘bioassayR/vignettes/bioassayR_cache/html/unnamed-chunk-12_6f4990900e6a8648ca1f6fb3aab4b34e.RData’  WARNING: Added dependency on R >= 3.5.0 because serialized objects in  serialize/load version 3 cannot be read in older versions of R.  File(s) containing such objects:  ‘bioassayR/vignettes/bioassayR_cache/html/unnamed-chunk-12_6f4990900e6a8648ca1f6fb3aab4b34e.rdx’  WARNING: Added dependency on R >= 3.5.0 because serialized objects in  serialize/load version 3 cannot be read in older versions of R.  File(s) containing such objects:  ‘bioassayR/vignettes/bioassayR_cache/html/unnamed-chunk-13_0a8b9ad01870d3b762860861537a3cb7.RData’  WARNING: Added dependency on R >= 3.5.0 because serialized objects in  serialize/load version 3 cannot be read in older versions of R.  File(s) containing such objects:  ‘bioassayR/vignettes/bioassayR_cache/html/unnamed-chunk-13_0a8b9ad01870d3b762860861537a3cb7.rdx’  WARNING: Added dependency on R >= 3.5.0 because serialized objects in  serialize/load version 3 cannot be read in older versions of R.  File(s) containing such objects:  ‘bioassayR/vignettes/bioassayR_cache/html/unnamed-chunk-14_de4484961a3523e677c0f75f34bf735e.RData’  WARNING: Added dependency on R >= 3.5.0 because serialized objects in  serialize/load version 3 cannot be read in older versions of R.  File(s) containing such objects:  ‘bioassayR/vignettes/bioassayR_cache/html/unnamed-chunk-14_de4484961a3523e677c0f75f34bf735e.rdx’  WARNING: Added dependency on R >= 3.5.0 because serialized objects in  serialize/load version 3 cannot be read in older versions of R.  File(s) containing such objects:  ‘bioassayR/vignettes/bioassayR_cache/html/unnamed-chunk-15_32bf115dc690c0b68f1e994c259825bf.RData’  WARNING: Added dependency on R >= 3.5.0 because serialized objects in  serialize/load version 3 cannot be read in older versions of R.  File(s) containing such objects:  ‘bioassayR/vignettes/bioassayR_cache/html/unnamed-chunk-15_32bf115dc690c0b68f1e994c259825bf.rdx’  WARNING: Added dependency on R >= 3.5.0 because serialized objects in  serialize/load version 3 cannot be read in older versions of R.  File(s) containing such objects:  ‘bioassayR/vignettes/bioassayR_cache/html/unnamed-chunk-16_176f2fea2706c523287ca79446c94244.RData’  WARNING: Added dependency on R >= 3.5.0 because serialized objects in  serialize/load version 3 cannot be read in older versions of R.  File(s) containing such objects:  ‘bioassayR/vignettes/bioassayR_cache/html/unnamed-chunk-16_176f2fea2706c523287ca79446c94244.rdx’  WARNING: Added dependency on R >= 3.5.0 because serialized objects in  serialize/load version 3 cannot be read in older versions of R.  File(s) containing such objects:  ‘bioassayR/vignettes/bioassayR_cache/html/unnamed-chunk-17_534ec2db35e9604fcae044ecd8a3ff79.RData’  WARNING: Added dependency on R >= 3.5.0 because serialized objects in  serialize/load version 3 cannot be read in older versions of R.  File(s) containing such objects:  ‘bioassayR/vignettes/bioassayR_cache/html/unnamed-chunk-17_534ec2db35e9604fcae044ecd8a3ff79.rdx’  WARNING: Added dependency on R >= 3.5.0 because serialized objects in  serialize/load version 3 cannot be read in older versions of R.  File(s) containing such objects:  ‘bioassayR/vignettes/bioassayR_cache/html/unnamed-chunk-18_35f1d652ab43632e1bb5e7e9c13173d8.RData’  WARNING: Added dependency on R >= 3.5.0 because serialized objects in  serialize/load version 3 cannot be read in older versions of R.  File(s) containing such objects:  ‘bioassayR/vignettes/bioassayR_cache/html/unnamed-chunk-18_35f1d652ab43632e1bb5e7e9c13173d8.rdx’  WARNING: Added dependency on R >= 3.5.0 because serialized objects in  serialize/load version 3 cannot be read in older versions of R.  File(s) containing such objects:  ‘bioassayR/vignettes/bioassayR_cache/html/unnamed-chunk-19_e56e8ebd17bc7a5b2ad32caa51b63388.RData’  WARNING: Added dependency on R >= 3.5.0 because serialized objects in  serialize/load version 3 cannot be read in older versions of R.  File(s) containing such objects:  ‘bioassayR/vignettes/bioassayR_cache/html/unnamed-chunk-19_e56e8ebd17bc7a5b2ad32caa51b63388.rdx’  WARNING: Added dependency on R >= 3.5.0 because serialized objects in  serialize/load version 3 cannot be read in older versions of R.  File(s) containing such objects:  ‘bioassayR/vignettes/bioassayR_cache/html/unnamed-chunk-1_c427d0f96090d9900ac5539c52d2e2fe.RData’  WARNING: Added dependency on R >= 3.5.0 because serialized objects in  serialize/load version 3 cannot be read in older versions of R.  File(s) containing such objects:  ‘bioassayR/vignettes/bioassayR_cache/html/unnamed-chunk-1_c427d0f96090d9900ac5539c52d2e2fe.rdx’  WARNING: Added dependency on R >= 3.5.0 because serialized objects in  serialize/load version 3 cannot be read in older versions of R.  File(s) containing such objects:  ‘bioassayR/vignettes/bioassayR_cache/html/unnamed-chunk-20_0d13c19aecb45b141ad2ec4e7244aba4.RData’  WARNING: Added dependency on R >= 3.5.0 because serialized objects in  serialize/load version 3 cannot be read in older versions of R.  File(s) containing such objects:  ‘bioassayR/vignettes/bioassayR_cache/html/unnamed-chunk-20_0d13c19aecb45b141ad2ec4e7244aba4.rdx’  WARNING: Added dependency on R >= 3.5.0 because serialized objects in  serialize/load version 3 cannot be read in older versions of R.  File(s) containing such objects:  ‘bioassayR/vignettes/bioassayR_cache/html/unnamed-chunk-21_e2d4a04afb73ef45808d4671760f0ee3.RData’  WARNING: Added dependency on R >= 3.5.0 because serialized objects in  serialize/load version 3 cannot be read in older versions of R.  File(s) containing such objects:  ‘bioassayR/vignettes/bioassayR_cache/html/unnamed-chunk-21_e2d4a04afb73ef45808d4671760f0ee3.rdx’  WARNING: Added dependency on R >= 3.5.0 because serialized objects in  serialize/load version 3 cannot be read in older versions of R.  File(s) containing such objects:  ‘bioassayR/vignettes/bioassayR_cache/html/unnamed-chunk-22_64cc88c44532bd42b5a9068b3a1049ab.RData’  WARNING: Added dependency on R >= 3.5.0 because serialized objects in  serialize/load version 3 cannot be read in older versions of R.  File(s) containing such objects:  ‘bioassayR/vignettes/bioassayR_cache/html/unnamed-chunk-22_64cc88c44532bd42b5a9068b3a1049ab.rdx’  WARNING: Added dependency on R >= 3.5.0 because serialized objects in  serialize/load version 3 cannot be read in older versions of R.  File(s) containing such objects:  ‘bioassayR/vignettes/bioassayR_cache/html/unnamed-chunk-23_4f2b782b336de42d91593d889587cdb1.RData’  WARNING: Added dependency on R >= 3.5.0 because serialized objects in  serialize/load version 3 cannot be read in older versions of R.  File(s) containing such objects:  ‘bioassayR/vignettes/bioassayR_cache/html/unnamed-chunk-23_4f2b782b336de42d91593d889587cdb1.rdx’  WARNING: Added dependency on R >= 3.5.0 because serialized objects in  serialize/load version 3 cannot be read in older versions of R.  File(s) containing such objects:  ‘bioassayR/vignettes/bioassayR_cache/html/unnamed-chunk-24_e2404ef4ad59307707233cf769797dd0.RData’  WARNING: Added dependency on R >= 3.5.0 because serialized objects in  serialize/load version 3 cannot be read in older versions of R.  File(s) containing such objects:  ‘bioassayR/vignettes/bioassayR_cache/html/unnamed-chunk-24_e2404ef4ad59307707233cf769797dd0.rdx’  WARNING: Added dependency on R >= 3.5.0 because serialized objects in  serialize/load version 3 cannot be read in older versions of R.  File(s) containing such objects:  ‘bioassayR/vignettes/bioassayR_cache/html/unnamed-chunk-25_bd6036941d831ced84c4609daa9e88ea.RData’  WARNING: Added dependency on R >= 3.5.0 because serialized objects in  serialize/load version 3 cannot be read in older versions of R.  File(s) containing such objects:  ‘bioassayR/vignettes/bioassayR_cache/html/unnamed-chunk-25_bd6036941d831ced84c4609daa9e88ea.rdx’  WARNING: Added dependency on R >= 3.5.0 because serialized objects in  serialize/load version 3 cannot be read in older versions of R.  File(s) containing such objects:  ‘bioassayR/vignettes/bioassayR_cache/html/unnamed-chunk-26_cc1e96273aebc5114a2c0d525690f8ac.RData’  WARNING: Added dependency on R >= 3.5.0 because serialized objects in  serialize/load version 3 cannot be read in older versions of R.  File(s) containing such objects:  ‘bioassayR/vignettes/bioassayR_cache/html/unnamed-chunk-26_cc1e96273aebc5114a2c0d525690f8ac.rdx’  WARNING: Added dependency on R >= 3.5.0 because serialized objects in  serialize/load version 3 cannot be read in older versions of R.  File(s) containing such objects:  ‘bioassayR/vignettes/bioassayR_cache/html/unnamed-chunk-27_f8371a1dd72beece8a539315b164b914.RData’  WARNING: Added dependency on R >= 3.5.0 because serialized objects in  serialize/load version 3 cannot be read in older versions of R.  File(s) containing such objects:  ‘bioassayR/vignettes/bioassayR_cache/html/unnamed-chunk-27_f8371a1dd72beece8a539315b164b914.rdx’  WARNING: Added dependency on R >= 3.5.0 because serialized objects in  serialize/load version 3 cannot be read in older versions of R.  File(s) containing such objects:  ‘bioassayR/vignettes/bioassayR_cache/html/unnamed-chunk-28_c4eb67c905cf163418968248d762259d.RData’  WARNING: Added dependency on R >= 3.5.0 because serialized objects in  serialize/load version 3 cannot be read in older versions of R.  File(s) containing such objects:  ‘bioassayR/vignettes/bioassayR_cache/html/unnamed-chunk-28_c4eb67c905cf163418968248d762259d.rdx’  WARNING: Added dependency on R >= 3.5.0 because serialized objects in  serialize/load version 3 cannot be read in older versions of R.  File(s) containing such objects:  ‘bioassayR/vignettes/bioassayR_cache/html/unnamed-chunk-29_aa6aadc779a8f1dbf7ce68ae947c831d.RData’  WARNING: Added dependency on R >= 3.5.0 because serialized objects in  serialize/load version 3 cannot be read in older versions of R.  File(s) containing such objects:  ‘bioassayR/vignettes/bioassayR_cache/html/unnamed-chunk-29_aa6aadc779a8f1dbf7ce68ae947c831d.rdx’  WARNING: Added dependency on R >= 3.5.0 because serialized objects in  serialize/load version 3 cannot be read in older versions of R.  File(s) containing such objects:  ‘bioassayR/vignettes/bioassayR_cache/html/unnamed-chunk-2_e626914175665eb7b082aa6691b3990e.RData’  WARNING: Added dependency on R >= 3.5.0 because serialized objects in  serialize/load version 3 cannot be read in older versions of R.  File(s) containing such objects:  ‘bioassayR/vignettes/bioassayR_cache/html/unnamed-chunk-2_e626914175665eb7b082aa6691b3990e.rdx’  WARNING: Added dependency on R >= 3.5.0 because serialized objects in  serialize/load version 3 cannot be read in older versions of R.  File(s) containing such objects:  ‘bioassayR/vignettes/bioassayR_cache/html/unnamed-chunk-30_63563432cf39edc2cf3ab783c9094a79.RData’  WARNING: Added dependency on R >= 3.5.0 because serialized objects in  serialize/load version 3 cannot be read in older versions of R.  File(s) containing such objects:  ‘bioassayR/vignettes/bioassayR_cache/html/unnamed-chunk-30_63563432cf39edc2cf3ab783c9094a79.rdx’  WARNING: Added dependency on R >= 3.5.0 because serialized objects in  serialize/load version 3 cannot be read in older versions of R.  File(s) containing such objects:  ‘bioassayR/vignettes/bioassayR_cache/html/unnamed-chunk-31_8a909c0fa6f8d68a65176b47c8a9356d.RData’  WARNING: Added dependency on R >= 3.5.0 because serialized objects in  serialize/load version 3 cannot be read in older versions of R.  File(s) containing such objects:  ‘bioassayR/vignettes/bioassayR_cache/html/unnamed-chunk-31_8a909c0fa6f8d68a65176b47c8a9356d.rdx’  WARNING: Added dependency on R >= 3.5.0 because serialized objects in  serialize/load version 3 cannot be read in older versions of R.  File(s) containing such objects:  ‘bioassayR/vignettes/bioassayR_cache/html/unnamed-chunk-32_5006677b8e986e0a1116261af262fa11.RData’  WARNING: Added dependency on R >= 3.5.0 because serialized objects in  serialize/load version 3 cannot be read in older versions of R.  File(s) containing such objects:  ‘bioassayR/vignettes/bioassayR_cache/html/unnamed-chunk-32_5006677b8e986e0a1116261af262fa11.rdx’  WARNING: Added dependency on R >= 3.5.0 because serialized objects in  serialize/load version 3 cannot be read in older versions of R.  File(s) containing such objects:  ‘bioassayR/vignettes/bioassayR_cache/html/unnamed-chunk-33_40b1631eeb7add8e821db2298dfbdd2e.RData’  WARNING: Added dependency on R >= 3.5.0 because serialized objects in  serialize/load version 3 cannot be read in older versions of R.  File(s) containing such objects:  ‘bioassayR/vignettes/bioassayR_cache/html/unnamed-chunk-33_40b1631eeb7add8e821db2298dfbdd2e.rdx’  WARNING: Added dependency on R >= 3.5.0 because serialized objects in  serialize/load version 3 cannot be read in older versions of R.  File(s) containing such objects:  ‘bioassayR/vignettes/bioassayR_cache/html/unnamed-chunk-34_2dc538d5ef256ff729c7c585f4ffe00f.RData’  WARNING: Added dependency on R >= 3.5.0 because serialized objects in  serialize/load version 3 cannot be read in older versions of R.  File(s) containing such objects:  ‘bioassayR/vignettes/bioassayR_cache/html/unnamed-chunk-34_2dc538d5ef256ff729c7c585f4ffe00f.rdx’  WARNING: Added dependency on R >= 3.5.0 because serialized objects in  serialize/load version 3 cannot be read in older versions of R.  File(s) containing such objects:  ‘bioassayR/vignettes/bioassayR_cache/html/unnamed-chunk-35_7f6a4e519573889df498630249773178.RData’  WARNING: Added dependency on R >= 3.5.0 because serialized objects in  serialize/load version 3 cannot be read in older versions of R.  File(s) containing such objects:  ‘bioassayR/vignettes/bioassayR_cache/html/unnamed-chunk-35_7f6a4e519573889df498630249773178.rdx’  WARNING: Added dependency on R >= 3.5.0 because serialized objects in  serialize/load version 3 cannot be read in older versions of R.  File(s) containing such objects:  ‘bioassayR/vignettes/bioassayR_cache/html/unnamed-chunk-36_eb5fbe3afc8d621692f4336788fdce64.RData’  WARNING: Added dependency on R >= 3.5.0 because serialized objects in  serialize/load version 3 cannot be read in older versions of R.  File(s) containing such objects:  ‘bioassayR/vignettes/bioassayR_cache/html/unnamed-chunk-36_eb5fbe3afc8d621692f4336788fdce64.rdx’  WARNING: Added dependency on R >= 3.5.0 because serialized objects in  serialize/load version 3 cannot be read in older versions of R.  File(s) containing such objects:  ‘bioassayR/vignettes/bioassayR_cache/html/unnamed-chunk-37_d052a2a9e163839a54cca4b1da688d6e.RData’  WARNING: Added dependency on R >= 3.5.0 because serialized objects in  serialize/load version 3 cannot be read in older versions of R.  File(s) containing such objects:  ‘bioassayR/vignettes/bioassayR_cache/html/unnamed-chunk-37_d052a2a9e163839a54cca4b1da688d6e.rdx’  WARNING: Added dependency on R >= 3.5.0 because serialized objects in  serialize/load version 3 cannot be read in older versions of R.  File(s) containing such objects:  ‘bioassayR/vignettes/bioassayR_cache/html/unnamed-chunk-38_449a7949715b5587973bcb50f1fcf7cc.RData’  WARNING: Added dependency on R >= 3.5.0 because serialized objects in  serialize/load version 3 cannot be read in older versions of R.  File(s) containing such objects:  ‘bioassayR/vignettes/bioassayR_cache/html/unnamed-chunk-38_449a7949715b5587973bcb50f1fcf7cc.rdx’  WARNING: Added dependency on R >= 3.5.0 because serialized objects in  serialize/load version 3 cannot be read in older versions of R.  File(s) containing such objects:  ‘bioassayR/vignettes/bioassayR_cache/html/unnamed-chunk-39_4c0b8a3e67446bdd9bbbcacd9a1589be.RData’  WARNING: Added dependency on R >= 3.5.0 because serialized objects in  serialize/load version 3 cannot be read in older versions of R.  File(s) containing such objects:  ‘bioassayR/vignettes/bioassayR_cache/html/unnamed-chunk-39_4c0b8a3e67446bdd9bbbcacd9a1589be.rdx’  WARNING: Added dependency on R >= 3.5.0 because serialized objects in  serialize/load version 3 cannot be read in older versions of R.  File(s) containing such objects:  ‘bioassayR/vignettes/bioassayR_cache/html/unnamed-chunk-3_49aa5477d028ea41ac54ddb946bda2cd.RData’  WARNING: Added dependency on R >= 3.5.0 because serialized objects in  serialize/load version 3 cannot be read in older versions of R.  File(s) containing such objects:  ‘bioassayR/vignettes/bioassayR_cache/html/unnamed-chunk-3_49aa5477d028ea41ac54ddb946bda2cd.rdx’  WARNING: Added dependency on R >= 3.5.0 because serialized objects in  serialize/load version 3 cannot be read in older versions of R.  File(s) containing such objects:  ‘bioassayR/vignettes/bioassayR_cache/html/unnamed-chunk-40_a662c5f5a05a8b467e0af28338b15a17.RData’  WARNING: Added dependency on R >= 3.5.0 because serialized objects in  serialize/load version 3 cannot be read in older versions of R.  File(s) containing such objects:  ‘bioassayR/vignettes/bioassayR_cache/html/unnamed-chunk-40_a662c5f5a05a8b467e0af28338b15a17.rdx’  WARNING: Added dependency on R >= 3.5.0 because serialized objects in  serialize/load version 3 cannot be read in older versions of R.  File(s) containing such objects:  ‘bioassayR/vignettes/bioassayR_cache/html/unnamed-chunk-41_7df7df9a25e8acaca86937f5faf01755.RData’  WARNING: Added dependency on R >= 3.5.0 because serialized objects in  serialize/load version 3 cannot be read in older versions of R.  File(s) containing such objects:  ‘bioassayR/vignettes/bioassayR_cache/html/unnamed-chunk-41_7df7df9a25e8acaca86937f5faf01755.rdx’  WARNING: Added dependency on R >= 3.5.0 because serialized objects in  serialize/load version 3 cannot be read in older versions of R.  File(s) containing such objects:  ‘bioassayR/vignettes/bioassayR_cache/html/unnamed-chunk-42_85fe3bc0f5fd500eda103dfca87f4bb2.RData’  WARNING: Added dependency on R >= 3.5.0 because serialized objects in  serialize/load version 3 cannot be read in older versions of R.  File(s) containing such objects:  ‘bioassayR/vignettes/bioassayR_cache/html/unnamed-chunk-42_85fe3bc0f5fd500eda103dfca87f4bb2.rdx’  WARNING: Added dependency on R >= 3.5.0 because serialized objects in  serialize/load version 3 cannot be read in older versions of R.  File(s) containing such objects:  ‘bioassayR/vignettes/bioassayR_cache/html/unnamed-chunk-43_799854f31e10e45d3321fe31d4af85ea.RData’  WARNING: Added dependency on R >= 3.5.0 because serialized objects in  serialize/load version 3 cannot be read in older versions of R.  File(s) containing such objects:  ‘bioassayR/vignettes/bioassayR_cache/html/unnamed-chunk-43_799854f31e10e45d3321fe31d4af85ea.rdx’  WARNING: Added dependency on R >= 3.5.0 because serialized objects in  serialize/load version 3 cannot be read in older versions of R.  File(s) containing such objects:  ‘bioassayR/vignettes/bioassayR_cache/html/unnamed-chunk-44_e44ec710b4e1cd5c878bf480f1ecb703.RData’  WARNING: Added dependency on R >= 3.5.0 because serialized objects in  serialize/load version 3 cannot be read in older versions of R.  File(s) containing such objects:  ‘bioassayR/vignettes/bioassayR_cache/html/unnamed-chunk-44_e44ec710b4e1cd5c878bf480f1ecb703.rdx’  WARNING: Added dependency on R >= 3.5.0 because serialized objects in  serialize/load version 3 cannot be read in older versions of R.  File(s) containing such objects:  ‘bioassayR/vignettes/bioassayR_cache/html/unnamed-chunk-45_c82dad664b5783fad1fcb8a3a0c726a4.RData’  WARNING: Added dependency on R >= 3.5.0 because serialized objects in  serialize/load version 3 cannot be read in older versions of R.  File(s) containing such objects:  ‘bioassayR/vignettes/bioassayR_cache/html/unnamed-chunk-45_c82dad664b5783fad1fcb8a3a0c726a4.rdx’  WARNING: Added dependency on R >= 3.5.0 because serialized objects in  serialize/load version 3 cannot be read in older versions of R.  File(s) containing such objects:  ‘bioassayR/vignettes/bioassayR_cache/html/unnamed-chunk-46_0487b4e216e962a8ef3bc0e9a7c861d9.RData’  WARNING: Added dependency on R >= 3.5.0 because serialized objects in  serialize/load version 3 cannot be read in older versions of R.  File(s) containing such objects:  ‘bioassayR/vignettes/bioassayR_cache/html/unnamed-chunk-46_0487b4e216e962a8ef3bc0e9a7c861d9.rdx’  WARNING: Added dependency on R >= 3.5.0 because serialized objects in  serialize/load version 3 cannot be read in older versions of R.  File(s) containing such objects:  ‘bioassayR/vignettes/bioassayR_cache/html/unnamed-chunk-47_797c17dbfdae507f93e92ae6875a5569.RData’  WARNING: Added dependency on R >= 3.5.0 because serialized objects in  serialize/load version 3 cannot be read in older versions of R.  File(s) containing such objects:  ‘bioassayR/vignettes/bioassayR_cache/html/unnamed-chunk-47_797c17dbfdae507f93e92ae6875a5569.rdx’  WARNING: Added dependency on R >= 3.5.0 because serialized objects in  serialize/load version 3 cannot be read in older versions of R.  File(s) containing such objects:  ‘bioassayR/vignettes/bioassayR_cache/html/unnamed-chunk-48_7e74fd3e42b53559190c48eb318bfa29.RData’  WARNING: Added dependency on R >= 3.5.0 because serialized objects in  serialize/load version 3 cannot be read in older versions of R.  File(s) containing such objects:  ‘bioassayR/vignettes/bioassayR_cache/html/unnamed-chunk-48_7e74fd3e42b53559190c48eb318bfa29.rdx’  WARNING: Added dependency on R >= 3.5.0 because serialized objects in  serialize/load version 3 cannot be read in older versions of R.  File(s) containing such objects:  ‘bioassayR/vignettes/bioassayR_cache/html/unnamed-chunk-49_ffc43793ecece679acb64ce728350cd3.RData’  WARNING: Added dependency on R >= 3.5.0 because serialized objects in  serialize/load version 3 cannot be read in older versions of R.  File(s) containing such objects:  ‘bioassayR/vignettes/bioassayR_cache/html/unnamed-chunk-49_ffc43793ecece679acb64ce728350cd3.rdx’  WARNING: Added dependency on R >= 3.5.0 because serialized objects in  serialize/load version 3 cannot be read in older versions of R.  File(s) containing such objects:  ‘bioassayR/vignettes/bioassayR_cache/html/unnamed-chunk-4_47fd346b014c9454f714ccc866c7ebe7.RData’  WARNING: Added dependency on R >= 3.5.0 because serialized objects in  serialize/load version 3 cannot be read in older versions of R.  File(s) containing such objects:  ‘bioassayR/vignettes/bioassayR_cache/html/unnamed-chunk-4_47fd346b014c9454f714ccc866c7ebe7.rdx’  WARNING: Added dependency on R >= 3.5.0 because serialized objects in  serialize/load version 3 cannot be read in older versions of R.  File(s) containing such objects:  ‘bioassayR/vignettes/bioassayR_cache/html/unnamed-chunk-50_d39c3c0f9a9a605bdb34662f29d09413.RData’  WARNING: Added dependency on R >= 3.5.0 because serialized objects in  serialize/load version 3 cannot be read in older versions of R.  File(s) containing such objects:  ‘bioassayR/vignettes/bioassayR_cache/html/unnamed-chunk-50_d39c3c0f9a9a605bdb34662f29d09413.rdx’  WARNING: Added dependency on R >= 3.5.0 because serialized objects in  serialize/load version 3 cannot be read in older versions of R.  File(s) containing such objects:  ‘bioassayR/vignettes/bioassayR_cache/html/unnamed-chunk-51_661f7dcf5b2120778c0bb6094abce0a7.RData’  WARNING: Added dependency on R >= 3.5.0 because serialized objects in  serialize/load version 3 cannot be read in older versions of R.  File(s) containing such objects:  ‘bioassayR/vignettes/bioassayR_cache/html/unnamed-chunk-51_661f7dcf5b2120778c0bb6094abce0a7.rdx’  WARNING: Added dependency on R >= 3.5.0 because serialized objects in  serialize/load version 3 cannot be read in older versions of R.  File(s) containing such objects:  ‘bioassayR/vignettes/bioassayR_cache/html/unnamed-chunk-52_ec7e650d60d0efffcf825ece8d965051.RData’  WARNING: Added dependency on R >= 3.5.0 because serialized objects in  serialize/load version 3 cannot be read in older versions of R.  File(s) containing such objects:  ‘bioassayR/vignettes/bioassayR_cache/html/unnamed-chunk-52_ec7e650d60d0efffcf825ece8d965051.rdx’  WARNING: Added dependency on R >= 3.5.0 because serialized objects in  serialize/load version 3 cannot be read in older versions of R.  File(s) containing such objects:  ‘bioassayR/vignettes/bioassayR_cache/html/unnamed-chunk-53_9895930f142f1a8b2451b7c0a3cbc1c9.RData’  WARNING: Added dependency on R >= 3.5.0 because serialized objects in  serialize/load version 3 cannot be read in older versions of R.  File(s) containing such objects:  ‘bioassayR/vignettes/bioassayR_cache/html/unnamed-chunk-53_9895930f142f1a8b2451b7c0a3cbc1c9.rdx’  WARNING: Added dependency on R >= 3.5.0 because serialized objects in  serialize/load version 3 cannot be read in older versions of R.  File(s) containing such objects:  ‘bioassayR/vignettes/bioassayR_cache/html/unnamed-chunk-54_2722687ee9bf821a18c34cab46f21650.RData’  WARNING: Added dependency on R >= 3.5.0 because serialized objects in  serialize/load version 3 cannot be read in older versions of R.  File(s) containing such objects:  ‘bioassayR/vignettes/bioassayR_cache/html/unnamed-chunk-54_2722687ee9bf821a18c34cab46f21650.rdx’  WARNING: Added dependency on R >= 3.5.0 because serialized objects in  serialize/load version 3 cannot be read in older versions of R.  File(s) containing such objects:  ‘bioassayR/vignettes/bioassayR_cache/html/unnamed-chunk-55_237884917407ef0c16389032cfbac616.RData’  WARNING: Added dependency on R >= 3.5.0 because serialized objects in  serialize/load version 3 cannot be read in older versions of R.  File(s) containing such objects:  ‘bioassayR/vignettes/bioassayR_cache/html/unnamed-chunk-55_237884917407ef0c16389032cfbac616.rdx’  WARNING: Added dependency on R >= 3.5.0 because serialized objects in  serialize/load version 3 cannot be read in older versions of R.  File(s) containing such objects:  ‘bioassayR/vignettes/bioassayR_cache/html/unnamed-chunk-56_b101ff373fe30a0d966771b2eb2eda73.RData’  WARNING: Added dependency on R >= 3.5.0 because serialized objects in  serialize/load version 3 cannot be read in older versions of R.  File(s) containing such objects:  ‘bioassayR/vignettes/bioassayR_cache/html/unnamed-chunk-56_b101ff373fe30a0d966771b2eb2eda73.rdx’  WARNING: Added dependency on R >= 3.5.0 because serialized objects in  serialize/load version 3 cannot be read in older versions of R.  File(s) containing such objects:  ‘bioassayR/vignettes/bioassayR_cache/html/unnamed-chunk-57_cdbbf3ca8d36edbe22d94ee9558525c2.RData’  WARNING: Added dependency on R >= 3.5.0 because serialized objects in  serialize/load version 3 cannot be read in older versions of R.  File(s) containing such objects:  ‘bioassayR/vignettes/bioassayR_cache/html/unnamed-chunk-57_cdbbf3ca8d36edbe22d94ee9558525c2.rdx’  WARNING: Added dependency on R >= 3.5.0 because serialized objects in  serialize/load version 3 cannot be read in older versions of R.  File(s) containing such objects:  ‘bioassayR/vignettes/bioassayR_cache/html/unnamed-chunk-58_98472b4c9d1161dd105bf4978ce31def.RData’  WARNING: Added dependency on R >= 3.5.0 because serialized objects in  serialize/load version 3 cannot be read in older versions of R.  File(s) containing such objects:  ‘bioassayR/vignettes/bioassayR_cache/html/unnamed-chunk-58_98472b4c9d1161dd105bf4978ce31def.rdx’  WARNING: Added dependency on R >= 3.5.0 because serialized objects in  serialize/load version 3 cannot be read in older versions of R.  File(s) containing such objects:  ‘bioassayR/vignettes/bioassayR_cache/html/unnamed-chunk-59_689104bfc81409c3488f23ce0dcd0503.RData’  WARNING: Added dependency on R >= 3.5.0 because serialized objects in  serialize/load version 3 cannot be read in older versions of R.  File(s) containing such objects:  ‘bioassayR/vignettes/bioassayR_cache/html/unnamed-chunk-59_689104bfc81409c3488f23ce0dcd0503.rdx’  WARNING: Added dependency on R >= 3.5.0 because serialized objects in  serialize/load version 3 cannot be read in older versions of R.  File(s) containing such objects:  ‘bioassayR/vignettes/bioassayR_cache/html/unnamed-chunk-5_56a515a5cad428a8ae26855439f5fd49.RData’  WARNING: Added dependency on R >= 3.5.0 because serialized objects in  serialize/load version 3 cannot be read in older versions of R.  File(s) containing such objects:  ‘bioassayR/vignettes/bioassayR_cache/html/unnamed-chunk-5_56a515a5cad428a8ae26855439f5fd49.rdx’  WARNING: Added dependency on R >= 3.5.0 because serialized objects in  serialize/load version 3 cannot be read in older versions of R.  File(s) containing such objects:  ‘bioassayR/vignettes/bioassayR_cache/html/unnamed-chunk-60_5f2dd8d8dd92c8b7638a3f6cb4cd518a.RData’  WARNING: Added dependency on R >= 3.5.0 because serialized objects in  serialize/load version 3 cannot be read in older versions of R.  File(s) containing such objects:  ‘bioassayR/vignettes/bioassayR_cache/html/unnamed-chunk-60_5f2dd8d8dd92c8b7638a3f6cb4cd518a.rdx’  WARNING: Added dependency on R >= 3.5.0 because serialized objects in  serialize/load version 3 cannot be read in older versions of R.  File(s) containing such objects:  ‘bioassayR/vignettes/bioassayR_cache/html/unnamed-chunk-61_1be49b5f05ca38910dd8adaeadacabb1.RData’  WARNING: Added dependency on R >= 3.5.0 because serialized objects in  serialize/load version 3 cannot be read in older versions of R.  File(s) containing such objects:  ‘bioassayR/vignettes/bioassayR_cache/html/unnamed-chunk-61_1be49b5f05ca38910dd8adaeadacabb1.rdx’  WARNING: Added dependency on R >= 3.5.0 because serialized objects in  serialize/load version 3 cannot be read in older versions of R.  File(s) containing such objects:  ‘bioassayR/vignettes/bioassayR_cache/html/unnamed-chunk-62_227d023729bb7ac5b450fc5460cb7a74.RData’  WARNING: Added dependency on R >= 3.5.0 because serialized objects in  serialize/load version 3 cannot be read in older versions of R.  File(s) containing such objects:  ‘bioassayR/vignettes/bioassayR_cache/html/unnamed-chunk-62_227d023729bb7ac5b450fc5460cb7a74.rdx’  WARNING: Added dependency on R >= 3.5.0 because serialized objects in  serialize/load version 3 cannot be read in older versions of R.  File(s) containing such objects:  ‘bioassayR/vignettes/bioassayR_cache/html/unnamed-chunk-63_1f198c651516f8f750e100dd21784e82.RData’  WARNING: Added dependency on R >= 3.5.0 because serialized objects in  serialize/load version 3 cannot be read in older versions of R.  File(s) containing such objects:  ‘bioassayR/vignettes/bioassayR_cache/html/unnamed-chunk-63_1f198c651516f8f750e100dd21784e82.rdx’  WARNING: Added dependency on R >= 3.5.0 because serialized objects in  serialize/load version 3 cannot be read in older versions of R.  File(s) containing such objects:  ‘bioassayR/vignettes/bioassayR_cache/html/unnamed-chunk-64_17419d41225d7aab849ddb191ecd414e.RData’  WARNING: Added dependency on R >= 3.5.0 because serialized objects in  serialize/load version 3 cannot be read in older versions of R.  File(s) containing such objects:  ‘bioassayR/vignettes/bioassayR_cache/html/unnamed-chunk-64_17419d41225d7aab849ddb191ecd414e.rdx’  WARNING: Added dependency on R >= 3.5.0 because serialized objects in  serialize/load version 3 cannot be read in older versions of R.  File(s) containing such objects:  ‘bioassayR/vignettes/bioassayR_cache/html/unnamed-chunk-65_4b1b0316e994f96a82c7f412d5c63958.RData’  WARNING: Added dependency on R >= 3.5.0 because serialized objects in  serialize/load version 3 cannot be read in older versions of R.  File(s) containing such objects:  ‘bioassayR/vignettes/bioassayR_cache/html/unnamed-chunk-65_4b1b0316e994f96a82c7f412d5c63958.rdx’  WARNING: Added dependency on R >= 3.5.0 because serialized objects in  serialize/load version 3 cannot be read in older versions of R.  File(s) containing such objects:  ‘bioassayR/vignettes/bioassayR_cache/html/unnamed-chunk-66_43e84b319c6a28f2779ae63f36487985.RData’  WARNING: Added dependency on R >= 3.5.0 because serialized objects in  serialize/load version 3 cannot be read in older versions of R.  File(s) containing such objects:  ‘bioassayR/vignettes/bioassayR_cache/html/unnamed-chunk-66_43e84b319c6a28f2779ae63f36487985.rdx’  WARNING: Added dependency on R >= 3.5.0 because serialized objects in  serialize/load version 3 cannot be read in older versions of R.  File(s) containing such objects:  ‘bioassayR/vignettes/bioassayR_cache/html/unnamed-chunk-67_3609f9fab2e54b1bca05d9260b297489.RData’  WARNING: Added dependency on R >= 3.5.0 because serialized objects in  serialize/load version 3 cannot be read in older versions of R.  File(s) containing such objects:  ‘bioassayR/vignettes/bioassayR_cache/html/unnamed-chunk-67_3609f9fab2e54b1bca05d9260b297489.rdx’  WARNING: Added dependency on R >= 3.5.0 because serialized objects in  serialize/load version 3 cannot be read in older versions of R.  File(s) containing such objects:  ‘bioassayR/vignettes/bioassayR_cache/html/unnamed-chunk-68_b8dd822e846e3702c299461199b30140.RData’  WARNING: Added dependency on R >= 3.5.0 because serialized objects in  serialize/load version 3 cannot be read in older versions of R.  File(s) containing such objects:  ‘bioassayR/vignettes/bioassayR_cache/html/unnamed-chunk-68_b8dd822e846e3702c299461199b30140.rdx’  WARNING: Added dependency on R >= 3.5.0 because serialized objects in  serialize/load version 3 cannot be read in older versions of R.  File(s) containing such objects:  ‘bioassayR/vignettes/bioassayR_cache/html/unnamed-chunk-6_4f3249223c9e16ea3cf30b43c65166b4.RData’  WARNING: Added dependency on R >= 3.5.0 because serialized objects in  serialize/load version 3 cannot be read in older versions of R.  File(s) containing such objects:  ‘bioassayR/vignettes/bioassayR_cache/html/unnamed-chunk-6_4f3249223c9e16ea3cf30b43c65166b4.rdx’  WARNING: Added dependency on R >= 3.5.0 because serialized objects in  serialize/load version 3 cannot be read in older versions of R.  File(s) containing such objects:  ‘bioassayR/vignettes/bioassayR_cache/html/unnamed-chunk-7_293d0db37b3934f4b097a5307e3f4a66.RData’  WARNING: Added dependency on R >= 3.5.0 because serialized objects in  serialize/load version 3 cannot be read in older versions of R.  File(s) containing such objects:  ‘bioassayR/vignettes/bioassayR_cache/html/unnamed-chunk-7_293d0db37b3934f4b097a5307e3f4a66.rdx’  WARNING: Added dependency on R >= 3.5.0 because serialized objects in  serialize/load version 3 cannot be read in older versions of R.  File(s) containing such objects:  ‘bioassayR/vignettes/bioassayR_cache/html/unnamed-chunk-8_30436077b5146a8b401942fb2b04fc8e.RData’  WARNING: Added dependency on R >= 3.5.0 because serialized objects in  serialize/load version 3 cannot be read in older versions of R.  File(s) containing such objects:  ‘bioassayR/vignettes/bioassayR_cache/html/unnamed-chunk-8_30436077b5146a8b401942fb2b04fc8e.rdx’  WARNING: Added dependency on R >= 3.5.0 because serialized objects in  serialize/load version 3 cannot be read in older versions of R.  File(s) containing such objects:  ‘bioassayR/vignettes/bioassayR_cache/html/unnamed-chunk-9_c00987ae9c8cd94bb275455d96454149.RData’  WARNING: Added dependency on R >= 3.5.0 because serialized objects in  serialize/load version 3 cannot be read in older versions of R.  File(s) containing such objects:  ‘bioassayR/vignettes/bioassayR_cache/html/unnamed-chunk-9_c00987ae9c8cd94bb275455d96454149.rdx’
* building ‘bioassayR_1.27.0.tar.gz’