Back to Multiple platform build/check report for BioC 3.12
A[B]CDEFGHIJKLMNOPQRSTUVWXYZ

INSTALL report for bioassayR on merida1

This page was generated on 2020-10-21 12:17:42 -0400 (Wed, 21 Oct 2020).

TO THE DEVELOPERS/MAINTAINERS OF THE bioassayR PACKAGE: Please make sure to use the following settings in order to reproduce any error or warning you see on this page.
Package 146/1939HostnameOS / ArchINSTALLBUILDCHECKBUILD BIN
bioassayR 1.27.0
Tyler Backman
Snapshot Date: 2020-10-20 14:40:34 -0400 (Tue, 20 Oct 2020)
URL: https://git.bioconductor.org/packages/bioassayR
Branch: master
Last Commit: 288a60a
Last Changed Date: 2020-04-27 14:36:43 -0400 (Mon, 27 Apr 2020)
malbec1 Linux (Ubuntu 18.04.4 LTS) / x86_64  OK  OK  OK UNNEEDED, same version exists in internal repository
nebbiolo1 Linux (Ubuntu 20.04.1 LTS) / x86_64  OK  OK  OK 
tokay1 Windows Server 2012 R2 Standard / x64  OK  OK  OK  OK UNNEEDED, same version exists in internal repository
riesling1 Windows Server 2019 Standard / x64  OK  OK  OK  OK 
merida1 macOS 10.14.6 Mojave / x86_64 [ OK ] OK  OK  OK UNNEEDED, same version exists in internal repository

Summary

Package: bioassayR
Version: 1.27.0
Command: /Library/Frameworks/R.framework/Versions/Current/Resources/bin/R CMD INSTALL bioassayR
StartedAt: 2020-10-20 16:49:30 -0400 (Tue, 20 Oct 2020)
EndedAt: 2020-10-20 16:50:08 -0400 (Tue, 20 Oct 2020)
EllapsedTime: 37.8 seconds
RetCode: 0
Status:  OK 

Command output

##############################################################################
##############################################################################
###
### Running command:
###
###   /Library/Frameworks/R.framework/Versions/Current/Resources/bin/R CMD INSTALL bioassayR
###
##############################################################################
##############################################################################


* installing to library ‘/Library/Frameworks/R.framework/Versions/4.0/Resources/library’
* installing *source* package ‘bioassayR’ ...
** using staged installation
** R
** data
** inst
** byte-compile and prepare package for lazy loading
Creating a new generic function for ‘organism’ in package ‘bioassayR’
Creating a new generic function for ‘organism<-’ in package ‘bioassayR’
** help
*** installing help indices
** building package indices
** installing vignettes
** testing if installed package can be loaded from temporary location
** testing if installed package can be loaded from final location
** testing if installed package keeps a record of temporary installation path
* DONE (bioassayR)