Back to Multiple platform build/check report for BioC 3.12
A[B]CDEFGHIJKLMNOPQRSTUVWXYZ

BUILD report for bigmelon on nebbiolo1

This page was generated on 2020-11-27 11:54:33 -0500 (Fri, 27 Nov 2020).

TO THE DEVELOPERS/MAINTAINERS OF THE bigmelon PACKAGE: Please make sure to use the following settings in order to reproduce any error or warning you see on this page.
Package 148/1974HostnameOS / ArchINSTALLBUILDCHECKBUILD BIN
bigmelon 1.16.0
Tyler J. Gorrie-Stone
Snapshot Date: 2020-11-26 14:42:42 -0500 (Thu, 26 Nov 2020)
URL: https://git.bioconductor.org/packages/bigmelon
Branch: RELEASE_3_12
Last Commit: e87386b
Last Changed Date: 2020-10-27 11:17:49 -0500 (Tue, 27 Oct 2020)
malbec1 Linux (Ubuntu 18.04.4 LTS) / x86_64  OK  OK  OK UNNEEDED, same version exists in internal repository
nebbiolo1 Linux (Ubuntu 20.04.1 LTS) / x86_64  OK [ OK ] OK 
tokay1 Windows Server 2012 R2 Standard / x64  OK  OK  OK  OK UNNEEDED, same version exists in internal repository
merida1 macOS 10.14.6 Mojave / x86_64  OK  OK  OK  OK UNNEEDED, same version exists in internal repository

Summary

Package: bigmelon
Version: 1.16.0
Command: /home/biocbuild/bbs-3.12-bioc/R/bin/R CMD build --keep-empty-dirs --no-resave-data bigmelon
StartedAt: 2020-11-26 17:35:38 -0500 (Thu, 26 Nov 2020)
EndedAt: 2020-11-26 17:37:20 -0500 (Thu, 26 Nov 2020)
EllapsedTime: 102.1 seconds
RetCode: 0
Status:  OK 
PackageFile: bigmelon_1.16.0.tar.gz
PackageFileSize: 887.7 KiB

Command output

##############################################################################
##############################################################################
###
### Running command:
###
###   /home/biocbuild/bbs-3.12-bioc/R/bin/R CMD build --keep-empty-dirs --no-resave-data bigmelon
###
##############################################################################
##############################################################################


* checking for file ‘bigmelon/DESCRIPTION’ ... OK
* preparing ‘bigmelon’:
* checking DESCRIPTION meta-information ... OK
* installing the package to build vignettes
* creating vignettes ... OK
* checking for LF line-endings in source and make files and shell scripts
* checking for empty or unneeded directories
* looking to see if a ‘data/datalist’ file should be added
* building ‘bigmelon_1.16.0.tar.gz’